Workbook
Name County: 'Income Limits'!$B$3:$B$402
Name Date: 'Project Information'!$E$5
Name Effective_Date: 'USDA Income Limits'!$C$3:$C$30
Name Effective_Date_Year: 'USDA Income Limits'!$B$3:$B$30
Name IncomeLimits: 'Income Limits'!$C$2:$AZ$402
Name USDA_2021_Income_Limits: 'USDA Income Limits'!$F$3:$I$366
Name USDA_2022_Income_Limits: 'USDA Income Limits'!$J$3:$M$366
Name USDA_2023_Income_Limits: 'USDA Income Limits'!$N$3:$Q$366
Name USDA_2024_Income_Limits: 'USDA Income Limits'!$R$3:$U$366
Name USDA_2025_Income_Limits: 'USDA Income Limits'!$V$3:$Y$366
Name USDA_Counties: 'USDA Income Limits'!$E$3:$E$366
Name Year: 'Income Limits'!$C$2:$AZ$2

Sheet Revisions
A1: Date | B1: Tab | C1: Update/Issue | D1: Explanation
A2: 2016 | B2: Sources of Funds | C2: Conditional Formatting and Data Validation to limit AHP Subsidy to $500,000 | D2: 2016 Implementation Plan reduced maximum subsidy from $750,000 to $500,000
B3: Development Budget | C3: Changed "Permanent Loan Origination Fee" to "Permanent Loan Fees" | D3: This field is used to determine if loan fees on the development budget are consistent with the sources of funds. Changing the name should decrease the likelihood of loan fees being listed elsewhere.
B4: Development Budget | C4: Added conditional formatting to flag land improvement costs if New Construction and Land Improvement subtotal is $0. | D4: Makes the workbook more user friendly and assists with cost reasonableness review.
B5: Development Budget | C5: Removed the conditional formatting to make the Non-Residential column inaccessible if Non-Residential costs are not supported by bids. | D5: There are instances where a pro ration is not applicable, and the applicant would need the ability to override the non-residential costs.
B6: Feasibility Analysis Worksheet | C6: Updated the formula in cell B9 to eliminate the #NUM error. | D6: Makes the workbook more accurate.
B7: Feasibility Analysis Worksheet | C7: Added rows in the "Issues" table to indicate what tab the following issues pertain to. | D7: This update makes the workbook more user friendly and helps the user more easily identify what is causing the issue.
B8: Feasibility Analysis Worksheet | C8: Removed the "Staff Review" column | D8: The reviews are completed and approved electronically for all steps of the Project's lifecycle so it is no longer necessary.
B9: Feasibility Analysis Worksheet | C9: Updated the loan interest rate guidelines. | D9: Received email 2/26/16 from Bobbi Shinn with the CHP rates effective on that day.
B10: Fee Analysis Worksheet | C10: Conditional Formatting to identify Contractor Fees above Guideline | D10: Developer Fee above guideline is identified by red. This will be consistent.
B11: Fee Analysis Worksheet | C11: Updated calculations for each state that changed guidelines from previous year. | D11: The AHP guidelines are based on the state's current QAP.
B12: Fee Analysis Worksheet | C12: Updated Calculations for each state to remove non-residential costs from calculation | D12: Eligible basis is reduced by the non-residential costs so the developer fee should only look at residential costs.
B13: Fee Analysis Worksheet | C13: Added rows in the developer fee section for maximum dollar amount of developer fees and allowed a comparison of consultant fees. | D13: The Kansas QAP has a dollar amount per unit allowance this year, and the FW did not previously calculate that. Kansas also has a separate allowance for consultant fees so the worksheet now calculates that separately.
B14: New Construction Site Work | C14: Added a table to capture site costs and compare it to the development budget. | D14: Assists with the cost reasonableness review.
... B24: Rental Project Worksheet | C24: Updated formulas and name ranges to incorporate 2016 income limits. | D24: 2016 Income Limits became available 3/28/2016.
A25: 2017 | B25: Sources of Funds | C25: Removed "Term" from Construction Sources | D25: The term of the construction financing is variable, and can change due to changes to the construction timeline.
B26: Sources of Funds | C26: Added column to select the source type | D26: The automated system requires this information.
B27: Project Information | C27: Added a question about number of months to lease up. | D27: Absorption Rate is used in the automated system.
B28: Development Budget | C28: Changed the name and/or location of costs. Added some new costs. | D28: Made the costs more consistent with the other FHLBs with the automated system. Included costs that several applicants wrote in as other (ie Marketing).
B29: Project Characteristics | C29: Added questions to the top of the worksheet. | D29: Questions are necessary for upload for the automated system.
B30: RBA Data | C30: Reflected changes made to workbook. | D30: Will be used to input data into the RBA and changes were made to the workbook, requiring changes.
B31: Sources of Funds | C31: Updated maximum AHP Subsidy allowed to $750,000 | D31: The maximum guideline changed from 2016
B32: Income Limits | C32: Added 2017 Income Limits in column AD. | D32: 2017 Income Limits became available 4/14/2017.
B33: Rental Project Worksheet | C33: Updated formulas and name ranges to incorporate 2017 income limits. | D33: 2017 Income Limits became available 4/14/2017.
B34: Project Information | C34: Added item to determine if project is occupied | D34: Occupied projects need to fill out RPR, and are prompted to do so. A link to the AHP forms website is also added.
B35: Fee Analysis Worksheet | C35: Updated calculations for each state that changed guidelines from previous year. | D35: The AHP guidelines are based on the state's current QAP.
B36: Feasibility Analysis Worksheet | C36: Updated the loan interest rate guidelines. | D36: Received email 4/19/2017 from Bobbi Shinn with the CHP rates effective on that day.
B37: Sources of Funds | C37: Conditional Formatting and Data Validation to limit AHP Subsidy to $750,000 | D37: 2017 Implementation Plan increased maximum subsidy from $500,000 to $750,000
A38: 2018 | B38: Fee Analysis Worksheet | C38: Removed Ineligible Legal Fees from Developer Fee calculation. | D38: The ineligible legal fees were inadvertently included in the calculation.
B39: Fee Analysis Worksheet | C39: Removed Accessory Structure from hard cost calculation. | D39: Accessory Structure is no longer a line item in the development budget.
B40: Feasibility Analysis Worksheet | C40: Updated the interest rate guidelines. | D40: CHP Rates as of 4/24/2018.
B41: Sources of Funds | C41: Conditional Formatting and Data Validation to limit AHP Subsidy per Unit to $40,000. | D41: 2018 Implementation Plan increased maximum subsidy from $30,000 to $40,000
B42: Sources of Funds | C42: Updated the total annual debt service to only include P&I and Interest Only payments. | D42: Deferred and cash flow payments should not be included in the annual debt service total.
B43: New Construction Site Work | C43: Changed the tab name to Site Work Cost | D43: The previous name implied that rehab projects do not need to complete, which is inaccurate.
B44: Download | C44: Updated the description codes for non-residential sources | D44: AHP Online had an error during the 2017 round, and CEI determined if the description codes were updated, the error would not reoccur in future rounds.
B45: Download | C45: Updated the round and version numbers | D45: Annual updates to work in AHP Online.
B46: Housing Pro Forma | C46: Updated the formula for Deferred Developer Repay to reduce the Secondary Cash Flow payment amount. | D46: The previous version allowed cash flow to be negative because the Deferred Developer Repay calculation did not reduce by the Secondary Cash Flow payment amount.
B47: Income Limits | C47: Added 2018 Income Limits in column AE. | D47: 2018 Income Limits became available 4/1/2018.
B48: Income Limits | C48: Added Dallas County, TX | D48: 2017 project was awarded from Dallas Co, TX
B49: Rental Project Worksheet | C49: Updated formulas and name ranges to incorporate 2018 income limits. | D49: 2018 Income Limits became available 4/1/2018.
...

Sheet Download
A1: fundsSources[0].description | B1: ='Sources of Funds Worksheet'!A13 -> Deferred Developer Fee | D1: Housing | E1: unmerged the cell
A2: fundsSources[0].descriptionCode.code | B2: ='Sources of Funds Worksheet'!S13 -> 19 | D2: Housing | E2: Topeka doesn't have this field
A3: fundsSources[0].amount | B3: ='Sources of Funds Worksheet'!D13 -> 0 | D3: Housing
A4: fundsSources[0].rate | B4: ='Sources of Funds Worksheet'!E13 -> 0 | D4: Housing
A5: fundsSources[0].term | B5: ='Sources of Funds Worksheet'!U13 -> 0 | D5: Housing | E5: month vs years
A6: fundsSources[0].isApproved | B6: ='Sources of Funds Worksheet'!T13 -> N | D6: Housing
A7: fundsSources[0].housingCommercial | B7: Housing | D7: Housing | E7: Hard coded???
A8: fundsSources[0].amortPeriod | B8: ='Sources of Funds Worksheet'!V13 -> 0 | D8: Housing | E8: months vs years
A9: fundsSources[0].annualDebtSvc | B9: ='Sources of Funds Worksheet'!K13 | D9: Housing
A10: fundsSources[0].hardDebt | B10: ='Sources of Funds Worksheet'!P13 | D10: Housing
A11: fundsSources[0].rownum | B11: 1 | F11: numeric field
A12: fundsSources[1].description | B12: ='Sources of Funds Worksheet'!A11 -> LIHTC | D12: Housing
A13: fundsSources[1].descriptionCode.code | B13: ='Sources of Funds Worksheet'!S11 -> 4 | D13: Housing | E13: Topeka doesn't have this field
A14: fundsSources[1].amount | B14: ='Sources of Funds Worksheet'!D11 -> 0 | D14: Housing
A15: fundsSources[1].rate | B15: ='Sources of Funds Worksheet'!E11 -> 0 | D15: Housing
A16: fundsSources[1].term | B16: ='Sources of Funds Worksheet'!U11 -> 0 | D16: Housing
A17: fundsSources[1].isApproved | B17: ='Sources of Funds Worksheet'!T11 -> N | D17: Housing
A18: fundsSources[1].housingCommercial | B18: Housing | D18: Housing | E18: Hard coded???
A19: fundsSources[1].amortPeriod | B19: ='Sources of Funds Worksheet'!V11 -> 0 | D19: Housing
A20: fundsSources[1].annualDebtSvc | B20: ='Sources of Funds Worksheet'!K11 | D20: Housing
A21: fundsSources[1].hardDebt | B21: ='Sources of Funds Worksheet'!P11 | D21: Housing
A22: fundsSources[1].rownum | B22: 2 | F22: numeric field
A23: fundsSources[2].description | B23: ='Sources of Funds Worksheet'!A10 -> Permanent Loan | D23: Housing
A24: fundsSources[2].descriptionCode.code | B24: ='Sources of Funds Worksheet'!S10 -> 2 | D24: Housing | E24: Topeka doesn't have this field
A25: fundsSources[2].amount | B25: ='Sources of Funds Worksheet'!D10 -> 0 | D25: Housing
A26: fundsSources[2].rate | B26: ='Sources of Funds Worksheet'!E10 -> 0 | D26: Housing
A27: fundsSources[2].term | B27: ='Sources of Funds Worksheet'!U10 -> 0 | D27: Housing
A28: fundsSources[2].isApproved | B28: ='Sources of Funds Worksheet'!T10 -> N | D28: Housing
A29: fundsSources[2].housingCommercial | B29: Housing | D29: Housing | E29: Hard coded???
A30: fundsSources[2].amortPeriod | B30: ='Sources of Funds Worksheet'!V10 -> 0 | D30: Housing
A31: fundsSources[2].annualDebtSvc | B31: ='Sources of Funds Worksheet'!K10 | D31: Housing
A32: fundsSources[2].hardDebt | B32: ='Sources of Funds Worksheet'!P10 | D32: Housing
A33: fundsSources[2].rownum | B33: 3 | F33: numeric field
A34: fundsSources[3].description | B34: ='Sources of Funds Worksheet'!A14 -> HOME | D34: Housing
A35: fundsSources[3].descriptionCode.code | B35: ='Sources of Funds Worksheet'!S14 -> 8 | D35: Housing | E35: Topeka doesn't have this field
A36: fundsSources[3].amount | B36: ='Sources of Funds Worksheet'!D14 -> 0 | D36: Housing
A37: fundsSources[3].rate | B37: ='Sources of Funds Worksheet'!E14 -> 0 | D37: Housing
A38: fundsSources[3].term | B38: ='Sources of Funds Worksheet'!U14 -> 0 | D38: Housing
A39: fundsSources[3].isApproved | B39: ='Sources of Funds Worksheet'!T14 -> N | D39: Housing
A40: fundsSources[3].housingCommercial | B40: Housing | D40: Housing | E40: Hard coded???
...

Sheet USDA Income Limits
B2: Effective Dates | F2: 2021_4P_50 | G2: 2021_5P_50 | H2: 2021_4P_80 | I2: 2021_5P_80 | J2: 2022_4P_50 | K2: 2022_5P_50 | L2: 2022_4P_80 | M2: 2022_5P_80 | N2: 2023_4P_50 | O2: 2023_5P_50 | P2: 2023_4P_80 | Q2: 2023_5P_80 | R2: 2024_4P_50 | S2: 2024_5P_50 | T2: 2024_4P_80 | U2: 2024_5P_80 | V2: 2025_4P_50 | W2: 2025_5P_50 | X2: 2025_4P_80 | Y2: 2025_5P_80
B3: 2021 | C3: 44197 | E3: Maricopa Co, Arizona | F3: 39500 | G3: 52150 | H3: 63200 | I3: 83400 | J3: 44150 | K3: 58300 | L3: 70650 | M3: 93250 | N3: 46750 | O3: 61750 | P3: 74800 | Q3: 98750 | R3: 51400 | S3: 67850 | T3: 82250 | U3: 108600 | V3: 56100 | W3: 74100 | X3: 89750 | Y3: 118500
B4: 2022 | C4: 44774 | E4: Pima Co, Arizona | F4: 34300 | G4: 45300 | H4: 54900 | I4: 72450 | J4: 38350 | K4: 50650 | L4: 61350 | M4: 81000 | N4: 40600 | O4: 53600 | P4: 64950 | Q4: 85750 | R4: 44650 | S4: 58950 | T4: 71400 | U4: 94250 | V4: 48050 | W4: 63450 | X4: 76900 | Y4: 101550
B5: 2023 | C5: 45159 | E5: Crawford Co, Arkansas | F5: 27150 | G5: 35850 | H5: 43450 | I5: 57350 | J5: 30350 | K5: 40100 | L5: 48550 | M5: 64100 | N5: 32100 | O5: 42400 | P5: 51350 | Q5: 67800 | R5: 33250 | S5: 43900 | T5: 53200 | U5: 70250 | V5: 36300 | W5: 47950 | X5: 58100 | Y5: 76700
B6: 2024 | C6: 45536 | E6: Van Buren Co, Arkansas | F6: 27050 | G6: 35750 | H6: 43300 | I6: 57150 | J6: 30100 | K6: 39750 | L6: 48150 | M6: 63550 | N6: 31700 | O6: 41850 | P6: 50700 | Q6: 66900 | R6: 32600 | S6: 43050 | T6: 52150 | U6: 68850 | V6: 33550 | W6: 44300 | X6: 53700 | Y6: 70900
B7: 2025 | C7: 45901 | E7: Los Angeles Co, California | F7: 59100 | G7: 78050 | H7: 96000 | I7: 126700 | J7: 59550 | K7: 78650 | L7: 96000 | M7: 126700 | N7: 63050 | O7: 83250 | P7: 103600 | Q7: 136750 | R7: 69350 | S7: 91550 | T7: 113950 | U7: 150400 | V7: 75750 | W7: 100000 | X7: 122400 | Y7: 161600
E8: Adams Co, Colorado | F8: 52400 | G8: 69200 | H8: 79900 | I8: 105450 | J8: 58600 | K8: 77400 | L8: 90000 | M8: 118800 | N8: 62050 | O8: 81950 | P8: 96200 | Q8: 127000 | R8: 65200 | S8: 86100 | T8: 102650 | U8: 135500 | V8: 70050 | W8: 92500 | X8: 104200 | Y8: 137550
E9: Alamosa Co, Colorado | F9: 36750 | G9: 48550 | H9: 58800 | I9: 77600 | J9: 41100 | K9: 54300 | L9: 65750 | M9: 86800 | N9: 43500 | O9: 57450 | P9: 69600 | Q9: 91850 | R9: 47100 | S9: 62200 | T9: 75350 | U9: 99500 | V9: 51000 | W9: 67350 | X9: 81600 | Y9: 107750
E10: Arapahoe Co, Colorado | F10: 52400 | G10: 69200 | H10: 79900 | I10: 105450 | J10: 58600 | K10: 77400 | L10: 90000 | M10: 118800 | N10: 62050 | O10: 81950 | P10: 96200 | Q10: 127000 | R10: 65200 | S10: 86100 | T10: 102650 | U10: 135500 | V10: 70050 | W10: 92500 | X10: 104200 | Y10: 137550
E11: Archuleta Co, Colorado | F11: 36750 | G11: 48550 | H11: 58800 | I11: 77600 | J11: 41100 | K11: 54300 | L11: 65750 | M11: 86800 | N11: 43500 | O11: 57450 | P11: 69600 | Q11: 91850 | R11: 47100 | S11: 62200 | T11: 75350 | U11: 99500 | V11: 51000 | W11: 67350 | X11: 81600 | Y11: 107750
E12: Baca Co, Colorado | F12: 36750 | G12: 48550 | H12: 58800 | I12: 77600 | J12: 41100 | K12: 54300 | L12: 65750 | M12: 86800 | N12: 43500 | O12: 57450 | P12: 69600 | Q12: 91850 | R12: 47100 | S12: 62200 | T12: 75350 | U12: 99500 | V12: 51000 | W12: 67350 | X12: 81600 | Y12: 107750
E13: Bent Co, Colorado | F13: 36750 | G13: 48550 | H13: 58800 | I13: 77600 | J13: 41100 | K13: 54300 | L13: 65750 | M13: 86800 | N13: 43500 | O13: 57450 | P13: 69600 | Q13: 91850 | R13: 47100 | S13: 62200 | T13: 75350 | U13: 99500 | V13: 51000 | W13: 67350 | X13: 81600 | Y13: 107750
E14: Boulder Co, Colorado | F14: 58450 | G14: 77200 | H14: 80400 | I14: 106150 | J14: 62700 | K14: 82800 | L14: 90000 | M14: 118800 | N14: 66400 | O14: 87650 | P14: 96200 | Q14: 127000 | R14: 73000 | S14: 96400 | T14: 103350 | U14: 136450 | V14: 75300 | W14: 99400 | X14: 104200 | Y14: 137550
E15: Broomfield Co, Colorado | F15: 52400 | G15: 69200 | H15: 79900 | I15: 105450 | J15: 58600 | K15: 77400 | L15: 90000 | M15: 118800 | N15: 62050 | O15: 81950 | P15: 96200 | Q15: 127000 | R15: 65200 | S15: 86100 | T15: 102650 | U15: 135500 | V15: 70050 | W15: 92500 | X15: 104200 | Y15: 137550
E16: Chaffee Co, Colorado | F16: 36750 | G16: 48550 | H16: 58800 | I16: 77600 | J16: 41100 | K16: 54300 | L16: 65750 | M16: 86800 | N16: 43500 | O16: 57450 | P16: 69600 | Q16: 91850 | R16: 47100 | S16: 62200 | T16: 75350 | U16: 99500 | V16: 51400 | W16: 67850 | X16: 82250 | Y16: 108600
E17: Cheyenne Co, Colorado | F17: 38200 | G17: 50450 | H17: 61100 | I17: 80650 | J17: 42700 | K17: 56400 | L17: 68300 | M17: 90150 | N17: 45200 | O17: 59700 | P17: 72300 | Q17: 95450 | R17: 47100 | S17: 62200 | T17: 75350 | U17: 99500 | V17: 51000 | W17: 67350 | X17: 81600 | Y17: 107750
E18: Clear Creek Co, Colorado | F18: 52400 | G18: 69200 | H18: 79900 | I18: 105450 | J18: 58600 | K18: 77400 | L18: 90000 | M18: 118800 | N18: 62050 | O18: 81950 | P18: 96200 | Q18: 127000 | R18: 65200 | S18: 86100 | T18: 102650 | U18: 135500 | V18: 70050 | W18: 92500 | X18: 104200 | Y18: 137550
E19: Conejos Co, Colorado | F19: 36750 | G19: 48550 | H19: 58800 | I19: 77600 | J19: 41100 | K19: 54300 | L19: 65750 | M19: 86800 | N19: 43500 | O19: 57450 | P19: 69600 | Q19: 91850 | R19: 47100 | S19: 62200 | T19: 75350 | U19: 99500 | V19: 51000 | W19: 67350 | X19: 81600 | Y19: 107750
... E365: Dallas Co, Texas | F365: 44500 | G365: 58750 | H365: 71200 | I365: 94000 | J365: 48700 | K365: 64300 | L365: 77900 | M365: 102850 | N365: 51550 | O365: 68050 | P365: 82500 | Q365: 108900 | R365: 55150 | S365: 72800 | T365: 88250 | U365: 116500 | V365: 58650 | W365: 77450 | X365: 93850 | Y365: 123900
E366: Other County/State

Sheet RBA Data
A1: Identifier
A2: Name | B2: ='Project Information'!B6 -> 0
A3: Type | B3: Rental
A4: Use Type | B4: ='Project Information'!B10:C10 -> 0
A5: Supportive Service | B5: ='Project Information'!C12 -> 0
A6: City
A7: County | B7: ='Project Information'!B7:E7 -> 0
A8: State | B8: ='Project Information'!B8:C8
A9: VLI | B9: ='Rental Project Worksheet'!D61 -> 0
A10: Total Units | B10: ='Rental Project Worksheet'!D60 -> 0
A11: AHP Asst Units | B11: ='Rental Project Worksheet'!H62 -> 0
A12: Units <= 30% | B12: ='Rental Project Worksheet'!H61 -> 0
A13: Land Acquisition | B13: =IF('Development Budget Worksheet'!C6-'Development Budget Worksheet'!D6=0,"",'Development Budget Worksheet'!C6-'Development Budget Worksheet'!D6)
A14: Building Acquisition | B14: =IF('Development Budget Worksheet'!C7-'Development Budget Worksheet'!D7=0,"",'Development Budget Worksheet'!C7-'Development Budget Worksheet'!D7)
A15: Closing Costs | B15: =IF('Development Budget Worksheet'!C8-'Development Budget Worksheet'!D8=0,"",'Development Budget Worksheet'!C8-'Development Budget Worksheet'!D8)
A16: Legal Fees | B16: =IF('Development Budget Worksheet'!C9-'Development Budget Worksheet'!D9=0,"",'Development Budget Worksheet'!C9-'Development Budget Worksheet'!D9)
A17: Title, Recording and Escrow Fees | B17: =IF('Development Budget Worksheet'!C10-'Development Budget Worksheet'!D10=0,"",'Development Budget Worksheet'!C10-'Development Budget Worksheet'!D10)
A18: Other: (specify) | B18: =IF('Development Budget Worksheet'!C11-'Development Budget Worksheet'!D11=0,"",'Development Budget Worksheet'!C11-'Development Budget Worksheet'!D11)
A19: Earthwork - Site Grading, Clearing | B19: =IF('Development Budget Worksheet'!C15-'Development Budget Worksheet'!D15=0,"",'Development Budget Worksheet'!C15-'Development Budget Worksheet'!D15)
A20: Demolition | B20: =IF('Development Budget Worksheet'!C16-'Development Budget Worksheet'!D16=0,"",'Development Budget Worksheet'!C16-'Development Budget Worksheet'!D16)
A21: Off-Site Improvements | B21: =IF('Development Budget Worksheet'!C17-'Development Budget Worksheet'!D17=0,"",'Development Budget Worksheet'!C17-'Development Budget Worksheet'!D17)
A22: Site Environmental | B22: =IF('Development Budget Worksheet'!C18-'Development Budget Worksheet'!D18=0,"",'Development Budget Worksheet'!C18-'Development Budget Worksheet'!D18)
A23: Site Utilities | B23: =IF('Development Budget Worksheet'!C19-'Development Budget Worksheet'!D19=0,"",'Development Budget Worksheet'!C19-'Development Budget Worksheet'!D19)
A24: Roads and Walks | B24: =IF('Development Budget Worksheet'!C20-'Development Budget Worksheet'!D20=0,"",'Development Budget Worksheet'!C20-'Development Budget Worksheet'!D20)
A25: Site Improvements | B25: =IF('Development Budget Worksheet'!C21-'Development Budget Worksheet'!D21=0,"",'Development Budget Worksheet'!C21-'Development Budget Worksheet'!D21)
A26: Lawns and Planting | B26: =IF('Development Budget Worksheet'!C22-'Development Budget Worksheet'!D22=0,"",'Development Budget Worksheet'!C22-'Development Budget Worksheet'!D22)
A27: Unusual Site Conditions | B27: =IF('Development Budget Worksheet'!C23-'Development Budget Worksheet'!D23=0,"",'Development Budget Worksheet'!C23-'Development Budget Worksheet'!D23)
A28: Other: (specify) | B28: =IF('Development Budget Worksheet'!C24-'Development Budget Worksheet'!D24=0,"",'Development Budget Worksheet'!C24-'Development Budget Worksheet'!D24)
A29: New Construction Costs | B29: =IF('Development Budget Worksheet'!C28-'Development Budget Worksheet'!D28=0,"",'Development Budget Worksheet'!C28-'Development Budget Worksheet'!D28)
A30: Rehabilitation Costs | B30: =IF('Development Budget Worksheet'!C29-'Development Budget Worksheet'!D29=0,"",'Development Budget Worksheet'!C29-'Development Budget Worksheet'!D29)
A31: Building Hazardous Material Remediation | B31: =IF('Development Budget Worksheet'!C30-'Development Budget Worksheet'!D30=0,"",'Development Budget Worksheet'!C30-'Development Budget Worksheet'!D30)
A32: General Requirements | B32: =IF('Development Budget Worksheet'!C31-'Development Budget Worksheet'!D31=0,"",'Development Budget Worksheet'!C31-'Development Budget Worksheet'!D31)
A33: General Contractor Overhead | B33: =IF('Development Budget Worksheet'!C32-'Development Budget Worksheet'!D32=0,"",'Development Budget Worksheet'!C32-'Development Budget Worksheet'!D32)
A34: General Contractor Profit | B34: =IF('Development Budget Worksheet'!C33-'Development Budget Worksheet'!D33=0,"",'Development Budget Worksheet'!C33-'Development Budget Worksheet'!D33)
A35: Construction Contingency | B35: =IF('Development Budget Worksheet'!C34-'Development Budget Worksheet'!D34=0,"",'Development Budget Worksheet'!C34-'Development Budget Worksheet'!D34)
A36: Local Permit Fees | B36: =IF('Development Budget Worksheet'!C35-'Development Budget Worksheet'!D35=0,"",'Development Budget Worksheet'!C35-'Development Budget Worksheet'!D35)
A37: Tap Permit Fees | B37: =IF('Development Budget Worksheet'!C36-'Development Budget Worksheet'!D36=0,"",'Development Budget Worksheet'!C36-'Development Budget Worksheet'!D36)
A38: Furniture, Fixtures, and Equipment (FF&E) | B38: =IF('Development Budget Worksheet'!C37-'Development Budget Worksheet'!D37=0,"",'Development Budget Worksheet'!C37-'Development Budget Worksheet'!D37)
A39: Other: (specify) | B39: =IF('Development Budget Worksheet'!C39-'Development Budget Worksheet'!D39=0,"",'Development Budget Worksheet'!C39-'Development Budget Worksheet'!D39)
A40: Architect Fees | B40: =IF('Development Budget Worksheet'!C43-'Development Budget Worksheet'!D43=0,"",'Development Budget Worksheet'!C43-'Development Budget Worksheet'!D43)
...

Sheet Project Information
A1: FHLBank Topeka -- Affordable Housing Program
A2: Project Information Worksheet
A3: Effective Date: 09/01/2025
A4: =IF(OR(E5="",B6="",B7="",B8="",B9="",B10="",C12="",C14="",C15=""),"All information on this page must be completed before moving on.","") -> All information on this page must be completed before moving on.
C5: =IF(E5="","Please enter in today's date (MM/DD/YY)","") -> Please enter in today's date (MM/DD/YY) | D5: Date:
A6: Project Name:
A7: Project County: | G7: Project Characteristics | M7: =IF(H14="",0,H14) -> 0 | N7: NEW CONST SQ FT
A8: Project State: | B8: =IF(B7="","",IF(B7="Other County/State","Other",IF(OR((MID(B7,FIND(",",B7)+2,256)="Kansas"),(MID(B7,FIND(",",B7)+2,256)="Colorado"),(MID(B7,FIND(",",B7)+2,256)="Oklahoma"),(MID(B7,FIND(",",B7)+2,256)="Nebraska")),MID(B7,FIND(",",B7)+2,256),"Other"))) | D8: =IF(B7="Other County/State","Please contact HCD to receive a workbook with Applicable County Information","") | G8: Total Number of buildings | M8: =IF(H13="",0,H13) -> 0 | N8: REHAB SQ FT
A9: Project Type: | D9: =IF(B9="Other","Clarify Project Type in explanation box below.","") | G9: Gross floor area of all buildings (Sq Ft.) | H9: =H10+H11+H12 -> 0 | M9: =H10/'Rental Project Worksheet'!D60 -> #DIV/0! | N9: AVG SIZE PER UNIT (SQ FT)
A10: Construction Type: | G10: Residential bldg floor area (Sq Ft.) | I10: =IF(AND(H13="",H14=""),"Enter Rehab or New Construction Sq Ft","") -> Enter Rehab or New Construction Sq Ft | M10: =IF(H12="",0,H12) -> 0 | N10: NON-RESIDENTIAL SQ FT
A11: Residents Currently Occupy Project: | D11: =IF(C11="Yes","Complete the Tenant Income Worksheet, available on the AHP website.","") | G11: Gross floor area of community and amenities (Sq Ft.) | I11: =IF(AND(K13="",K14=""),"Enter Rehab or New Construction Units","") -> Enter Rehab or New Construction Units | M11: =H12/H9 -> #DIV/0! | N11: NON-RESIDENTIAL % OF SQ FT
A12: Project is Supportive Service: | E12: =IF(C11= "Yes", HYPERLINK("https://www.fhlbtopeka.com/community-programs-grant-programs-forms","Link to Tenant Income Worksheet"),"") | G12: Non-Residential bldg floor area (Sq Ft.) | I12: # of Acquisition Only Units | M12: =(H11/(H10+H11)) -> #DIV/0! | N12: % SQ FT COMMUNITY AND AMENITIES
A13: Project includes Low Income Housing Tax Credits: | G13: Rehab residential Sq Ft | I13: # of Rehab Units | M13: =H13/K13 -> #DIV/0! | N13: REHAB RESIDENTIAL SQ FT / UNIT
A14: Includes Non-Residential Space: | D14: =IF(C14="Yes","Complete the Non-Residential Questions Below.","") | G14: New construction residential Sq Ft | I14: # of New Const Units | M14: =H14/K14 -> #DIV/0! | N14: NEW CONSTRUCTION RESIDENTIAL SQ FT / UNIT
A15: Contractor Identity of Interest: | G15: Elevator? | M15: =H10-H13-H14 -> 0 | N15: ACQUISITION ONLY SQ FT
A16: =IF(OR(B9="Rehabilitation",B9="Acquisition Rehabilitation"),"Rehab Costs Supported by Bid(s):","Site Work Costs Supported by Bid(s):") -> Site Work Costs Supported by Bid(s): | D16: =IF(C16="No","Obtain bid, Engineer's Estimate of Site Work Required, or Architect's Quanity Takeoff of Materials. Application reviewers may request at a later date.","") | G16: Size of project site in square feet | M16: =SUM(K12:K14) -> 0 | N16: # OF UNITS
A17: Tenants Pay Electricity: | G17: Explanation: In the box below enter any further explanations for this page. | M17: =K13 -> 0 | N17: # OF REHAB UNITS
A18: Tenants Pay Gas: | M18: =K14 -> 0 | N18: # OF NEW CONST UNITS
A19: Tenants Pay Water/Sewer: | M19: =K12 -> 0 | N19: # OF ACQ ONLY UNITS
A20: Type of AHP Funds Requested: | M20: =IF(H15="Yes","Y",IF(H15="No","N","")) | N20: ELEVATOR
A21: Project Receives Rental Assistance: | D21: =IF(C21="No","",IF(C21="Project Based","Enter total subsidy payment in the corresponding column on the housing pro forma. Provide supporting documentation.",IF(C21="Rent Based","Enter tenant & assistance portion separately on the Rental Project Worksheet. Provide supporting documentation.",IF(C21="Project and Rent Based","Enter total subsidy payment in the corresponding column on the housing pro forma, and enter tenant & assistance portion separately on the Rental Project Worksheet. Provide supporting documentation.",""))))
A22: Number of months to lease up:
A23: =IF(C14="Yes","Non-Residential Development Costs are known & supported by bids:","")
A24: =IF(OR(C14="No",C14=""),"",IF(C23="Yes","Complete the 'Non-Residential Costs' Column on the Development Budget Worksheet. Residential and Non-Residential Costs must be included in 'Total Budget Amount' column. Include $0 in the budget where necessary. Call HCD with questions. 866-571-8155",IF(C23="No","The Development Budget Worksheet will calculate the subtotal for Non-Residential costs in the 'Non-Residential Costs' column. You can override the subtotal by inputting the known costs in each cost section. Call HCD if you have questions. 866-571-8155.","")))
A25: =IF(C14="Yes","Non-Residential Development Costs are supported by permanent debt:","")
A26: =IF(C14="No","",IF(C25="No","Non-Residential Costs will automatically calculate based on the percentage of residential and non-residential costs entered in the Project Characteristics section.",IF(C25="Yes","The cost of the permanent debt should be reflected in the 'Non-Residential Costs' column of the Development Budget Worksheet. The permanent debt should be reflected in the 'Non-Residential Sources of Funds' on the Sources of Funds Worksheet.","")))
A27: =IF(C14="Yes","The developer is collecting developer fees for the Non-Residential space:","")
A28: =IF(OR(C14="No",C14=""),"",IF(C27="Yes","The cost of the developer fee should be reflected in the 'Non-Residential Costs' column of the Development Budget Worksheet.",""))

Sheet Rental Project Worksheet
A1: FHLBank Topeka -- Affordable Housing Program
C2: Rental Project Worksheet
B3: Date Completed: | C3: =IF(Date="","",Date)
A4: Instructions: In the blue shaded cells, input the number of units for each unit type and AMI% category with corresponding rent amounts the Tenant is responsible for and the additional assistance the Project receives on behalf of the tenant. Use the maximum rent amount the tenant will pay.
A5: =IF(D6="Other County/State","Please contact HCD to receive a workbook with applicable county information.","")
A6: Project County/State: | D6: =IF('Project Information'!B7="","",'Project Information'!B7) | H6: {=IF(YEAR(Date)<2021, TEXT(Date,"yyyy"), INDEX(Effective_Date_Year, MATCH(MAX(IF(Effective_Date<=Date, Effective_Date)), Effective_Date, 0), 1))} -> 1900
A7: 50% (AMI) for the project location (4 per household): | E7: =IF(YEAR(Date)<2021, IF(H6="1900","",IF(D6="","",IF($D$6="Other County/State","",INDEX('Income Limits'!C3:AZ402,MATCH(D6,County,0),MATCH(H6,Year,1))))), IF($D$6="Other County/State", "", INDEX(INDIRECT("USDA_" & $H$6 & "_Income_Limits"), MATCH($D$6, USDA_Counties, 0), 1)))
A9: Targeted USDA Income Limit | B9: Household Size
B10: 1 | C10: 2 | D10: 3 | E10: 4 | F10: 5 | G10: 6 | H10: 7 | I10: 8
A11: <=30% | B11: =IF(YEAR(Date)<2021, (E11*0.7), E11) -> #VALUE! | C11: =IF(YEAR(Date)<2021, (E11*0.8), E11) -> #VALUE! | D11: =IF(YEAR(Date)<2021, (E11*0.9), E11) -> #VALUE! | E11: =IF(YEAR(Date)<2021, IF($D$6="Other County/State",$H$7*2*0.3,($E$7*2)*0.3), CEILING((E13*2*0.3), 1)) -> #VALUE! | F11: =IF(YEAR(Date)<2021, (E11*1.08), CEILING((F13*2*0.3), 1)) -> #VALUE! | G11: =IF(YEAR(Date)<2021, (E11*1.16), F11) -> #VALUE! | H11: =IF(YEAR(Date)<2021, (E11*1.24), F11) -> #VALUE! | I11: =IF(YEAR(Date)<2021, (E11*1.32), F11) -> #VALUE!
A12: <=40% | B12: =IF(YEAR(Date)<2021, (E12*0.7), E12) -> #VALUE! | C12: =IF(YEAR(Date)<2021, (E12*0.8), E12) -> #VALUE! | D12: =IF(YEAR(Date)<2021, (E12*0.9), E12) -> #VALUE! | E12: =IF(YEAR(Date)<2021, IF($D$6="Other County/State",$H$7*2*0.4,($E$7*2)*0.4), CEILING(E13*2*0.4, 1)) -> #VALUE! | F12: =IF(YEAR(Date)<2021, (E12*1.08), CEILING((F13*2*0.4), 1)) -> #VALUE! | G12: =IF(YEAR(Date)<2021, (E12*1.16), F12) -> #VALUE! | H12: =IF(YEAR(Date)<2021, (E12*1.24), F12) -> #VALUE! | I12: =IF(YEAR(Date)<2021, (E12*1.32), F12) -> #VALUE!
A13: <=50% | B13: =IF(YEAR(Date)<2021, (E13*0.7), E13) -> #VALUE! | C13: =IF(YEAR(Date)<2021, (E13*0.8), E13) -> #VALUE! | D13: =IF(YEAR(Date)<2021, (E13*0.9), E13) -> #VALUE! | E13: =IF(YEAR(Date)<2021, IF($D$6="Other County/State",$H$7*2*0.5,($E$7*2)*0.5), INDEX(INDIRECT("USDA_" & $H$6 & "_Income_Limits"), MATCH($D$6, USDA_Counties, 0), 1)) -> #VALUE! | F13: =IF(YEAR(Date)<2021, (E13*1.08), INDEX(INDIRECT("USDA_" & $H$6 & "_Income_Limits"), MATCH($D$6, USDA_Counties, 0), 2)) -> #VALUE! | G13: =IF(YEAR(Date)<2021, (E13*1.16), F13) -> #VALUE! | H13: =IF(YEAR(Date)<2021, (E13*1.24), F13) -> #VALUE! | I13: =IF(YEAR(Date)<2021, (E13*1.32), F13) -> #VALUE!
A14: <=60% | B14: =IF(YEAR(Date)<2021, (E14*0.7), E14) -> #VALUE! | C14: =IF(YEAR(Date)<2021, (E14*0.8), E14) -> #VALUE! | D14: =IF(YEAR(Date)<2021, (E14*0.9), E14) -> #VALUE! | E14: =IF(YEAR(Date)<2021, IF($D$6="Other County/State",$H$7*2*0.6,($E$7*2)*0.6), CEILING(((E16-E13)/(0.8-0.5))*(0.6-0.5) + E13, 1)) -> #VALUE! | F14: =IF(YEAR(Date)<2021, (E14*1.08), CEILING(((F16-F13)/(0.8-0.5))*(0.6-0.5) + F13, 1)) -> #VALUE! | G14: =IF(YEAR(Date)<2021, (E14*1.16), F14) -> #VALUE! | H14: =IF(YEAR(Date)<2021, (E14*1.24), F14) -> #VALUE! | I14: =IF(YEAR(Date)<2021, (E14*1.32), F14) -> #VALUE!
A15: <=70% | B15: =IF(YEAR(Date)<2021, (E15*0.7), E15) -> #VALUE! | C15: =IF(YEAR(Date)<2021, (E15*0.8), E15) -> #VALUE! | D15: =IF(YEAR(Date)<2021, (E15*0.9), E15) -> #VALUE! | E15: =IF(YEAR(Date)<2021, IF($D$6="Other County/State",$H$7*2*0.7,($E$7*2)*0.7), CEILING(((E16-E13)/(0.8-0.5))*(0.7-0.5) + E13, 1)) -> #VALUE! | F15: =IF(YEAR(Date)<2021, (E15*1.08), CEILING(((F16-F13)/(0.8-0.5))*(0.7-0.5) + F13, 1)) -> #VALUE! | G15: =IF(YEAR(Date)<2021, (E15*1.16), F15) -> #VALUE! | H15: =IF(YEAR(Date)<2021, (E15*1.24), F15) -> #VALUE! | I15: =IF(YEAR(Date)<2021, (E15*1.32), F15) -> #VALUE!
A16: <=80% | B16: =IF(YEAR(Date)<2021, (E16*0.7), E16) -> #VALUE! | C16: =IF(YEAR(Date)<2021, (E16*0.8), E16) -> #VALUE! | D16: =IF(YEAR(Date)<2021, (E16*0.9), E16) -> #VALUE! | E16: =IF(YEAR(Date)<2021, IF($D$6="Other County/State",$H$7*2*0.8,($E$7*2)*0.8), INDEX(INDIRECT("USDA_"&$H$6&"_Income_Limits"),MATCH($D$6,USDA_Counties,0),3)) -> #VALUE! | F16: =IF(YEAR(Date)<2021, (E16*1.08), INDEX(INDIRECT("USDA_" & $H$6 & "_Income_Limits"), MATCH($D$6, USDA_Counties, 0), 4)) -> #VALUE! | G16: =IF(YEAR(Date)<2021, (E16*1.16), F16) -> #VALUE! | H16: =IF(YEAR(Date)<2021, (E16*1.24), F16) -> #VALUE! | I16: =IF(YEAR(Date)<2021, (E16*1.32), F16) -> #VALUE!
A17: =IF(AND('Project Information'!E5="",'Project Information'!B6="",'Project Information'!B7=""),"The Project Information tab must be completed to make this worksheet accessible.",IF('Project Information'!B8="Colorado","Reflect homeless units in the <=30% AMI category, if applicable.","")) -> The Project Information tab must be completed to make this worksheet accessible.
A18: Income Restriction (%AMI) | C18: Number of Bedrooms | D18: # of Units | E18: Maximum AHP Rent | F18: Proposed Tenant Share of Rent | G18: Proposed Assisted Share of Rent | H18: Annual Rent Revenue
A19: <=30% AMI | C19: 0 BR or SRO | E19: =(B11/12)*0.3 -> #VALUE! | H19: =(F19+G19)*D19*12 -> 0
C20: 1 BR | E20: =(((B11+C11)/2)/12)*0.3 -> #VALUE! | H20: =(F20+G20)*D20*12 -> 0 | I20: Units by Type
C21: 2 BR | E21: =(D11/12)*0.3 -> #VALUE! | H21: =(F21+G21)*D21*12 -> 0 | Q21: Units by # of bdrs
C22: 3 BR | E22: =((E11+F11)/2/12)*0.3 -> #VALUE! | H22: =(F22+G22)*D22*12 -> 0 | I22: 0 BR or SRO | J22: =D19+D24+D29+D34+D39+D44+D49+D54 -> 0 | Q22: 0 BR or SRO | R22: =D19+D24+D29+D34+D39+D44+D49+D54 -> 0
C23: 4 BR | E23: =(G11/12)*0.3 -> #VALUE! | H23: =(F23+G23)*D23*12 -> 0
A24: >30% AMI <=40% AMI | C24: 0 BR or SRO | E24: =(B12/12)*0.3 -> #VALUE! | H24: =(F24+G24)*D24*12 -> 0 | I24: 1 BR | J24: =D20+D25+D30+D35+D40+D45+D50+D55 -> 0 | Q24: 1 BR | R24: =D20+D25+D30+D35+D40+D45+D50+D55 -> 0
C25: 1 BR | E25: =((B12+C12)/2/12)*0.3 -> #VALUE! | H25: =(F25+G25)*D25*12 -> 0
C26: 2 BR | E26: =(D12/12)*0.3 -> #VALUE! | H26: =(F26+G26)*D26*12 -> 0 | I26: 2 BR | J26: =D21+D26+D31+D36+D41+D46+D51+D56 -> 0 | Q26: 2 BR | R26: =D21+D26+D31+D36+D41+D46+D56+D51 -> 0
C27: 3 BR | E27: =((E12+F12)/2/12)*0.3 -> #VALUE! | H27: =(F27+G27)*D27*12 -> 0
C28: 4 BR | E28: =(G12/12)*0.3 -> #VALUE! | H28: =(F28+G28)*D28*12 -> 0 | I28: 3 BR | J28: =D22+D27+D32+D37+D42+D47+D52+D57 -> 0 | Q28: 3 BR | R28: =D22+D27+D32+D37+D42+D47+D52+D57 -> 0
A29: >40% AMI <=50% AMI | C29: 0 BR or SRO | E29: =(B13/12)*0.3 -> #VALUE! | H29: =(F29+G29)*D29*12 -> 0
C30: 1 BR | E30: =((B13+C13)/2/12)*0.3 -> #VALUE! | H30: =(F30+G30)*D30*12 -> 0 | I30: 4 BR | J30: =D23+D28+D33+D38+D43+D48+D53+D58 -> 0 | Q30: 4 BR | R30: =D23+D28+D33+D38+D43+D48+D53+D58 -> 0
C31: 2 BR | E31: =(D13/12)*0.3 -> #VALUE! | H31: =(F31+G31)*D31*12 -> 0
C32: 3 BR | E32: =((E13+F13)/2/12)*0.3 -> #VALUE! | H32: =(F32+G32)*D32*12 -> 0 | I32: Total | J32: =SUM(J22:J31) -> 0
C33: 4 BR | E33: =(G13/12)*0.3 -> #VALUE! | H33: =(F33+G33)*D33*12 -> 0
A34: >50% AMI <=60% AMI | C34: 0 BR or SRO | E34: =(B14/12)*0.3 -> #VALUE! | H34: =(F34+G34)*D34*12 -> 0
C35: 1 BR | E35: =((B14+C14)/2/12)*0.3 -> #VALUE! | H35: =(F35+G35)*D35*12 -> 0
C36: 2 BR | E36: =(D14/12)*0.3 -> #VALUE! | H36: =(F36+G36)*D36*12 -> 0 | I36: Units by AMI %
C37: 3 BR | E37: =((E14+F14)/2/12)*0.3 -> #VALUE! | H37: =(F37+G37)*D37*12 -> 0
C38: 4 BR | E38: =(G14/12)*0.3 -> #VALUE! | H38: =(F38+G38)*D38*12 -> 0 | I38: <=30 | J38: =SUM(D19:D23) -> 0
A39: >60% AMI <=70% AMI | C39: 0 BR or SRO | E39: =(B15/12)*0.3 -> #VALUE! | H39: =(F39+G39)*D39*12 -> 0
C40: 1 BR | E40: =((B15+C15)/2/12)*0.3 -> #VALUE! | H40: =(F40+G40)*D40*12 -> 0 | I40: 30 - 40 | J40: =SUM(D24:D28) -> 0 | Q40: Income Targeting
C41: 2 BR | E41: =(D15/12)*0.3 -> #VALUE! | H41: =(F41+G41)*D41*12 -> 0 | Q41: <= 50% AMI | R41: =J38+J40+J42 -> 0
...

Sheet Development Budget Worksheet
A1: FHLBank Topeka - - Affordable Housing Program
A2: Development Budget Worksheet
A3: =IF('Project Information'!B6="","",'Project Information'!B6)
A4: Date Completed: | B4: =IF(Date="","",Date) | C4: Total Budget Amount | D4: Non- Residential | E4: Residential | H4: Non-Residential Sq Ft Calculations | J4: Download Tab Figures
A5: Land and Buildings
A6: Land Acquisition | E6: =C6-H6 -> 0 | H6: =IF('Project Information'!$C$14="No",0,IF('Project Information'!$H$9=0,0,IF(D6="",(C6)*'Project Information'!$M$11,D6))) -> 0
A7: Building Acquisition | E7: =C7-H7 -> 0 | H7: =IF('Project Information'!$C$14="No",0,IF('Project Information'!$H$9=0,0,IF(D7="",(C7)*'Project Information'!$M$11,D7))) -> 0
A8: Closing Costs | E8: =C8-H8 -> 0 | H8: =IF('Project Information'!$C$14="No",0,IF('Project Information'!$H$9=0,0,IF(D8="",(C8)*'Project Information'!$M$11,D8))) -> 0
A9: Legal Fees | E9: =C9-H9 -> 0 | H9: =IF('Project Information'!$C$14="No",0,IF('Project Information'!$H$9=0,0,IF(D9="",(C9)*'Project Information'!$M$11,D9))) -> 0
A10: Title, Recording and Escrow Fees | E10: =C10-H10 -> 0 | H10: =IF('Project Information'!$C$14="No",0,IF('Project Information'!$H$9=0,0,IF(D10="",(C10)*'Project Information'!$M$11,D10))) -> 0 | J10: =C8+C9+C10+C11 -> 0 | K10: CARRYING COSTS
A11: Other: (specify) | E11: =C11-H11 -> 0 | H11: =IF('Project Information'!$C$14="No",0,IF('Project Information'!$H$9=0,0,IF(D11="",(C11)*'Project Information'!$M$11,D11))) -> 0
A12: Subtotal | C12: =SUM(C6:C11) -> 0 | D12: =IFERROR(H12,0) -> 0 | E12: =C12-H12 -> 0 | H12: =SUM(H6:H11) -> 0 | J12: =(C12+C63)/'Rental Project Worksheet'!D60 -> #DIV/0! | K12: ACQUISITION COST PER UNIT
A14: Land Improvements
A15: Earthwork - Site Grading, Clearing | E15: =C15-H15 -> 0 | H15: =IF('Project Information'!$C$14="No",0,IF('Project Information'!$H$9=0,0,IF(D15="",(C15)*('Project Information'!$M$11),D15))) -> 0
A16: Demolition | E16: =C16-H16 -> 0 | H16: =IF('Project Information'!$C$14="No",0,IF('Project Information'!$H$9=0,0,IF(D16="",(C16)*('Project Information'!$M$11),D16))) -> 0
A17: Off-Site Improvements | E17: =C17-H17 -> 0 | H17: =IF('Project Information'!$C$14="No",0,IF('Project Information'!$H$9=0,0,IF(D17="",(C17)*('Project Information'!$M$11),D17))) -> 0
A18: Site Environmental | E18: =C18-H18 -> 0 | H18: =IF('Project Information'!$C$14="No",0,IF('Project Information'!$H$9=0,0,IF(D18="",(C18)*('Project Information'!$M$11),D18))) -> 0
A19: Site Utilities | E19: =C19-H19 -> 0 | H19: =IF('Project Information'!$C$14="No",0,IF('Project Information'!$H$9=0,0,IF(D19="",(C19)*('Project Information'!$M$11),D19))) -> 0
A20: Roads and Walks | E20: =C20-H20 -> 0 | H20: =IF('Project Information'!$C$14="No",0,IF('Project Information'!$H$9=0,0,IF(D20="",(C20)*('Project Information'!$M$11),D20))) -> 0
A21: Site Improvements | E21: =C21-H21 -> 0 | H21: =IF('Project Information'!$C$14="No",0,IF('Project Information'!$H$9=0,0,IF(D21="",(C21)*('Project Information'!$M$11),D21))) -> 0
A22: Lawns and Planting | E22: =C22-H22 -> 0 | H22: =IF('Project Information'!$C$14="No",0,IF('Project Information'!$H$9=0,0,IF(D22="",(C22)*('Project Information'!$M$11),D22))) -> 0
A23: Unusual Site Conditions | E23: =C23-H23 -> 0 | H23: =IF('Project Information'!$C$14="No",0,IF('Project Information'!$H$9=0,0,IF(D23="",(C23)*('Project Information'!$M$11),D23))) -> 0
A24: Other: (specify) | E24: =C24-H24 -> 0 | H24: =IF('Project Information'!$C$14="No",0,IF('Project Information'!$H$9=0,0,IF(D24="",(C24)*('Project Information'!$M$11),D24))) -> 0
A25: Subtotal | C25: =SUM(C15:C24) -> 0 | D25: =IFERROR(H25,0) -> 0 | E25: =C25-H25 -> 0 | H25: =SUM(H15:H24) -> 0 | J25: =J26+J27 -> #DIV/0! | K25: Total Hard Construction Costs
A26: =IF(AND(A132="New Construction",C25=0),"Land Improvement costs must be reported separately from New Construction Costs.","") | J26: =C28+(C28/(C28+C29))*(C25+C30+C31+C32+C33+C37+C39) -> #DIV/0! | K26: NEW CONSTRUCTION HARD COSTS
A27: Construction and Rehabilitation | J27: =C29+(C29/(C29+C28))*(C25+C30+C31+C32+C33+C37+C39) -> #DIV/0! | K27: HARD REHAB COSTS
A28: New Construction Costs | E28: =C28-H28 -> 0 | H28: =IF('Project Information'!$C$14="No",0,IF('Project Information'!$H$9=0,0,IF(D28="",(C28)*('Project Information'!$M$11),D28))) -> 0 | J28: =(C28-D28)/'Project Information'!M14 -> #DIV/0! | K28: RESIDENTIAL NEW CONST COST PER RESIDENTIAL SQ FT
A29: Rehabilitation Costs | E29: =C29-H29 -> 0 | H29: =IF('Project Information'!$C$14="No",0,IF('Project Information'!$H$9=0,0,IF(D29="",(C29)*('Project Information'!$M$11),D29))) -> 0 | J29: =(C29-D29)/'Project Information'!M13 -> #DIV/0! | K29: RESIDENTIAL REHAB COST PER RESIDENTIAL SQ FT
A30: Building Hazardous Material Remediation | E30: =C30-H30 -> 0 | H30: =IF('Project Information'!$C$14="No",0,IF('Project Information'!$H$9=0,0,IF(D30="",(C30)*('Project Information'!$M$11),D30))) -> 0
A31: General Requirements | E31: =C31-H31 -> 0 | H31: =IF('Project Information'!$C$14="No",0,IF('Project Information'!$H$9=0,0,IF(D31="",(C31)*('Project Information'!$M$11),D31))) -> 0 | J31: =C31/(C28+C29+C30+C25) -> #DIV/0! | K31: GENERAL REQUIREMENTS %
A32: General Contractor Overhead | E32: =C32-H32 -> 0 | H32: =IF('Project Information'!$C$14="No",0,IF('Project Information'!$H$9=0,0,IF(D32="",(C32)*('Project Information'!$M$11),D32))) -> 0 | J32: =C32/(C25+C28+C29+C30) -> #DIV/0! | K32: CONTRACTOR OH %
A33: General Contractor Profit | E33: =C33-H33 -> 0 | H33: =IF('Project Information'!$C$14="No",0,IF('Project Information'!$H$9=0,0,IF(D33="",(C33)*('Project Information'!$M$11),D33))) -> 0 | J33: =C33/(C25+C28+C29+C30) -> #DIV/0! | K33: CONTRACTOR PROFIT %
A34: Construction Contingency | E34: =C34-H34 -> 0 | H34: =IF('Project Information'!$C$14="No",0,IF('Project Information'!$H$9=0,0,IF(D34="",(C34)*('Project Information'!$M$11),D34))) -> 0
A35: Local Permit Fees (Contractor Paid) | E35: =C35-H35 -> 0 | H35: =IF('Project Information'!$C$14="No",0,IF('Project Information'!$H$9=0,0,IF(D35="",(C35)*('Project Information'!$M$11),D35))) -> 0
A36: Tap Permit Fees (Contractor Paid) | E36: =C36-H36 -> 0 | H36: =IF('Project Information'!$C$14="No",0,IF('Project Information'!$H$9=0,0,IF(D36="",(C36)*('Project Information'!$M$11),D36))) -> 0
A37: Furniture, Fixtures, and Equipment (FF&E) (Contractor Paid) | E37: =C37-H37 -> 0 | H37: =IF('Project Information'!$C$14="No",0,IF('Project Information'!$H$9=0,0,IF(D37="",(C37)*('Project Information'!$M$11),D37))) -> 0
A38: Other: (specify) (Contractor Paid) | E38: =C38-H38 -> 0 | H38: =IF('Project Information'!$C$14="No",0,IF('Project Information'!$H$9=0,0,IF(D38="",(C38)*('Project Information'!$M$11),D38))) -> 0
A39: Non-Contractor Paid Permit Fees, FF&E, and Other: (specify) | E39: =C39-H39 -> 0 | H39: =IF('Project Information'!$C$14="No",0,IF('Project Information'!$H$9=0,0,IF(D39="",(C39)*('Project Information'!$M$11),D39))) -> 0
A40: Subtotal | C40: =SUM(C28:C39) -> 0 | D40: =IFERROR(H40,0) -> 0 | E40: =C40-H40 -> 0 | H40: =SUM(H28:H39) -> 0
A42: Professional Fees
...

Sheet Sources of Funds Worksheet
A1: Date Completed: | B1: =IF(Date="","",Date) | C1: FHLBank Topeka - - Affordable Housing Program
C2: Sources of Funds Worksheet
A3: Instructions: Enter all permanent and construction sources of funds. For all residential permanent sources of funds listed, loan fees must be entered in column H. Monthly or Annual Debt service, Loan Fees, Term, Rate, and Loan Amount must be consistent with source documentation. Total Sources must equal total uses.
A4: =IF('Project Information'!C14="Yes","Enter Non-Residential Permanent Financing separately from Residential. Total Non-Residential sources must equal Total Non-Residential Uses.","")
G5: =IF('Project Information'!B6="","",'Project Information'!B6)
A6: ='Rental Project Worksheet'!H62 -> 0 | B6: ='Development Budget Worksheet'!E121 -> 0 | D6: =IF(OR((D8/A6)>75000,(D9/A6)>75000),"Subsidy Cannot Exceed $75,000 per Unit","") -> #DIV/0! | J6: ='Project Information'!C19 -> 0 | P6: ='Project Information'!E5 -> 0 | R6: Type | T6: Status
A7: Residential Permanent Financing | C7: Type (Loan, Grant or Equity) | D7: Amount | E7: Rate | F7: Term in Months | G7: Amortized in Months | H7: Loan Fees (Origination, Discount Points, etc) | I7: Loan Type | J7: Monthly Debt Service | K7: Annual Debt Service | L7: Monthly Debt vs Validation | N7: Validation | O7: Payment Comparison | P7: Hard debt Y or N | S7: Description Code | T7: Approved Y or N | U7: Term in years | V7: Amort Pd in Yrs | AL7: Loan Fee % | AM7: Fee Amts | AN7: Soft debt payments | AO7: HARD DEBT PAYMENTS | AP7: TOTAL HARD DEBT PAYMENTS
A8: FHLB AHP Subsidized Advance, or | K8: =IF(ISNUMBER(J8),J8*12,IF(J8="N/A","","")) | L8: =IF(ABS(O8-100%)>2.5%,"Error, 'PMT' Does Not Equal 'Terms' ","") -> #NUM! | N8: =ROUND((PMT(E8/12,G8,D8)*-1),2) -> #NUM! | O8: =N8/J8 -> #NUM! | P8: =IF(OR(I8="deferred",I8="Cash Flow Payments"),"N",IF(OR(I8="P&I Payments",I8="Interest Only"),"Y","")) | Q8: Loan w Debt Serv | R8: Column1 | T8: N | U8: =F8/12 -> 0 | V8: =G8/12 -> 0 | W8: 1 | X8: 2 | Y8: 3 | Z8: 4 | AA8: 5 | AB8: 6 | AC8: 7 | AD8: 8 | AE8: 9 | AF8: 10 | AG8: 11 | AH8: 12 | AI8: 13 | AJ8: 14 | AK8: 15 | AO8: =IF(P8="Y",K8,"")
A9: FHLB AHP Direct Subsidy | C9: Grant | K9: =IF(ISNUMBER(J9),J9*12,IF(J9="N/A","","")) | P9: =IF(OR(I9="deferred",I9="Cash Flow Payments"),"N",IF(OR(I9="P&I Payments",I9="Interest Only"),"Y","")) | Q9: Grant | R9: Approved | S9: 1 | T9: N | U9: =F9/12 -> 0 | V9: =G9/12 -> 0 | AL9: =IF(AND(D10>0,C10="Loan"),H10/D10,0) -> 0 | AM9: =H10 -> 0 | AO9: =IF(P9="Y",K9,"")
A10: Permanent Loan | C10: Loan | K10: =IF(ISNUMBER(J10),J10*12,IF(J10="N/A","","")) | L10: =IF(ABS(O10-100%)>2.5%,"Error, 'PMT' Does Not Equal 'Terms' ","") -> #NUM! | N10: =ROUND(IF(I10="Interest Only",(D10*E10)/12,PMT(E10/12,G10,D10)*-1),2) -> #NUM! | O10: =N10/J10 -> #NUM! | P10: =IF(OR(I10="deferred",I10="Cash Flow Payments"),"N",IF(OR(I10="P&I Payments",I10="Interest Only"),"Y","")) | Q10: Equity | R10: Requested | S10: 2 | T10: =IF(D10>0,"Y","N") -> N | U10: =F10/12 -> 0 | V10: =G10/12 -> 0 | W10: =IF(F10>11.9,IF(OR(I10="Interest Only",I10="P&I Payments"),K10,0),0) -> 0 | X10: =IF($F10>(11.99*X$8),(IF(OR(I10="Interest Only",I10="P&I Payments"),K10,0)),0) -> 0 | Y10: =IF($F10>(11.99*Y$8),(IF(OR(I10="Interest Only",I10="P&I Payments"),K10,0)),0) -> 0 | Z10: =IF($F10>(11.99*Z$8),(IF(OR(I10="Interest Only",I10="P&I Payments"),K10,0)),0) -> 0 | AA10: =IF($F10>(11.99*AA$8),(IF(OR(I10="Interest Only",I10="P&I Payments"),K10,0)),0) -> 0 | AB10: =IF($F10>(11.99*AB$8),(IF(OR(I10="Interest Only",I10="P&I Payments"),K10,0)),0) -> 0 | AC10: =IF($F10>(11.99*AC$8),(IF(OR(I10="Interest Only",I10="P&I Payments"),K10,0)),0) -> 0 | AD10: =IF($F10>(11.99*AD$8),(IF(OR(I10="Interest Only",I10="P&I Payments"),K10,0)),0) -> 0 | AE10: =IF($F10>(11.99*AE$8),(IF(OR(I10="Interest Only",I10="P&I Payments"),K10,0)),0) -> 0 | AF10: =IF($F10>(11.99*AF$8),(IF(OR(I10="Interest Only",I10="P&I Payments"),K10,0)),0) -> 0 | AG10: =IF($F10>(11.99*AG$8),(IF(OR(I10="Interest Only",I10="P&I Payments"),K10,0)),0) -> 0 | AH10: =IF($F10>(11.99*AH$8),(IF(OR(I10="Interest Only",I10="P&I Payments"),K10,0)),0) -> 0 | AI10: =IF($F10>(11.99*AI$8),(IF(OR(I10="Interest Only",I10="P&I Payments"),K10,0)),0) -> 0 | AJ10: =IF($F10>(11.99*AJ$8),(IF(OR(I10="Interest Only",I10="P&I Payments"),K10,0)),0) -> 0 | AK10: =IF($F10>(11.99*AK$8),(IF(OR(I10="Interest Only",I10="P&I Payments"),K10,0)),0) -> 0 | AL10: =IF(AND(D11>0,C11="Loan"),H11/D11,0) -> 0 | AM10: =H11 -> 0 | AO10: =IF(P10="Y",K10,"")
A11: LIHTC | C11: Equity | K11: =IF(ISNUMBER(J11),J11*12,IF(J11="N/A","","")) | L11: =IF(ABS(O11-100%)>2.5%,"Error, 'PMT' Does Not Equal 'Terms' ","") -> #NUM! | N11: =ROUND(IF(I11="Interest Only",(D11*E11)/12,PMT(E11/12,G11,D11)*-1),2) -> #NUM! | O11: =N11/J11 -> #NUM! | P11: =IF(OR(I11="deferred",I11="Cash Flow Payments"),"N",IF(OR(I11="P&I Payments",I11="Interest Only"),"Y","")) | Q11: Tax Credit | S11: 4 | T11: =IF(D11>0,"Y","N") -> N | U11: =F11/12 -> 0 | V11: =G11/12 -> 0 | W11: =IF(F11>11.9,IF(OR(I11="Interest Only",I11="P&I Payments"),K11,0),0) -> 0 | X11: =IF($F11>(11.99*X$8),(IF(OR(I11="Interest Only",I11="P&I Payments"),K11,0)),0) -> 0 | Y11: =IF($F11>(11.99*Y$8),(IF(OR(I11="Interest Only",I11="P&I Payments"),K11,0)),0) -> 0 | Z11: =IF($F11>(11.99*Z$8),(IF(OR(I11="Interest Only",I11="P&I Payments"),K11,0)),0) -> 0 | AA11: =IF($F11>(11.99*AA$8),(IF(OR(I11="Interest Only",I11="P&I Payments"),K11,0)),0) -> 0 | AB11: =IF($F11>(11.99*AB$8),(IF(OR(I11="Interest Only",I11="P&I Payments"),K11,0)),0) -> 0 | AC11: =IF($F11>(11.99*AC$8),(IF(OR(I11="Interest Only",I11="P&I Payments"),K11,0)),0) -> 0 | AD11: =IF($F11>(11.99*AD$8),(IF(OR(I11="Interest Only",I11="P&I Payments"),K11,0)),0) -> 0 | AE11: =IF($F11>(11.99*AE$8),(IF(OR(I11="Interest Only",I11="P&I Payments"),K11,0)),0) -> 0 | AF11: =IF($F11>(11.99*AF$8),(IF(OR(I11="Interest Only",I11="P&I Payments"),K11,0)),0) -> 0 | AG11: =IF($F11>(11.99*AG$8),(IF(OR(I11="Interest Only",I11="P&I Payments"),K11,0)),0) -> 0 | AH11: =IF($F11>(11.99*AH$8),(IF(OR(I11="Interest Only",I11="P&I Payments"),K11,0)),0) -> 0 | AI11: =IF($F11>(11.99*AI$8),(IF(OR(I11="Interest Only",I11="P&I Payments"),K11,0)),0) -> 0 | AJ11: =IF($F11>(11.99*AJ$8),(IF(OR(I11="Interest Only",I11="P&I Payments"),K11,0)),0) -> 0 | AK11: =IF($F11>(11.99*AK$8),(IF(OR(I11="Interest Only",I11="P&I Payments"),K11,0)),0) -> 0 | AL11: =IF(AND(D12>0,C12="Loan"),H12/D12,0) -> 0 | AM11: =H12 -> 0 | AO11: =IF(P11="Y",K11,"")
A12: Owner Equity | C12: Equity | K12: =IF(ISNUMBER(J12),J12*12,IF(J12="N/A","","")) | L12: =IF(ABS(O12-100%)>2.5%,"Error, 'PMT' Does Not Equal 'Terms' ","") -> #NUM! | N12: =ROUND(IF(I12="Interest Only",(D12*E12)/12,PMT(E12/12,G12,D12)*-1),2) -> #NUM! | O12: =N12/J12 -> #NUM! | P12: =IF(OR(I12="deferred",I12="Cash Flow Payments"),"N",IF(OR(I12="P&I Payments",I12="Interest Only"),"Y","")) | Q12: Loan w/o Debt Serv | S12: 18 | T12: =IF(D12>0,"Y","N") -> N | U12: =F12/12 -> 0 | V12: =G12/12 -> 0 | W12: =IF(F12>11.9,IF(OR(I12="Interest Only",I12="P&I Payments"),K12,0),0) -> 0 | X12: =IF($F12>(11.99*X$8),(IF(OR(I12="Interest Only",I12="P&I Payments"),K12,0)),0) -> 0 | Y12: =IF($F12>(11.99*Y$8),(IF(OR(I12="Interest Only",I12="P&I Payments"),K12,0)),0) -> 0 | Z12: =IF($F12>(11.99*Z$8),(IF(OR(I12="Interest Only",I12="P&I Payments"),K12,0)),0) -> 0 | AA12: =IF($F12>(11.99*AA$8),(IF(OR(I12="Interest Only",I12="P&I Payments"),K12,0)),0) -> 0 | AB12: =IF($F12>(11.99*AB$8),(IF(OR(I12="Interest Only",I12="P&I Payments"),K12,0)),0) -> 0 | AC12: =IF($F12>(11.99*AC$8),(IF(OR(I12="Interest Only",I12="P&I Payments"),K12,0)),0) -> 0 | AD12: =IF($F12>(11.99*AD$8),(IF(OR(I12="Interest Only",I12="P&I Payments"),K12,0)),0) -> 0 | AE12: =IF($F12>(11.99*AE$8),(IF(OR(I12="Interest Only",I12="P&I Payments"),K12,0)),0) -> 0 | AF12: =IF($F12>(11.99*AF$8),(IF(OR(I12="Interest Only",I12="P&I Payments"),K12,0)),0) -> 0 | AG12: =IF($F12>(11.99*AG$8),(IF(OR(I12="Interest Only",I12="P&I Payments"),K12,0)),0) -> 0 | AH12: =IF($F12>(11.99*AH$8),(IF(OR(I12="Interest Only",I12="P&I Payments"),K12,0)),0) -> 0 | AI12: =IF($F12>(11.99*AI$8),(IF(OR(I12="Interest Only",I12="P&I Payments"),K12,0)),0) -> 0 | AJ12: =IF($F12>(11.99*AJ$8),(IF(OR(I12="Interest Only",I12="P&I Payments"),K12,0)),0) -> 0 | AK12: =IF($F12>(11.99*AK$8),(IF(OR(I12="Interest Only",I12="P&I Payments"),K12,0)),0) -> 0 | AL12: =IF(AND(D13>0,C13="Loan"),H13/D13,0) -> 0 | AM12: =H13 -> 0 | AO12: =IF(P12="Y",K12,"")
A13: Deferred Developer Fee | C13: Loan | K13: =IF(ISNUMBER(J13),J13*12,IF(J13="N/A","","")) | L13: =IF(ABS(O13-100%)>2.5%,"Error, 'PMT' Does Not Equal 'Terms' ","") -> #NUM! | N13: =ROUND(IF(I13="Interest Only",(D13*E13)/12,PMT(E13/12,G13,D13)*-1),2) -> #NUM! | O13: =N13/J13 -> #NUM! | P13: =IF(OR(I13="deferred",I13="Cash Flow Payments"),"N",IF(OR(I13="P&I Payments",I13="Interest Only"),"Y","")) | S13: 19 | T13: =IF(D13>0,"Y","N") -> N | U13: =F13/12 -> 0 | V13: =G13/12 -> 0 | W13: =IF(F13>11.9,IF(OR(I13="Interest Only",I13="P&I Payments"),K13,0),0) -> 0 | X13: =IF($F13>(11.99*X$8),(IF(OR(I13="Interest Only",I13="P&I Payments"),K13,0)),0) -> 0 | Y13: =IF($F13>(11.99*Y$8),(IF(OR(I13="Interest Only",I13="P&I Payments"),K13,0)),0) -> 0 | Z13: =IF($F13>(11.99*Z$8),(IF(OR(I13="Interest Only",I13="P&I Payments"),K13,0)),0) -> 0 | AA13: =IF($F13>(11.99*AA$8),(IF(OR(I13="Interest Only",I13="P&I Payments"),K13,0)),0) -> 0 | AB13: =IF($F13>(11.99*AB$8),(IF(OR(I13="Interest Only",I13="P&I Payments"),K13,0)),0) -> 0 | AC13: =IF($F13>(11.99*AC$8),(IF(OR(I13="Interest Only",I13="P&I Payments"),K13,0)),0) -> 0 | AD13: =IF($F13>(11.99*AD$8),(IF(OR(I13="Interest Only",I13="P&I Payments"),K13,0)),0) -> 0 | AE13: =IF($F13>(11.99*AE$8),(IF(OR(I13="Interest Only",I13="P&I Payments"),K13,0)),0) -> 0 | AF13: =IF($F13>(11.99*AF$8),(IF(OR(I13="Interest Only",I13="P&I Payments"),K13,0)),0) -> 0 | AG13: =IF($F13>(11.99*AG$8),(IF(OR(I13="Interest Only",I13="P&I Payments"),K13,0)),0) -> 0 | AH13: =IF($F13>(11.99*AH$8),(IF(OR(I13="Interest Only",I13="P&I Payments"),K13,0)),0) -> 0 | AI13: =IF($F13>(11.99*AI$8),(IF(OR(I13="Interest Only",I13="P&I Payments"),K13,0)),0) -> 0 | AJ13: =IF($F13>(11.99*AJ$8),(IF(OR(I13="Interest Only",I13="P&I Payments"),K13,0)),0) -> 0 | AK13: =IF($F13>(11.99*AK$8),(IF(OR(I13="Interest Only",I13="P&I Payments"),K13,0)),0) -> 0 | AL13: =IF(AND(D14>0,C14="Loan"),H14/D14,0) -> 0 | AM13: =H14 -> 0 | AO13: =IF(P13="Y",K13,"")
A14: HOME | K14: =IF(ISNUMBER(J14),J14*12,IF(J14="N/A","","")) | L14: =IF(ABS(O14-100%)>2.5%,"Error, 'PMT' Does Not Equal 'Terms' ","") -> #NUM! | N14: =ROUND(IF(I14="Interest Only",(D14*E14)/12,PMT(E14/12,G14,D14)*-1),2) -> #NUM! | O14: =N14/J14 -> #NUM! | P14: =IF(OR(I14="deferred",I14="Cash Flow Payments"),"N",IF(OR(I14="P&I Payments",I14="Interest Only"),"Y","")) | Q14: =IF(D8>0,"AHP Subsidized Advance","AHP Direct Subsidy") -> AHP Direct Subsidy | R14: =D8+D9 -> 0 | S14: 8 | T14: =IF(D14>0,"Y","N") -> N | U14: =F14/12 -> 0 | V14: =G14/12 -> 0 | W14: =IF(F14>11.9,IF(OR(I14="Interest Only",I14="P&I Payments"),K14,0),0) -> 0 | X14: =IF($F14>(11.99*X$8),(IF(OR(I14="Interest Only",I14="P&I Payments"),K14,0)),0) -> 0 | Y14: =IF($F14>(11.99*Y$8),(IF(OR(I14="Interest Only",I14="P&I Payments"),K14,0)),0) -> 0 | Z14: =IF($F14>(11.99*Z$8),(IF(OR(I14="Interest Only",I14="P&I Payments"),K14,0)),0) -> 0 | AA14: =IF($F14>(11.99*AA$8),(IF(OR(I14="Interest Only",I14="P&I Payments"),K14,0)),0) -> 0 | AB14: =IF($F14>(11.99*AB$8),(IF(OR(I14="Interest Only",I14="P&I Payments"),K14,0)),0) -> 0 | AC14: =IF($F14>(11.99*AC$8),(IF(OR(I14="Interest Only",I14="P&I Payments"),K14,0)),0) -> 0 | AD14: =IF($F14>(11.99*AD$8),(IF(OR(I14="Interest Only",I14="P&I Payments"),K14,0)),0) -> 0 | AE14: =IF($F14>(11.99*AE$8),(IF(OR(I14="Interest Only",I14="P&I Payments"),K14,0)),0) -> 0 | AF14: =IF($F14>(11.99*AF$8),(IF(OR(I14="Interest Only",I14="P&I Payments"),K14,0)),0) -> 0 | AG14: =IF($F14>(11.99*AG$8),(IF(OR(I14="Interest Only",I14="P&I Payments"),K14,0)),0) -> 0 | AH14: =IF($F14>(11.99*AH$8),(IF(OR(I14="Interest Only",I14="P&I Payments"),K14,0)),0) -> 0 | AI14: =IF($F14>(11.99*AI$8),(IF(OR(I14="Interest Only",I14="P&I Payments"),K14,0)),0) -> 0 | AJ14: =IF($F14>(11.99*AJ$8),(IF(OR(I14="Interest Only",I14="P&I Payments"),K14,0)),0) -> 0 | AK14: =IF($F14>(11.99*AK$8),(IF(OR(I14="Interest Only",I14="P&I Payments"),K14,0)),0) -> 0 | AL14: =IF(AND(D15>0,C15="Loan"),H15/D15,0) -> 0 | AM14: =H15 -> 0 | AO14: =IF(P14="Y",K14,"")
K15: =IF(ISNUMBER(J15),J15*12,IF(J15="N/A","","")) | L15: =IF(ABS(O15-100%)>2.5%,"Error, 'PMT' Does Not Equal 'Terms' ","") -> #NUM! | N15: =ROUND(IF(I15="Interest Only",(D15*E15)/12,PMT(E15/12,G15,D15)*-1),2) -> #NUM! | O15: =N15/J15 -> #NUM! | P15: =IF(OR(I15="deferred",I15="Cash Flow Payments"),"N",IF(OR(I15="P&I Payments",I15="Interest Only"),"Y","")) | S15: =IF(C15="Equity",21,IF(C15="Loan",16,IF(C15="Grant",20,"NA"))) -> NA | T15: =IF(D15>0,"Y","N") -> N | U15: =F15/12 -> 0 | V15: =G15/12 -> 0 | W15: =IF(F15>11.9,IF(OR(I15="Interest Only",I15="P&I Payments"),K15,0),0) -> 0 | X15: =IF($F15>(11.99*X$8),(IF(OR(I15="Interest Only",I15="P&I Payments"),K15,0)),0) -> 0 | Y15: =IF($F15>(11.99*Y$8),(IF(OR(I15="Interest Only",I15="P&I Payments"),K15,0)),0) -> 0 | Z15: =IF($F15>(11.99*Z$8),(IF(OR(I15="Interest Only",I15="P&I Payments"),K15,0)),0) -> 0 | AA15: =IF($F15>(11.99*AA$8),(IF(OR(I15="Interest Only",I15="P&I Payments"),K15,0)),0) -> 0 | AB15: =IF($F15>(11.99*AB$8),(IF(OR(I15="Interest Only",I15="P&I Payments"),K15,0)),0) -> 0 | AC15: =IF($F15>(11.99*AC$8),(IF(OR(I15="Interest Only",I15="P&I Payments"),K15,0)),0) -> 0 | AD15: =IF($F15>(11.99*AD$8),(IF(OR(I15="Interest Only",I15="P&I Payments"),K15,0)),0) -> 0 | AE15: =IF($F15>(11.99*AE$8),(IF(OR(I15="Interest Only",I15="P&I Payments"),K15,0)),0) -> 0 | AF15: =IF($F15>(11.99*AF$8),(IF(OR(I15="Interest Only",I15="P&I Payments"),K15,0)),0) -> 0 | AG15: =IF($F15>(11.99*AG$8),(IF(OR(I15="Interest Only",I15="P&I Payments"),K15,0)),0) -> 0 | AH15: =IF($F15>(11.99*AH$8),(IF(OR(I15="Interest Only",I15="P&I Payments"),K15,0)),0) -> 0 | AI15: =IF($F15>(11.99*AI$8),(IF(OR(I15="Interest Only",I15="P&I Payments"),K15,0)),0) -> 0 | AJ15: =IF($F15>(11.99*AJ$8),(IF(OR(I15="Interest Only",I15="P&I Payments"),K15,0)),0) -> 0 | AK15: =IF($F15>(11.99*AK$8),(IF(OR(I15="Interest Only",I15="P&I Payments"),K15,0)),0) -> 0 | AL15: =IF(AND(D16>0,C16="Loan"),H16/D16,0) -> 0 | AM15: =H16 -> 0 | AO15: =IF(P15="Y",K15,"")
