Workbook
Name County: Counties!$B$3:$B$366
Name Date: '[1]Project Information'!$E$5
Name Date: 'Project Information'!#REF!
Name Effective_Date: '[1]USDA Income Limits'!$C$3:$C$30
Name Effective_Date_Year: '[1]USDA Income Limits'!$B$3:$B$30
Name IncomeLimits: Counties!$C$2:$AZ$402
Name USDA_Counties: '[1]USDA Income Limits'!$E$3:$E$366
Name Year: Counties!$C$2:$AZ$2

Sheet Project Information
A1: FHLBank Topeka -- Affordable Housing Program
A2: Project Information Worksheet
A3: Effective Date: 04/21/2026
A4: =IF(OR(B5="",B6="",B7="",B8="",B9=""),"All information on this page must be completed before moving on.","") -> All information on this page must be completed before moving on.
A5: Project Name:
A6: Project County: | H6: =C12/F15 -> #DIV/0! | I6: AVG SIZE PER UNIT (SQ FT)
A7: Project State: | B7: =IF(B6="","",IF(B6="Other County/State","Other",IF(OR((MID(B6,FIND(",",B6)+2,256)="Kansas"),(MID(B6,FIND(",",B6)+2,256)="Colorado"),(MID(B6,FIND(",",B6)+2,256)="Oklahoma"),(MID(B6,FIND(",",B6)+2,256)="Nebraska")),MID(B6,FIND(",",B6)+2,256),"Other"))) | H7: =IF(C14="",0,C14) -> 0 | I7: NON-RESIDENTIAL SQ FT
A8: Project Type: | D8: =IF(B8="Other","Clarify Project Type in explanation box below.","") | H8: =C14/C15 -> #DIV/0! | I8: NON-RESIDENTIAL % OF SQ FT
A9: Construction Type: | H9: =(C13/(C12+C13)) -> #DIV/0! | I9: % SQ FT COMMUNITY AND AMENITIES
H10: =F15 -> 0 | I10: # OF UNITS
B11: Project Characteristics | H11: =F13 -> 0 | I11: # OF REHAB UNITS
B12: Residential Bldg Floor Area (Sq Ft.) | D12: # of Acquisition Only Units | H12: =F14 -> 0 | I12: # OF NEW CONST UNITS
B13: Gross Floor Area of Community and Amenities (Sq Ft.) | D13: # of Rehab Units | H13: =F12 -> 0 | I13: # OF ACQ ONLY UNITS
B14: Non-Residential Bldg Floor Area (Sq Ft.) | D14: # of New Const Units | H14: =IF(C19="Yes","Y",IF(C19="No","N","")) | I14: ELEVATOR
B15: Gross Floor Area of All Buildings (Sq Ft.) | C15: =C12+C13+C14 -> 0 | D15: Total Number of Units | F15: =F12+F13+F14 -> 0
B17: Total Number of Buildings | D17: SRO Unit Floor Area (Sq Ft.)
B18: Size of Project Site in Acres | D18: 1 Bed Unit Floor Area (Sq Ft.)
B19: Elevator? | D19: 2 Bed Unit Floor Area (Sq Ft.)
B20: Will Davis Bacon Wages be used? | D20: 3 Bed Unit Floor Area (Sq Ft.)
B22: Explanation: In the box below enter any further explanations for this page.

Sheet Development Budget Worksheet
A1: FHLBank Topeka - - Affordable Housing Program
A2: Development Budget Worksheet
A4: Does the Project include non-residential space?
C6: Total Budget Amount | D6: Non- Residential | E6: Residential | H6: Non-Residential Sq Ft Calculations | J6: Download Tab Figures
A7: Land and Buildings
A8: Land Acquisition | D8: =IF($C$4="Yes", IF(C8="", "", H8), "") | E8: =IF(D8="", C8, IFERROR(C8-D8, 0)) -> 0 | H8: =IF($C$4="No",0,IF('Project Information'!$C$15=0,0,(C8)*'Project Information'!$H$8)) -> 0
A9: Building Acquisition | D9: =IF($C$4="Yes", IF(C9="", "", H9), "") | E9: =IF(D9="", C9, IFERROR(C9-D9, 0)) -> 0 | H9: =IF($C$4="No",0,IF('Project Information'!$C$15=0,0,(C9)*'Project Information'!$H$8)) -> 0
A10: Closing Costs | D10: =IF($C$4="Yes", IF(C10="", "", H10), "") | E10: =IF(D10="", C10, IFERROR(C10-D10, 0)) -> 0 | H10: =IF($C$4="No",0,IF('Project Information'!$C$15=0,0,(C10)*'Project Information'!$H$8)) -> 0
A11: Legal Fees | D11: =IF($C$4="Yes", IF(C11="", "", H11), "") | E11: =IF(D11="", C11, IFERROR(C11-D11, 0)) -> 0 | H11: =IF($C$4="No",0,IF('Project Information'!$C$15=0,0,(C11)*'Project Information'!$H$8)) -> 0
A12: Title, Recording and Escrow Fees | D12: =IF($C$4="Yes", IF(C12="", "", H12), "") | E12: =IF(D12="", C12, IFERROR(C12-D12, 0)) -> 0 | H12: =IF($C$4="No",0,IF('Project Information'!$C$15=0,0,(C12)*'Project Information'!$H$8)) -> 0 | J12: =C10+C11+C12+C13 -> 0 | K12: CARRYING COSTS
A13: Other: (specify) | D13: =IF($C$4="Yes", IF(C13="", "", H13), "") | E13: =IF(D13="", C13, IFERROR(C13-D13, 0)) -> 0 | H13: =IF($C$4="No",0,IF('Project Information'!$C$15=0,0,(C13)*'Project Information'!$H$8)) -> 0
A14: Subtotal | C14: =SUM(C8:C13) -> 0 | D14: =SUM(D8:D13) -> 0 | E14: =C14-D14 -> 0 | H14: =SUM(H8:H13) -> 0 | J14: =(C14+C65)/'Project Information'!F15 -> #DIV/0! | K14: ACQUISITION COST PER UNIT
A16: Land Improvements
A17: Earthwork - Site Grading, Clearing | D17: =IF($C$4="Yes", IF(C17="", "", H17), "") | E17: =IF(D17="", C17, IFERROR(C17-D17, 0)) -> 0 | H17: =IF($C$4="No",0,IF('Project Information'!$C$15=0,0,(C17)*'Project Information'!$H$8)) -> 0
A18: Demolition | D18: =IF($C$4="Yes", IF(C18="", "", H18), "") | E18: =IF(D18="", C18, IFERROR(C18-D18, 0)) -> 0 | H18: =IF($C$4="No",0,IF('Project Information'!$C$15=0,0,(C18)*'Project Information'!$H$8)) -> 0
A19: Off-Site Improvements | D19: =IF($C$4="Yes", IF(C19="", "", H19), "") | E19: =IF(D19="", C19, IFERROR(C19-D19, 0)) -> 0 | H19: =IF($C$4="No",0,IF('Project Information'!$C$15=0,0,(C19)*'Project Information'!$H$8)) -> 0
A20: Site Environmental | D20: =IF($C$4="Yes", IF(C20="", "", H20), "") | E20: =IF(D20="", C20, IFERROR(C20-D20, 0)) -> 0 | H20: =IF($C$4="No",0,IF('Project Information'!$C$15=0,0,(C20)*'Project Information'!$H$8)) -> 0
A21: Site Utilities | D21: =IF($C$4="Yes", IF(C21="", "", H21), "") | E21: =IF(D21="", C21, IFERROR(C21-D21, 0)) -> 0 | H21: =IF($C$4="No",0,IF('Project Information'!$C$15=0,0,(C21)*'Project Information'!$H$8)) -> 0
A22: Roads and Walks | D22: =IF($C$4="Yes", IF(C22="", "", H22), "") | E22: =IF(D22="", C22, IFERROR(C22-D22, 0)) -> 0 | H22: =IF($C$4="No",0,IF('Project Information'!$C$15=0,0,(C22)*'Project Information'!$H$8)) -> 0
A23: Site Improvements | D23: =IF($C$4="Yes", IF(C23="", "", H23), "") | E23: =IF(D23="", C23, IFERROR(C23-D23, 0)) -> 0 | H23: =IF($C$4="No",0,IF('Project Information'!$C$15=0,0,(C23)*'Project Information'!$H$8)) -> 0
A24: Lawns and Planting | D24: =IF($C$4="Yes", IF(C24="", "", H24), "") | E24: =IF(D24="", C24, IFERROR(C24-D24, 0)) -> 0 | H24: =IF($C$4="No",0,IF('Project Information'!$C$15=0,0,(C24)*'Project Information'!$H$8)) -> 0
A25: Unusual Site Conditions | D25: =IF($C$4="Yes", IF(C25="", "", H25), "") | E25: =IF(D25="", C25, IFERROR(C25-D25, 0)) -> 0 | H25: =IF($C$4="No",0,IF('Project Information'!$C$15=0,0,(C25)*'Project Information'!$H$8)) -> 0
A26: Other: (specify) | D26: =IF($C$4="Yes", IF(C26="", "", H26), "") | E26: =IF(D26="", C26, IFERROR(C26-D26, 0)) -> 0 | H26: =IF($C$4="No",0,IF('Project Information'!$C$15=0,0,(C26)*'Project Information'!$H$8)) -> 0
A27: Subtotal | C27: =SUM(C17:C26) -> 0 | D27: =SUM(D17:D26) -> 0 | E27: =C27-D27 -> 0 | H27: =SUM(H17:H26) -> 0 | J27: =J28+J29 -> #DIV/0! | K27: Total Hard Construction Costs
A28: =IF(AND(A134="New Construction",C27=0),"Land Improvement costs must be reported separately from New Construction Costs.","") | J28: =C30+(C30/(C30+C31))*(C27+C32+C33+C34+C35+C39+C41) -> #DIV/0! | K28: NEW CONSTRUCTION HARD COSTS
A29: Construction and Rehabilitation | J29: =C31+(C31/(C31+C30))*(C27+C32+C33+C34+C35+C39+C41) -> #DIV/0! | K29: HARD REHAB COSTS
A30: New Construction Costs | D30: =IF($C$4="Yes", IF(C30="", "", H30), "") | E30: =IF(D30="", C30, IFERROR(C30-D30, 0)) -> 0 | H30: =IF($C$4="No",0,IF('Project Information'!$C$15=0,0,(C30)*'Project Information'!$H$8)) -> 0
A31: Rehabilitation Costs | D31: =IF($C$4="Yes", IF(C31="", "", H31), "") | E31: =IF(D31="", C31, IFERROR(C31-D31, 0)) -> 0 | H31: =IF($C$4="No",0,IF('Project Information'!$C$15=0,0,(C31)*'Project Information'!$H$8)) -> 0
A32: Building Hazardous Material Remediation | D32: =IF($C$4="Yes", IF(C32="", "", H32), "") | E32: =IF(D32="", C32, IFERROR(C32-D32, 0)) -> 0 | H32: =IF($C$4="No",0,IF('Project Information'!$C$15=0,0,(C32)*'Project Information'!$H$8)) -> 0
A33: General Requirements | D33: =IF($C$4="Yes", IF(C33="", "", H33), "") | E33: =IF(D33="", C33, IFERROR(C33-D33, 0)) -> 0 | H33: =IF($C$4="No",0,IF('Project Information'!$C$15=0,0,(C33)*'Project Information'!$H$8)) -> 0 | J33: =C33/(C30+C31+C32+C27) -> #DIV/0! | K33: GENERAL REQUIREMENTS %
A34: General Contractor Overhead | D34: =IF($C$4="Yes", IF(C34="", "", H34), "") | E34: =IF(D34="", C34, IFERROR(C34-D34, 0)) -> 0 | H34: =IF($C$4="No",0,IF('Project Information'!$C$15=0,0,(C34)*'Project Information'!$H$8)) -> 0 | J34: =C34/(C27+C30+C31+C32) -> #DIV/0! | K34: CONTRACTOR OH %
A35: General Contractor Profit | D35: =IF($C$4="Yes", IF(C35="", "", H35), "") | E35: =IF(D35="", C35, IFERROR(C35-D35, 0)) -> 0 | H35: =IF($C$4="No",0,IF('Project Information'!$C$15=0,0,(C35)*'Project Information'!$H$8)) -> 0 | J35: =C35/(C27+C30+C31+C32) -> #DIV/0! | K35: CONTRACTOR PROFIT %
A36: Construction Contingency | D36: =IF($C$4="Yes", IF(C36="", "", H36), "") | E36: =IF(D36="", C36, IFERROR(C36-D36, 0)) -> 0 | H36: =IF($C$4="No",0,IF('Project Information'!$C$15=0,0,(C36)*'Project Information'!$H$8)) -> 0
A37: Local Permit Fees (Contractor Paid) | D37: =IF($C$4="Yes", IF(C37="", "", H37), "") | E37: =IF(D37="", C37, IFERROR(C37-D37, 0)) -> 0 | H37: =IF($C$4="No",0,IF('Project Information'!$C$15=0,0,(C37)*'Project Information'!$H$8)) -> 0
A38: Tap Permit Fees (Contractor Paid) | D38: =IF($C$4="Yes", IF(C38="", "", H38), "") | E38: =IF(D38="", C38, IFERROR(C38-D38, 0)) -> 0 | H38: =IF($C$4="No",0,IF('Project Information'!$C$15=0,0,(C38)*'Project Information'!$H$8)) -> 0
A39: Furniture, Fixtures, and Equipment (FF&E) (Contractor Paid) | D39: =IF($C$4="Yes", IF(C39="", "", H39), "") | E39: =IF(D39="", C39, IFERROR(C39-D39, 0)) -> 0 | H39: =IF($C$4="No",0,IF('Project Information'!$C$15=0,0,(C39)*'Project Information'!$H$8)) -> 0
A40: Other: (specify) (Contractor Paid) | D40: =IF($C$4="Yes", IF(C40="", "", H40), "") | E40: =IF(D40="", C40, IFERROR(C40-D40, 0)) -> 0 | H40: =IF($C$4="No",0,IF('Project Information'!$C$15=0,0,(C40)*'Project Information'!$H$8)) -> 0
A41: Non-Contractor Paid Permit Fees, FF&E, and Other: (specify) | D41: =IF($C$4="Yes", IF(C41="", "", H41), "") | E41: =IF(D41="", C41, IFERROR(C41-D41, 0)) -> 0 | H41: =IF($C$4="No",0,IF('Project Information'!$C$15=0,0,(C41)*'Project Information'!$H$8)) -> 0
A42: Subtotal | C42: =SUM(C30:C41) -> 0 | D42: =SUM(D30:D41) -> 0 | E42: =C42-D42 -> 0 | H42: =SUM(H30:H41) -> 0
A44: Professional Fees
...

Sheet Sources of Funds Worksheet
A1: FHLBank Topeka - - Affordable Housing Program
A2: Sources of Funds Worksheet
A3: Blue shaded areas indicate data to be entered by applicant. | R3: Type | T3: Status
A4: Permanent Financing | C4: Type (Loan, Grant or Equity) | D4: Amount | E4: Rate | F4: Term in Months | G4: Amortized in Months | H4: Loan Fees (Origination, Discount Points, etc) | I4: Loan Type | J4: Monthly Debt Service | K4: Annual Debt Service | L4: Monthly Debt vs Validation | N4: Validation | O4: Payment Comparison | P4: Hard debt Y or N | S4: Description Code | T4: Approved Y or N | U4: Term in years | V4: Amort Pd in Yrs | AL4: Loan Fee % | AM4: Fee Amts | AN4: Soft debt payments | AO4: HARD DEBT PAYMENTS | AP4: TOTAL HARD DEBT PAYMENTS | AQ4: Perm Loan Int Rate (15yr) | AR4: Perm Loan Int Rate (30yr)
A5: FHLB AHP Subsidized Advance, or | K5: =IF(ISNUMBER(J5),J5*12,IF(J5="N/A","","")) | L5: =IF(ABS(O5-100%)>2.5%,"Error, 'PMT' Does Not Equal 'Terms' ","") -> #NUM! | N5: =ROUND((PMT(E5/12,G5,D5)*-1),2) -> #NUM! | O5: =N5/J5 -> #NUM! | P5: =IF(OR(I5="deferred",I5="Cash Flow Payments"),"N",IF(OR(I5="P&I Payments",I5="Interest Only"),"Y","")) | Q5: Loan w Debt Serv | R5: Column1 | T5: N | U5: =F5/12 -> 0 | V5: =G5/12 -> 0 | W5: 1 | X5: 2 | Y5: 3 | Z5: 4 | AA5: 5 | AB5: 6 | AC5: 7 | AD5: 8 | AE5: 9 | AF5: 10 | AG5: 11 | AH5: 12 | AI5: 13 | AJ5: 14 | AK5: 15 | AO5: =IF(P5="Y",K5,"")
A6: FHLB AHP Direct Subsidy | C6: Grant | K6: =IF(ISNUMBER(J6),J6*12,IF(J6="N/A","","")) | P6: =IF(OR(I6="deferred",I6="Cash Flow Payments"),"N",IF(OR(I6="P&I Payments",I6="Interest Only"),"Y","")) | Q6: Grant | R6: Approved | S6: 1 | T6: N | U6: =F6/12 -> 0 | V6: =G6/12 -> 0 | AL6: =IF(AND(D7>0,C7="Loan"),H7/D7,0) -> 0 | AM6: =H7 -> 0 | AO6: =IF(P6="Y",K6,"") | AQ6: =IF(AND(OR(I7="P&I Payments",I7="Interest Only"),G7<=180),E7,0) -> 0 | AR6: =IF(AND(OR(I7="P&I Payments",I7="Interest Only"),G7>180),E7,0) -> 0
A7: Permanent Loan* | C7: Loan | K7: =IF(ISNUMBER(J7),J7*12,IF(J7="N/A","","")) | L7: =IF(ABS(O7-100%)>2.5%,"Error, 'PMT' Does Not Equal 'Terms' ","") -> #NUM! | N7: =ROUND(IF(I7="Interest Only",(D7*E7)/12,PMT(E7/12,G7,D7)*-1),2) -> #NUM! | O7: =N7/J7 -> #NUM! | P7: =IF(OR(I7="deferred",I7="Cash Flow Payments"),"N",IF(OR(I7="P&I Payments",I7="Interest Only"),"Y","")) | Q7: Equity | R7: Requested | S7: 2 | T7: =IF(D7>0,"Y","N") -> N | U7: =F7/12 -> 0 | V7: =G7/12 -> 0 | W7: =IF(F7>11.9,IF(OR(I7="Interest Only",I7="P&I Payments"),K7,0),0) -> 0 | X7: =IF($F7>(11.99*X$5),(IF(OR(I7="Interest Only",I7="P&I Payments"),K7,0)),0) -> 0 | Y7: =IF($F7>(11.99*Y$5),(IF(OR(I7="Interest Only",I7="P&I Payments"),K7,0)),0) -> 0 | Z7: =IF($F7>(11.99*Z$5),(IF(OR(I7="Interest Only",I7="P&I Payments"),K7,0)),0) -> 0 | AA7: =IF($F7>(11.99*AA$5),(IF(OR(I7="Interest Only",I7="P&I Payments"),K7,0)),0) -> 0 | AB7: =IF($F7>(11.99*AB$5),(IF(OR(I7="Interest Only",I7="P&I Payments"),K7,0)),0) -> 0 | AC7: =IF($F7>(11.99*AC$5),(IF(OR(I7="Interest Only",I7="P&I Payments"),K7,0)),0) -> 0 | AD7: =IF($F7>(11.99*AD$5),(IF(OR(I7="Interest Only",I7="P&I Payments"),K7,0)),0) -> 0 | AE7: =IF($F7>(11.99*AE$5),(IF(OR(I7="Interest Only",I7="P&I Payments"),K7,0)),0) -> 0 | AF7: =IF($F7>(11.99*AF$5),(IF(OR(I7="Interest Only",I7="P&I Payments"),K7,0)),0) -> 0 | AG7: =IF($F7>(11.99*AG$5),(IF(OR(I7="Interest Only",I7="P&I Payments"),K7,0)),0) -> 0 | AH7: =IF($F7>(11.99*AH$5),(IF(OR(I7="Interest Only",I7="P&I Payments"),K7,0)),0) -> 0 | AI7: =IF($F7>(11.99*AI$5),(IF(OR(I7="Interest Only",I7="P&I Payments"),K7,0)),0) -> 0 | AJ7: =IF($F7>(11.99*AJ$5),(IF(OR(I7="Interest Only",I7="P&I Payments"),K7,0)),0) -> 0 | AK7: =IF($F7>(11.99*AK$5),(IF(OR(I7="Interest Only",I7="P&I Payments"),K7,0)),0) -> 0 | AL7: =IF(AND(D8>0,C8="Loan"),H8/D8,0) -> 0 | AM7: =H8 -> 0 | AO7: =IF(P7="Y",K7,"") | AQ7: =IF(AND(OR(I8="P&I Payments",I8="Interest Only"),G8<=180),E8,0) -> 0 | AR7: =IF(AND(OR(I8="P&I Payments",I8="Interest Only"),G8>180),E8,0) -> 0
A8: LIHTC | C8: Equity | K8: =IF(ISNUMBER(J8),J8*12,IF(J8="N/A","","")) | L8: =IF(ABS(O8-100%)>2.5%,"Error, 'PMT' Does Not Equal 'Terms' ","") -> #NUM! | N8: =ROUND(IF(I8="Interest Only",(D8*E8)/12,PMT(E8/12,G8,D8)*-1),2) -> #NUM! | O8: =N8/J8 -> #NUM! | P8: =IF(OR(I8="deferred",I8="Cash Flow Payments"),"N",IF(OR(I8="P&I Payments",I8="Interest Only"),"Y","")) | Q8: Tax Credit | S8: 4 | T8: =IF(D8>0,"Y","N") -> N | U8: =F8/12 -> 0 | V8: =G8/12 -> 0 | W8: =IF(F8>11.9,IF(OR(I8="Interest Only",I8="P&I Payments"),K8,0),0) -> 0 | X8: =IF($F8>(11.99*X$5),(IF(OR(I8="Interest Only",I8="P&I Payments"),K8,0)),0) -> 0 | Y8: =IF($F8>(11.99*Y$5),(IF(OR(I8="Interest Only",I8="P&I Payments"),K8,0)),0) -> 0 | Z8: =IF($F8>(11.99*Z$5),(IF(OR(I8="Interest Only",I8="P&I Payments"),K8,0)),0) -> 0 | AA8: =IF($F8>(11.99*AA$5),(IF(OR(I8="Interest Only",I8="P&I Payments"),K8,0)),0) -> 0 | AB8: =IF($F8>(11.99*AB$5),(IF(OR(I8="Interest Only",I8="P&I Payments"),K8,0)),0) -> 0 | AC8: =IF($F8>(11.99*AC$5),(IF(OR(I8="Interest Only",I8="P&I Payments"),K8,0)),0) -> 0 | AD8: =IF($F8>(11.99*AD$5),(IF(OR(I8="Interest Only",I8="P&I Payments"),K8,0)),0) -> 0 | AE8: =IF($F8>(11.99*AE$5),(IF(OR(I8="Interest Only",I8="P&I Payments"),K8,0)),0) -> 0 | AF8: =IF($F8>(11.99*AF$5),(IF(OR(I8="Interest Only",I8="P&I Payments"),K8,0)),0) -> 0 | AG8: =IF($F8>(11.99*AG$5),(IF(OR(I8="Interest Only",I8="P&I Payments"),K8,0)),0) -> 0 | AH8: =IF($F8>(11.99*AH$5),(IF(OR(I8="Interest Only",I8="P&I Payments"),K8,0)),0) -> 0 | AI8: =IF($F8>(11.99*AI$5),(IF(OR(I8="Interest Only",I8="P&I Payments"),K8,0)),0) -> 0 | AJ8: =IF($F8>(11.99*AJ$5),(IF(OR(I8="Interest Only",I8="P&I Payments"),K8,0)),0) -> 0 | AK8: =IF($F8>(11.99*AK$5),(IF(OR(I8="Interest Only",I8="P&I Payments"),K8,0)),0) -> 0 | AL8: =IF(AND(D9>0,C9="Loan"),H9/D9,0) -> 0 | AM8: =H9 -> 0 | AO8: =IF(P8="Y",K8,"") | AQ8: =IF(AND(OR(I9="P&I Payments",I9="Interest Only"),G9<=180),E9,0) -> 0 | AR8: =IF(AND(OR(I9="P&I Payments",I9="Interest Only"),G9>180),E9,0) -> 0
A9: Owner Equity | C9: Equity | K9: =IF(ISNUMBER(J9),J9*12,IF(J9="N/A","","")) | L9: =IF(ABS(O9-100%)>2.5%,"Error, 'PMT' Does Not Equal 'Terms' ","") -> #NUM! | N9: =ROUND(IF(I9="Interest Only",(D9*E9)/12,PMT(E9/12,G9,D9)*-1),2) -> #NUM! | O9: =N9/J9 -> #NUM! | P9: =IF(OR(I9="deferred",I9="Cash Flow Payments"),"N",IF(OR(I9="P&I Payments",I9="Interest Only"),"Y","")) | Q9: Loan w/o Debt Serv | S9: 18 | T9: =IF(D9>0,"Y","N") -> N | U9: =F9/12 -> 0 | V9: =G9/12 -> 0 | W9: =IF(F9>11.9,IF(OR(I9="Interest Only",I9="P&I Payments"),K9,0),0) -> 0 | X9: =IF($F9>(11.99*X$5),(IF(OR(I9="Interest Only",I9="P&I Payments"),K9,0)),0) -> 0 | Y9: =IF($F9>(11.99*Y$5),(IF(OR(I9="Interest Only",I9="P&I Payments"),K9,0)),0) -> 0 | Z9: =IF($F9>(11.99*Z$5),(IF(OR(I9="Interest Only",I9="P&I Payments"),K9,0)),0) -> 0 | AA9: =IF($F9>(11.99*AA$5),(IF(OR(I9="Interest Only",I9="P&I Payments"),K9,0)),0) -> 0 | AB9: =IF($F9>(11.99*AB$5),(IF(OR(I9="Interest Only",I9="P&I Payments"),K9,0)),0) -> 0 | AC9: =IF($F9>(11.99*AC$5),(IF(OR(I9="Interest Only",I9="P&I Payments"),K9,0)),0) -> 0 | AD9: =IF($F9>(11.99*AD$5),(IF(OR(I9="Interest Only",I9="P&I Payments"),K9,0)),0) -> 0 | AE9: =IF($F9>(11.99*AE$5),(IF(OR(I9="Interest Only",I9="P&I Payments"),K9,0)),0) -> 0 | AF9: =IF($F9>(11.99*AF$5),(IF(OR(I9="Interest Only",I9="P&I Payments"),K9,0)),0) -> 0 | AG9: =IF($F9>(11.99*AG$5),(IF(OR(I9="Interest Only",I9="P&I Payments"),K9,0)),0) -> 0 | AH9: =IF($F9>(11.99*AH$5),(IF(OR(I9="Interest Only",I9="P&I Payments"),K9,0)),0) -> 0 | AI9: =IF($F9>(11.99*AI$5),(IF(OR(I9="Interest Only",I9="P&I Payments"),K9,0)),0) -> 0 | AJ9: =IF($F9>(11.99*AJ$5),(IF(OR(I9="Interest Only",I9="P&I Payments"),K9,0)),0) -> 0 | AK9: =IF($F9>(11.99*AK$5),(IF(OR(I9="Interest Only",I9="P&I Payments"),K9,0)),0) -> 0 | AL9: =IF(AND(D10>0,C10="Loan"),H10/D10,0) -> 0 | AM9: =H10 -> 0 | AO9: =IF(P9="Y",K9,"") | AQ9: =IF(AND(OR(I10="P&I Payments",I10="Interest Only"),G10<=180),E10,0) -> 0 | AR9: =IF(AND(OR(I10="P&I Payments",I10="Interest Only"),G10>180),E10,0) -> 0
A10: Deferred Developer Fee | C10: Loan | K10: =IF(ISNUMBER(J10),J10*12,IF(J10="N/A","","")) | L10: =IF(ABS(O10-100%)>2.5%,"Error, 'PMT' Does Not Equal 'Terms' ","") -> #NUM! | N10: =ROUND(IF(I10="Interest Only",(D10*E10)/12,PMT(E10/12,G10,D10)*-1),2) -> #NUM! | O10: =N10/J10 -> #NUM! | P10: =IF(OR(I10="deferred",I10="Cash Flow Payments"),"N",IF(OR(I10="P&I Payments",I10="Interest Only"),"Y","")) | S10: 19 | T10: =IF(D10>0,"Y","N") -> N | U10: =F10/12 -> 0 | V10: =G10/12 -> 0 | W10: =IF(F10>11.9,IF(OR(I10="Interest Only",I10="P&I Payments"),K10,0),0) -> 0 | X10: =IF($F10>(11.99*X$5),(IF(OR(I10="Interest Only",I10="P&I Payments"),K10,0)),0) -> 0 | Y10: =IF($F10>(11.99*Y$5),(IF(OR(I10="Interest Only",I10="P&I Payments"),K10,0)),0) -> 0 | Z10: =IF($F10>(11.99*Z$5),(IF(OR(I10="Interest Only",I10="P&I Payments"),K10,0)),0) -> 0 | AA10: =IF($F10>(11.99*AA$5),(IF(OR(I10="Interest Only",I10="P&I Payments"),K10,0)),0) -> 0 | AB10: =IF($F10>(11.99*AB$5),(IF(OR(I10="Interest Only",I10="P&I Payments"),K10,0)),0) -> 0 | AC10: =IF($F10>(11.99*AC$5),(IF(OR(I10="Interest Only",I10="P&I Payments"),K10,0)),0) -> 0 | AD10: =IF($F10>(11.99*AD$5),(IF(OR(I10="Interest Only",I10="P&I Payments"),K10,0)),0) -> 0 | AE10: =IF($F10>(11.99*AE$5),(IF(OR(I10="Interest Only",I10="P&I Payments"),K10,0)),0) -> 0 | AF10: =IF($F10>(11.99*AF$5),(IF(OR(I10="Interest Only",I10="P&I Payments"),K10,0)),0) -> 0 | AG10: =IF($F10>(11.99*AG$5),(IF(OR(I10="Interest Only",I10="P&I Payments"),K10,0)),0) -> 0 | AH10: =IF($F10>(11.99*AH$5),(IF(OR(I10="Interest Only",I10="P&I Payments"),K10,0)),0) -> 0 | AI10: =IF($F10>(11.99*AI$5),(IF(OR(I10="Interest Only",I10="P&I Payments"),K10,0)),0) -> 0 | AJ10: =IF($F10>(11.99*AJ$5),(IF(OR(I10="Interest Only",I10="P&I Payments"),K10,0)),0) -> 0 | AK10: =IF($F10>(11.99*AK$5),(IF(OR(I10="Interest Only",I10="P&I Payments"),K10,0)),0) -> 0 | AL10: =IF(AND(D11>0,C11="Loan"),H11/D11,0) -> 0 | AM10: =H11 -> 0 | AO10: =IF(P10="Y",K10,"") | AQ10: =IF(AND(OR(I11="P&I Payments",I11="Interest Only"),G11<=180),E11,0) -> 0 | AR10: =IF(AND(OR(I11="P&I Payments",I11="Interest Only"),G11>180),E11,0) -> 0
A11: HOME | K11: =IF(ISNUMBER(J11),J11*12,IF(J11="N/A","","")) | L11: =IF(ABS(O11-100%)>2.5%,"Error, 'PMT' Does Not Equal 'Terms' ","") -> #NUM! | N11: =ROUND(IF(I11="Interest Only",(D11*E11)/12,PMT(E11/12,G11,D11)*-1),2) -> #NUM! | O11: =N11/J11 -> #NUM! | P11: =IF(OR(I11="deferred",I11="Cash Flow Payments"),"N",IF(OR(I11="P&I Payments",I11="Interest Only"),"Y","")) | Q11: =IF(D5>0,"AHP Subsidized Advance","AHP Direct Subsidy") -> AHP Direct Subsidy | R11: =D5+D6 -> 0 | S11: 8 | T11: =IF(D11>0,"Y","N") -> N | U11: =F11/12 -> 0 | V11: =G11/12 -> 0 | W11: =IF(F11>11.9,IF(OR(I11="Interest Only",I11="P&I Payments"),K11,0),0) -> 0 | X11: =IF($F11>(11.99*X$5),(IF(OR(I11="Interest Only",I11="P&I Payments"),K11,0)),0) -> 0 | Y11: =IF($F11>(11.99*Y$5),(IF(OR(I11="Interest Only",I11="P&I Payments"),K11,0)),0) -> 0 | Z11: =IF($F11>(11.99*Z$5),(IF(OR(I11="Interest Only",I11="P&I Payments"),K11,0)),0) -> 0 | AA11: =IF($F11>(11.99*AA$5),(IF(OR(I11="Interest Only",I11="P&I Payments"),K11,0)),0) -> 0 | AB11: =IF($F11>(11.99*AB$5),(IF(OR(I11="Interest Only",I11="P&I Payments"),K11,0)),0) -> 0 | AC11: =IF($F11>(11.99*AC$5),(IF(OR(I11="Interest Only",I11="P&I Payments"),K11,0)),0) -> 0 | AD11: =IF($F11>(11.99*AD$5),(IF(OR(I11="Interest Only",I11="P&I Payments"),K11,0)),0) -> 0 | AE11: =IF($F11>(11.99*AE$5),(IF(OR(I11="Interest Only",I11="P&I Payments"),K11,0)),0) -> 0 | AF11: =IF($F11>(11.99*AF$5),(IF(OR(I11="Interest Only",I11="P&I Payments"),K11,0)),0) -> 0 | AG11: =IF($F11>(11.99*AG$5),(IF(OR(I11="Interest Only",I11="P&I Payments"),K11,0)),0) -> 0 | AH11: =IF($F11>(11.99*AH$5),(IF(OR(I11="Interest Only",I11="P&I Payments"),K11,0)),0) -> 0 | AI11: =IF($F11>(11.99*AI$5),(IF(OR(I11="Interest Only",I11="P&I Payments"),K11,0)),0) -> 0 | AJ11: =IF($F11>(11.99*AJ$5),(IF(OR(I11="Interest Only",I11="P&I Payments"),K11,0)),0) -> 0 | AK11: =IF($F11>(11.99*AK$5),(IF(OR(I11="Interest Only",I11="P&I Payments"),K11,0)),0) -> 0 | AL11: =IF(AND(D12>0,C12="Loan"),H12/D12,0) -> 0 | AM11: =H12 -> 0 | AO11: =IF(P11="Y",K11,"") | AQ11: =IF(AND(OR(I12="P&I Payments",I12="Interest Only"),G12<=180),E12,0) -> 0 | AR11: =IF(AND(OR(I12="P&I Payments",I12="Interest Only"),G12>180),E12,0) -> 0
K12: =IF(ISNUMBER(J12),J12*12,IF(J12="N/A","","")) | L12: =IF(ABS(O12-100%)>2.5%,"Error, 'PMT' Does Not Equal 'Terms' ","") -> #NUM! | N12: =ROUND(IF(I12="Interest Only",(D12*E12)/12,PMT(E12/12,G12,D12)*-1),2) -> #NUM! | O12: =N12/J12 -> #NUM! | P12: =IF(OR(I12="deferred",I12="Cash Flow Payments"),"N",IF(OR(I12="P&I Payments",I12="Interest Only"),"Y","")) | S12: =IF(C12="Equity",21,IF(C12="Loan",16,IF(C12="Grant",20,"NA"))) -> NA | T12: =IF(D12>0,"Y","N") -> N | U12: =F12/12 -> 0 | V12: =G12/12 -> 0 | W12: =IF(F12>11.9,IF(OR(I12="Interest Only",I12="P&I Payments"),K12,0),0) -> 0 | X12: =IF($F12>(11.99*X$5),(IF(OR(I12="Interest Only",I12="P&I Payments"),K12,0)),0) -> 0 | Y12: =IF($F12>(11.99*Y$5),(IF(OR(I12="Interest Only",I12="P&I Payments"),K12,0)),0) -> 0 | Z12: =IF($F12>(11.99*Z$5),(IF(OR(I12="Interest Only",I12="P&I Payments"),K12,0)),0) -> 0 | AA12: =IF($F12>(11.99*AA$5),(IF(OR(I12="Interest Only",I12="P&I Payments"),K12,0)),0) -> 0 | AB12: =IF($F12>(11.99*AB$5),(IF(OR(I12="Interest Only",I12="P&I Payments"),K12,0)),0) -> 0 | AC12: =IF($F12>(11.99*AC$5),(IF(OR(I12="Interest Only",I12="P&I Payments"),K12,0)),0) -> 0 | AD12: =IF($F12>(11.99*AD$5),(IF(OR(I12="Interest Only",I12="P&I Payments"),K12,0)),0) -> 0 | AE12: =IF($F12>(11.99*AE$5),(IF(OR(I12="Interest Only",I12="P&I Payments"),K12,0)),0) -> 0 | AF12: =IF($F12>(11.99*AF$5),(IF(OR(I12="Interest Only",I12="P&I Payments"),K12,0)),0) -> 0 | AG12: =IF($F12>(11.99*AG$5),(IF(OR(I12="Interest Only",I12="P&I Payments"),K12,0)),0) -> 0 | AH12: =IF($F12>(11.99*AH$5),(IF(OR(I12="Interest Only",I12="P&I Payments"),K12,0)),0) -> 0 | AI12: =IF($F12>(11.99*AI$5),(IF(OR(I12="Interest Only",I12="P&I Payments"),K12,0)),0) -> 0 | AJ12: =IF($F12>(11.99*AJ$5),(IF(OR(I12="Interest Only",I12="P&I Payments"),K12,0)),0) -> 0 | AK12: =IF($F12>(11.99*AK$5),(IF(OR(I12="Interest Only",I12="P&I Payments"),K12,0)),0) -> 0 | AL12: =IF(AND(D13>0,C13="Loan"),H13/D13,0) -> 0 | AM12: =H13 -> 0 | AO12: =IF(P12="Y",K12,"") | AQ12: =IF(AND(OR(I13="P&I Payments",I13="Interest Only"),G13<=180),E13,0) -> 0 | AR12: =IF(AND(OR(I13="P&I Payments",I13="Interest Only"),G13>180),E13,0) -> 0
K13: =IF(ISNUMBER(J13),J13*12,IF(J13="N/A","","")) | L13: =IF(ABS(O13-100%)>2.5%,"Error, 'PMT' Does Not Equal 'Terms' ","") -> #NUM! | N13: =ROUND(IF(I13="Interest Only",(D13*E13)/12,PMT(E13/12,G13,D13)*-1),2) -> #NUM! | O13: =N13/J13 -> #NUM! | P13: =IF(OR(I13="deferred",I13="Cash Flow Payments"),"N",IF(OR(I13="P&I Payments",I13="Interest Only"),"Y","")) | S13: =IF(C13="Equity",21,IF(C13="Loan",16,IF(C13="Grant",20,"NA"))) -> NA | T13: =IF(D13>0,"Y","N") -> N | U13: =F13/12 -> 0 | V13: =G13/12 -> 0 | W13: =IF(F13>11.9,IF(OR(I13="Interest Only",I13="P&I Payments"),K13,0),0) -> 0 | X13: =IF($F13>(11.99*X$5),(IF(OR(I13="Interest Only",I13="P&I Payments"),K13,0)),0) -> 0 | Y13: =IF($F13>(11.99*Y$5),(IF(OR(I13="Interest Only",I13="P&I Payments"),K13,0)),0) -> 0 | Z13: =IF($F13>(11.99*Z$5),(IF(OR(I13="Interest Only",I13="P&I Payments"),K13,0)),0) -> 0 | AA13: =IF($F13>(11.99*AA$5),(IF(OR(I13="Interest Only",I13="P&I Payments"),K13,0)),0) -> 0 | AB13: =IF($F13>(11.99*AB$5),(IF(OR(I13="Interest Only",I13="P&I Payments"),K13,0)),0) -> 0 | AC13: =IF($F13>(11.99*AC$5),(IF(OR(I13="Interest Only",I13="P&I Payments"),K13,0)),0) -> 0 | AD13: =IF($F13>(11.99*AD$5),(IF(OR(I13="Interest Only",I13="P&I Payments"),K13,0)),0) -> 0 | AE13: =IF($F13>(11.99*AE$5),(IF(OR(I13="Interest Only",I13="P&I Payments"),K13,0)),0) -> 0 | AF13: =IF($F13>(11.99*AF$5),(IF(OR(I13="Interest Only",I13="P&I Payments"),K13,0)),0) -> 0 | AG13: =IF($F13>(11.99*AG$5),(IF(OR(I13="Interest Only",I13="P&I Payments"),K13,0)),0) -> 0 | AH13: =IF($F13>(11.99*AH$5),(IF(OR(I13="Interest Only",I13="P&I Payments"),K13,0)),0) -> 0 | AI13: =IF($F13>(11.99*AI$5),(IF(OR(I13="Interest Only",I13="P&I Payments"),K13,0)),0) -> 0 | AJ13: =IF($F13>(11.99*AJ$5),(IF(OR(I13="Interest Only",I13="P&I Payments"),K13,0)),0) -> 0 | AK13: =IF($F13>(11.99*AK$5),(IF(OR(I13="Interest Only",I13="P&I Payments"),K13,0)),0) -> 0 | AL13: =IF(AND(D14>0,C14="Loan"),H14/D14,0) -> 0 | AM13: =H14 -> 0 | AO13: =IF(P13="Y",K13,"") | AQ13: =IF(AND(OR(I14="P&I Payments",I14="Interest Only"),G14<=180),E14,0) -> 0 | AR13: =IF(AND(OR(I14="P&I Payments",I14="Interest Only"),G14>180),E14,0) -> 0
K14: =IF(ISNUMBER(J14),J14*12,IF(J14="N/A","","")) | L14: =IF(ABS(O14-100%)>2.5%,"Error, 'PMT' Does Not Equal 'Terms' ","") -> #NUM! | N14: =ROUND(IF(I14="Interest Only",(D14*E14)/12,PMT(E14/12,G14,D14)*-1),2) -> #NUM! | O14: =N14/J14 -> #NUM! | P14: =IF(OR(I14="deferred",I14="Cash Flow Payments"),"N",IF(OR(I14="P&I Payments",I14="Interest Only"),"Y","")) | S14: =IF(C14="Equity",21,IF(C14="Loan",16,IF(C14="Grant",20,"NA"))) -> NA | T14: =IF(D14>0,"Y","N") -> N | U14: =F14/12 -> 0 | V14: =G14/12 -> 0 | W14: =IF(F14>11.9,IF(OR(I14="Interest Only",I14="P&I Payments"),K14,0),0) -> 0 | X14: =IF($F14>(11.99*X$5),(IF(OR(I14="Interest Only",I14="P&I Payments"),K14,0)),0) -> 0 | Y14: =IF($F14>(11.99*Y$5),(IF(OR(I14="Interest Only",I14="P&I Payments"),K14,0)),0) -> 0 | Z14: =IF($F14>(11.99*Z$5),(IF(OR(I14="Interest Only",I14="P&I Payments"),K14,0)),0) -> 0 | AA14: =IF($F14>(11.99*AA$5),(IF(OR(I14="Interest Only",I14="P&I Payments"),K14,0)),0) -> 0 | AB14: =IF($F14>(11.99*AB$5),(IF(OR(I14="Interest Only",I14="P&I Payments"),K14,0)),0) -> 0 | AC14: =IF($F14>(11.99*AC$5),(IF(OR(I14="Interest Only",I14="P&I Payments"),K14,0)),0) -> 0 | AD14: =IF($F14>(11.99*AD$5),(IF(OR(I14="Interest Only",I14="P&I Payments"),K14,0)),0) -> 0 | AE14: =IF($F14>(11.99*AE$5),(IF(OR(I14="Interest Only",I14="P&I Payments"),K14,0)),0) -> 0 | AF14: =IF($F14>(11.99*AF$5),(IF(OR(I14="Interest Only",I14="P&I Payments"),K14,0)),0) -> 0 | AG14: =IF($F14>(11.99*AG$5),(IF(OR(I14="Interest Only",I14="P&I Payments"),K14,0)),0) -> 0 | AH14: =IF($F14>(11.99*AH$5),(IF(OR(I14="Interest Only",I14="P&I Payments"),K14,0)),0) -> 0 | AI14: =IF($F14>(11.99*AI$5),(IF(OR(I14="Interest Only",I14="P&I Payments"),K14,0)),0) -> 0 | AJ14: =IF($F14>(11.99*AJ$5),(IF(OR(I14="Interest Only",I14="P&I Payments"),K14,0)),0) -> 0 | AK14: =IF($F14>(11.99*AK$5),(IF(OR(I14="Interest Only",I14="P&I Payments"),K14,0)),0) -> 0 | AL14: =IF(AND(D15>0,C15="Loan"),H15/D15,0) -> 0 | AM14: =H15 -> 0 | AO14: =IF(P14="Y",K14,"") | AQ14: =IF(AND(OR(I15="P&I Payments",I15="Interest Only"),G15<=180),E15,0) -> 0 | AR14: =IF(AND(OR(I15="P&I Payments",I15="Interest Only"),G15>180),E15,0) -> 0
K15: =IF(ISNUMBER(J15),J15*12,IF(J15="N/A","","")) | L15: =IF(ABS(O15-100%)>2.5%,"Error, 'PMT' Does Not Equal 'Terms' ","") -> #NUM! | N15: =ROUND(IF(I15="Interest Only",(D15*E15)/12,PMT(E15/12,G15,D15)*-1),2) -> #NUM! | O15: =N15/J15 -> #NUM! | P15: =IF(OR(I15="deferred",I15="Cash Flow Payments"),"N",IF(OR(I15="P&I Payments",I15="Interest Only"),"Y","")) | S15: =IF(C15="Equity",21,IF(C15="Loan",16,IF(C15="Grant",20,"NA"))) -> NA | T15: =IF(D15>0,"Y","N") -> N | U15: =F15/12 -> 0 | V15: =G15/12 -> 0 | W15: =IF(F15>11.9,IF(OR(I15="Interest Only",I15="P&I Payments"),K15,0),0) -> 0 | X15: =IF($F15>(11.99*X$5),(IF(OR(I15="Interest Only",I15="P&I Payments"),K15,0)),0) -> 0 | Y15: =IF($F15>(11.99*Y$5),(IF(OR(I15="Interest Only",I15="P&I Payments"),K15,0)),0) -> 0 | Z15: =IF($F15>(11.99*Z$5),(IF(OR(I15="Interest Only",I15="P&I Payments"),K15,0)),0) -> 0 | AA15: =IF($F15>(11.99*AA$5),(IF(OR(I15="Interest Only",I15="P&I Payments"),K15,0)),0) -> 0 | AB15: =IF($F15>(11.99*AB$5),(IF(OR(I15="Interest Only",I15="P&I Payments"),K15,0)),0) -> 0 | AC15: =IF($F15>(11.99*AC$5),(IF(OR(I15="Interest Only",I15="P&I Payments"),K15,0)),0) -> 0 | AD15: =IF($F15>(11.99*AD$5),(IF(OR(I15="Interest Only",I15="P&I Payments"),K15,0)),0) -> 0 | AE15: =IF($F15>(11.99*AE$5),(IF(OR(I15="Interest Only",I15="P&I Payments"),K15,0)),0) -> 0 | AF15: =IF($F15>(11.99*AF$5),(IF(OR(I15="Interest Only",I15="P&I Payments"),K15,0)),0) -> 0 | AG15: =IF($F15>(11.99*AG$5),(IF(OR(I15="Interest Only",I15="P&I Payments"),K15,0)),0) -> 0 | AH15: =IF($F15>(11.99*AH$5),(IF(OR(I15="Interest Only",I15="P&I Payments"),K15,0)),0) -> 0 | AI15: =IF($F15>(11.99*AI$5),(IF(OR(I15="Interest Only",I15="P&I Payments"),K15,0)),0) -> 0 | AJ15: =IF($F15>(11.99*AJ$5),(IF(OR(I15="Interest Only",I15="P&I Payments"),K15,0)),0) -> 0 | AK15: =IF($F15>(11.99*AK$5),(IF(OR(I15="Interest Only",I15="P&I Payments"),K15,0)),0) -> 0 | AL15: =IF(AND(D16>0,C16="Loan"),H16/D16,0) -> 0 | AM15: =H16 -> 0 | AO15: =IF(P15="Y",K15,"") | AQ15: =IF(AND(OR(I16="P&I Payments",I16="Interest Only"),G16<=180),E16,0) -> 0 | AR15: =IF(AND(OR(I16="P&I Payments",I16="Interest Only"),G16>180),E16,0) -> 0
K16: =IF(ISNUMBER(J16),J16*12,IF(J16="N/A","","")) | L16: =IF(ABS(O16-100%)>2.5%,"Error, 'PMT' Does Not Equal 'Terms' ","") -> #NUM! | N16: =ROUND(IF(I16="Interest Only",(D16*E16)/12,PMT(E16/12,G16,D16)*-1),2) -> #NUM! | O16: =N16/J16 -> #NUM! | P16: =IF(OR(I16="deferred",I16="Cash Flow Payments"),"N",IF(OR(I16="P&I Payments",I16="Interest Only"),"Y","")) | S16: =IF(C16="Equity",21,IF(C16="Loan",16,IF(C16="Grant",20,"NA"))) -> NA | T16: =IF(D16>0,"Y","N") -> N | U16: =F16/12 -> 0 | V16: =G16/12 -> 0 | W16: =IF(F16>11.9,IF(OR(I16="Interest Only",I16="P&I Payments"),K16,0),0) -> 0 | X16: =IF($F16>(11.99*X$5),(IF(OR(I16="Interest Only",I16="P&I Payments"),K16,0)),0) -> 0 | Y16: =IF($F16>(11.99*Y$5),(IF(OR(I16="Interest Only",I16="P&I Payments"),K16,0)),0) -> 0 | Z16: =IF($F16>(11.99*Z$5),(IF(OR(I16="Interest Only",I16="P&I Payments"),K16,0)),0) -> 0 | AA16: =IF($F16>(11.99*AA$5),(IF(OR(I16="Interest Only",I16="P&I Payments"),K16,0)),0) -> 0 | AB16: =IF($F16>(11.99*AB$5),(IF(OR(I16="Interest Only",I16="P&I Payments"),K16,0)),0) -> 0 | AC16: =IF($F16>(11.99*AC$5),(IF(OR(I16="Interest Only",I16="P&I Payments"),K16,0)),0) -> 0 | AD16: =IF($F16>(11.99*AD$5),(IF(OR(I16="Interest Only",I16="P&I Payments"),K16,0)),0) -> 0 | AE16: =IF($F16>(11.99*AE$5),(IF(OR(I16="Interest Only",I16="P&I Payments"),K16,0)),0) -> 0 | AF16: =IF($F16>(11.99*AF$5),(IF(OR(I16="Interest Only",I16="P&I Payments"),K16,0)),0) -> 0 | AG16: =IF($F16>(11.99*AG$5),(IF(OR(I16="Interest Only",I16="P&I Payments"),K16,0)),0) -> 0 | AH16: =IF($F16>(11.99*AH$5),(IF(OR(I16="Interest Only",I16="P&I Payments"),K16,0)),0) -> 0 | AI16: =IF($F16>(11.99*AI$5),(IF(OR(I16="Interest Only",I16="P&I Payments"),K16,0)),0) -> 0 | AJ16: =IF($F16>(11.99*AJ$5),(IF(OR(I16="Interest Only",I16="P&I Payments"),K16,0)),0) -> 0 | AK16: =IF($F16>(11.99*AK$5),(IF(OR(I16="Interest Only",I16="P&I Payments"),K16,0)),0) -> 0 | AL16: =IF(AND(D17>0,C17="Loan"),H17/D17,0) -> 0 | AM16: =H17 -> 0 | AO16: =IF(P16="Y",K16,"") | AQ16: =IF(AND(OR(I17="P&I Payments",I17="Interest Only"),G17<=180),E17,0) -> 0 | AR16: =IF(AND(OR(I17="P&I Payments",I17="Interest Only"),G17>180),E17,0) -> 0
K17: =IF(ISNUMBER(J17),J17*12,IF(J17="N/A","","")) | L17: =IF(ABS(O17-100%)>2.5%,"Error, 'PMT' Does Not Equal 'Terms' ","") -> #NUM! | N17: =ROUND(IF(I17="Interest Only",(D17*E17)/12,PMT(E17/12,G17,D17)*-1),2) -> #NUM! | O17: =N17/J17 -> #NUM! | P17: =IF(OR(I17="deferred",I17="Cash Flow Payments"),"N",IF(OR(I17="P&I Payments",I17="Interest Only"),"Y","")) | S17: =IF(C17="Equity",21,IF(C17="Loan",16,IF(C17="Grant",20,"NA"))) -> NA | T17: =IF(D17>0,"Y","N") -> N | U17: =F17/12 -> 0 | V17: =G17/12 -> 0 | W17: =IF(F17>11.9,IF(OR(I17="Interest Only",I17="P&I Payments"),K17,0),0) -> 0 | X17: =IF($F17>(11.99*X$5),(IF(OR(I17="Interest Only",I17="P&I Payments"),K17,0)),0) -> 0 | Y17: =IF($F17>(11.99*Y$5),(IF(OR(I17="Interest Only",I17="P&I Payments"),K17,0)),0) -> 0 | Z17: =IF($F17>(11.99*Z$5),(IF(OR(I17="Interest Only",I17="P&I Payments"),K17,0)),0) -> 0 | AA17: =IF($F17>(11.99*AA$5),(IF(OR(I17="Interest Only",I17="P&I Payments"),K17,0)),0) -> 0 | AB17: =IF($F17>(11.99*AB$5),(IF(OR(I17="Interest Only",I17="P&I Payments"),K17,0)),0) -> 0 | AC17: =IF($F17>(11.99*AC$5),(IF(OR(I17="Interest Only",I17="P&I Payments"),K17,0)),0) -> 0 | AD17: =IF($F17>(11.99*AD$5),(IF(OR(I17="Interest Only",I17="P&I Payments"),K17,0)),0) -> 0 | AE17: =IF($F17>(11.99*AE$5),(IF(OR(I17="Interest Only",I17="P&I Payments"),K17,0)),0) -> 0 | AF17: =IF($F17>(11.99*AF$5),(IF(OR(I17="Interest Only",I17="P&I Payments"),K17,0)),0) -> 0 | AG17: =IF($F17>(11.99*AG$5),(IF(OR(I17="Interest Only",I17="P&I Payments"),K17,0)),0) -> 0 | AH17: =IF($F17>(11.99*AH$5),(IF(OR(I17="Interest Only",I17="P&I Payments"),K17,0)),0) -> 0 | AI17: =IF($F17>(11.99*AI$5),(IF(OR(I17="Interest Only",I17="P&I Payments"),K17,0)),0) -> 0 | AJ17: =IF($F17>(11.99*AJ$5),(IF(OR(I17="Interest Only",I17="P&I Payments"),K17,0)),0) -> 0 | AK17: =IF($F17>(11.99*AK$5),(IF(OR(I17="Interest Only",I17="P&I Payments"),K17,0)),0) -> 0 | AL17: =IF(AND(D18>0,C18="Loan"),H18/D18,0) -> 0 | AM17: =H18 -> 0 | AO17: =IF(P17="Y",K17,"") | AQ17: =IF(AND(OR(I18="P&I Payments",I18="Interest Only"),G18<=180),E18,0) -> 0 | AR17: =IF(AND(OR(I18="P&I Payments",I18="Interest Only"),G18>180),E18,0) -> 0
K18: =IF(ISNUMBER(J18),J18*12,IF(J18="N/A","","")) | L18: =IF(ABS(O18-100%)>2.5%,"Error, 'PMT' Does Not Equal 'Terms' ","") -> #NUM! | N18: =ROUND(IF(I18="Interest Only",(D18*E18)/12,PMT(E18/12,G18,D18)*-1),2) -> #NUM! | O18: =N18/J18 -> #NUM! | P18: =IF(OR(I18="deferred",I18="Cash Flow Payments"),"N",IF(OR(I18="P&I Payments",I18="Interest Only"),"Y","")) | S18: =IF(C18="Equity",21,IF(C18="Loan",16,IF(C18="Grant",20,"NA"))) -> NA | T18: =IF(D18>0,"Y","N") -> N | U18: =F18/12 -> 0 | V18: =G18/12 -> 0 | W18: =IF(F18>11.9,IF(OR(I18="Interest Only",I18="P&I Payments"),K18,0),0) -> 0 | X18: =IF($F18>(11.99*X$5),(IF(OR(I18="Interest Only",I18="P&I Payments"),K18,0)),0) -> 0 | Y18: =IF($F18>(11.99*Y$5),(IF(OR(I18="Interest Only",I18="P&I Payments"),K18,0)),0) -> 0 | Z18: =IF($F18>(11.99*Z$5),(IF(OR(I18="Interest Only",I18="P&I Payments"),K18,0)),0) -> 0 | AA18: =IF($F18>(11.99*AA$5),(IF(OR(I18="Interest Only",I18="P&I Payments"),K18,0)),0) -> 0 | AB18: =IF($F18>(11.99*AB$5),(IF(OR(I18="Interest Only",I18="P&I Payments"),K18,0)),0) -> 0 | AC18: =IF($F18>(11.99*AC$5),(IF(OR(I18="Interest Only",I18="P&I Payments"),K18,0)),0) -> 0 | AD18: =IF($F18>(11.99*AD$5),(IF(OR(I18="Interest Only",I18="P&I Payments"),K18,0)),0) -> 0 | AE18: =IF($F18>(11.99*AE$5),(IF(OR(I18="Interest Only",I18="P&I Payments"),K18,0)),0) -> 0 | AF18: =IF($F18>(11.99*AF$5),(IF(OR(I18="Interest Only",I18="P&I Payments"),K18,0)),0) -> 0 | AG18: =IF($F18>(11.99*AG$5),(IF(OR(I18="Interest Only",I18="P&I Payments"),K18,0)),0) -> 0 | AH18: =IF($F18>(11.99*AH$5),(IF(OR(I18="Interest Only",I18="P&I Payments"),K18,0)),0) -> 0 | AI18: =IF($F18>(11.99*AI$5),(IF(OR(I18="Interest Only",I18="P&I Payments"),K18,0)),0) -> 0 | AJ18: =IF($F18>(11.99*AJ$5),(IF(OR(I18="Interest Only",I18="P&I Payments"),K18,0)),0) -> 0 | AK18: =IF($F18>(11.99*AK$5),(IF(OR(I18="Interest Only",I18="P&I Payments"),K18,0)),0) -> 0 | AL18: =IF(AND(D19>0,C19="Loan"),H19/D19,0) -> 0 | AM18: =H19 -> 0 | AO18: =IF(P18="Y",K18,"") | AQ18: =IF(AND(OR(I19="P&I Payments",I19="Interest Only"),G19<=180),E19,0) -> 0 | AR18: =IF(AND(OR(I19="P&I Payments",I19="Interest Only"),G19>180),E19,0) -> 0
K19: =IF(ISNUMBER(J19),J19*12,IF(J19="N/A","","")) | L19: =IF(ABS(O19-100%)>2.5%,"Error, 'PMT' Does Not Equal 'Terms' ","") -> #NUM! | N19: =ROUND((PMT(E19/12,G19,D19)*-1),2) -> #NUM! | O19: =N19/J19 -> #NUM! | P19: =IF(OR(I19="deferred",I19="Cash Flow Payments"),"N",IF(OR(I19="P&I Payments",I19="Interest Only"),"Y","")) | S19: =IF(C19="Equity",21,IF(C19="Loan",16,IF(C19="Grant",20,"NA"))) -> NA | T19: =IF(D19>0,"Y","N") -> N | U19: =F19/12 -> 0 | V19: =G19/12 -> 0 | W19: =IF(F19>11.9,IF(OR(I19="Interest Only",I19="P&I Payments"),K19,0),0) -> 0 | X19: =IF($F19>(11.99*X$5),(IF(OR(I19="Interest Only",I19="P&I Payments"),K19,0)),0) -> 0 | Y19: =IF($F19>(11.99*Y$5),(IF(OR(I19="Interest Only",I19="P&I Payments"),K19,0)),0) -> 0 | Z19: =IF($F19>(11.99*Z$5),(IF(OR(I19="Interest Only",I19="P&I Payments"),K19,0)),0) -> 0 | AA19: =IF($F19>(11.99*AA$5),(IF(OR(I19="Interest Only",I19="P&I Payments"),K19,0)),0) -> 0 | AB19: =IF($F19>(11.99*AB$5),(IF(OR(I19="Interest Only",I19="P&I Payments"),K19,0)),0) -> 0 | AC19: =IF($F19>(11.99*AC$5),(IF(OR(I19="Interest Only",I19="P&I Payments"),K19,0)),0) -> 0 | AD19: =IF($F19>(11.99*AD$5),(IF(OR(I19="Interest Only",I19="P&I Payments"),K19,0)),0) -> 0 | AE19: =IF($F19>(11.99*AE$5),(IF(OR(I19="Interest Only",I19="P&I Payments"),K19,0)),0) -> 0 | AF19: =IF($F19>(11.99*AF$5),(IF(OR(I19="Interest Only",I19="P&I Payments"),K19,0)),0) -> 0 | AG19: =IF($F19>(11.99*AG$5),(IF(OR(I19="Interest Only",I19="P&I Payments"),K19,0)),0) -> 0 | AH19: =IF($F19>(11.99*AH$5),(IF(OR(I19="Interest Only",I19="P&I Payments"),K19,0)),0) -> 0 | AI19: =IF($F19>(11.99*AI$5),(IF(OR(I19="Interest Only",I19="P&I Payments"),K19,0)),0) -> 0 | AJ19: =IF($F19>(11.99*AJ$5),(IF(OR(I19="Interest Only",I19="P&I Payments"),K19,0)),0) -> 0 | AK19: =IF($F19>(11.99*AK$5),(IF(OR(I19="Interest Only",I19="P&I Payments"),K19,0)),0) -> 0 | AL19: =IF(AND(D20>0,C20="Loan"),H20/D20,0) -> 0 | AO19: =SUM(AO5:AO18) -> 0 | AP19: =AO19 -> 0
A20: Total Permanent Sources | D20: =ROUND(SUM(D5:D19),0) -> 0 | H20: =SUM(H5:H19) -> 0 | J20: =SUM(J5:J19) -> 0 | K20: =IF(OR(I7="Interest Only",I7="P&I Payments"),K7,0)+IF(OR(I8="Interest Only",I8="P&I Payments"),K8,0)+IF(OR(I9="Interest Only",I9="P&I Payments"),K9,0)+IF(OR(I10="Interest Only",I10="P&I Payments"),K10,0)+IF(OR(I11="Interest Only",I11="P&I Payments"),K11,0)+IF(OR(I12="Interest Only",I12="P&I Payments"),K12,0)+IF(OR(I13="Interest Only",I13="P&I Payments"),K13,0)+IF(OR(I14="Interest Only",I14="P&I Payments"),K14,0)+IF(OR(I15="Interest Only",I15="P&I Payments"),K15,0)+IF(OR(I16="Interest Only",I16="P&I Payments"),K16,0)+IF(OR(I17="Interest Only",I17="P&I Payments"),K17,0)+IF(OR(I18="Interest Only",I18="P&I Payments"),K18,0)+IF(OR(I19="Interest Only",I19="P&I Payments"),K19,0) -> 0 | T20: Pro forma Annual Debt Service | W20: =SUM(W7:W19) -> 0 | X20: =SUM(X7:X19) -> 0 | Y20: =SUM(Y7:Y19) -> 0 | Z20: =SUM(Z7:Z19) -> 0 | AA20: =SUM(AA7:AA19) -> 0 | AB20: =SUM(AB7:AB19) -> 0 | AC20: =SUM(AC7:AC19) -> 0 | AD20: =SUM(AD7:AD19) -> 0 | ... AK20: =SUM(AK7:AK19) -> 0
B21: =IF(ABS($D$20-'Development Budget Worksheet'!C119)<0.5,"","Error, 'Total Permanent Sources' Does Not Equal 'Total Development Costs' on Development Budget") | H21: =IF(H20<>L21,"Loan Fees do not match Development Budget","") | L21: ='Development Budget Worksheet'!C76 -> 0 | T21: Non-Residential Debt Service | W21: =SUM(W7:W20) -> 0
A22: Existing Debt | C22: Type (Loan, Grant or Equity) | D22: Amount | E22: Rate | F22: Term in Months | G22: Amortized in Months | H22: Months Remaining on Term | I22: Loan Type | J22: Monthly Debt Service | K22: Annual Debt Service | L22: Monthly Debt vs Validation | N22: Validation | O22: Payment Comparison | T22: Total Debt Service | W22: =W19+W21 -> 0
K23: =IF(ISNUMBER(J23),J23*12,IF(J23="N/A","","")) | L23: =IF(ABS(O23-100%)>2.5%,"Error, 'PMT' Does Not Equal 'Terms' ","") -> #NUM! | N23: =ROUND(IF(I23="Interest Only",(D23*E23)/12,PMT(E23/12,G23,D23)*-1),2) -> #NUM! | O23: =N23/J23 -> #NUM! | T23: Existing Debt | W23: =IF(H23>11.9,IF(OR(I23="Interest Only",I23="P&I Payments"),K23,0),0) -> 0 | X23: =IF($H23>(11.99*X$5),(IF(OR(I23="Interest Only",I23="P&I Payments"),K23,0)),0) -> 0 | Y23: =IF($H23>(11.99*Y$5),(IF(OR(I23="Interest Only",I23="P&I Payments"),K23,0)),0) -> 0 | Z23: =IF($H23>(11.99*Z$5),(IF(OR(I23="Interest Only",I23="P&I Payments"),K23,0)),0) -> 0 | AA23: =IF($H23>(11.99*AA$5),(IF(OR(I23="Interest Only",I23="P&I Payments"),K23,0)),0) -> 0 | AB23: =IF($H23>(11.99*AB$5),(IF(OR(I23="Interest Only",I23="P&I Payments"),K23,0)),0) -> 0 | AC23: =IF($H23>(11.99*AC$5),(IF(OR(I23="Interest Only",I23="P&I Payments"),K23,0)),0) -> 0 | AD23: =IF($H23>(11.99*AD$5),(IF(OR(I23="Interest Only",I23="P&I Payments"),K23,0)),0) -> 0 | AE23: =IF($H23>(11.99*AE$5),(IF(OR(I23="Interest Only",I23="P&I Payments"),K23,0)),0) -> 0 | AF23: =IF($H23>(11.99*AF$5),(IF(OR(I23="Interest Only",I23="P&I Payments"),K23,0)),0) -> 0 | AG23: =IF($H23>(11.99*AG$5),(IF(OR(I23="Interest Only",I23="P&I Payments"),K23,0)),0) -> 0 | AH23: =IF($H23>(11.99*AH$5),(IF(OR(I23="Interest Only",I23="P&I Payments"),K23,0)),0) -> 0 | AI23: =IF($H23>(11.99*AI$5),(IF(OR(I23="Interest Only",I23="P&I Payments"),K23,0)),0) -> 0 | AJ23: =IF($H23>(11.99*AJ$5),(IF(OR(I23="Interest Only",I23="P&I Payments"),K23,0)),0) -> 0 | AK23: =IF($H23>(11.99*AK$5),(IF(OR(I23="Interest Only",I23="P&I Payments"),K23,0)),0) -> 0
K24: =IF(ISNUMBER(J24),J24*12,IF(J24="N/A","","")) | L24: =IF(ABS(O24-100%)>2.5%,"Error, 'PMT' Does Not Equal 'Terms' ","") -> #NUM! | N24: =ROUND(IF(I24="Interest Only",(D24*E24)/12,PMT(E24/12,G24,D24)*-1),2) -> #NUM! | O24: =N24/J24 -> #NUM! | W24: =IF(H24>11.9,IF(OR(I24="Interest Only",I24="P&I Payments"),K24,0),0) -> 0 | X24: =IF($H24>(11.99*X$5),(IF(OR(I24="Interest Only",I24="P&I Payments"),K24,0)),0) -> 0 | Y24: =IF($H24>(11.99*Y$5),(IF(OR(I24="Interest Only",I24="P&I Payments"),K24,0)),0) -> 0 | Z24: =IF($H24>(11.99*Z$5),(IF(OR(I24="Interest Only",I24="P&I Payments"),K24,0)),0) -> 0 | AA24: =IF($H24>(11.99*AA$5),(IF(OR(I24="Interest Only",I24="P&I Payments"),K24,0)),0) -> 0 | AB24: =IF($H24>(11.99*AB$5),(IF(OR(I24="Interest Only",I24="P&I Payments"),K24,0)),0) -> 0 | AC24: =IF($H24>(11.99*AC$5),(IF(OR(I24="Interest Only",I24="P&I Payments"),K24,0)),0) -> 0 | AD24: =IF($H24>(11.99*AD$5),(IF(OR(I24="Interest Only",I24="P&I Payments"),K24,0)),0) -> 0 | AE24: =IF($H24>(11.99*AE$5),(IF(OR(I24="Interest Only",I24="P&I Payments"),K24,0)),0) -> 0 | AF24: =IF($H24>(11.99*AF$5),(IF(OR(I24="Interest Only",I24="P&I Payments"),K24,0)),0) -> 0 | AG24: =IF($H24>(11.99*AG$5),(IF(OR(I24="Interest Only",I24="P&I Payments"),K24,0)),0) -> 0 | AH24: =IF($H24>(11.99*AH$5),(IF(OR(I24="Interest Only",I24="P&I Payments"),K24,0)),0) -> 0 | AI24: =IF($H24>(11.99*AI$5),(IF(OR(I24="Interest Only",I24="P&I Payments"),K24,0)),0) -> 0 | AJ24: =IF($H24>(11.99*AJ$5),(IF(OR(I24="Interest Only",I24="P&I Payments"),K24,0)),0) -> 0 | AK24: =IF($H24>(11.99*AK$5),(IF(OR(I24="Interest Only",I24="P&I Payments"),K24,0)),0) -> 0
K25: =IF(ISNUMBER(J25),J25*12,IF(J25="N/A","","")) | L25: =IF(ABS(O25-100%)>2.5%,"Error, 'PMT' Does Not Equal 'Terms' ","") -> #NUM! | N25: =ROUND(IF(I25="Interest Only",(D25*E25)/12,PMT(E25/12,G25,D25)*-1),2) -> #NUM! | O25: =N25/J25 -> #NUM! | W25: =IF(H25>11.9,IF(OR(I25="Interest Only",I25="P&I Payments"),K25,0),0) -> 0 | X25: =IF($H25>(11.99*X$5),(IF(OR(I25="Interest Only",I25="P&I Payments"),K25,0)),0) -> 0 | Y25: =IF($H25>(11.99*Y$5),(IF(OR(I25="Interest Only",I25="P&I Payments"),K25,0)),0) -> 0 | Z25: =IF($H25>(11.99*Z$5),(IF(OR(I25="Interest Only",I25="P&I Payments"),K25,0)),0) -> 0 | AA25: =IF($H25>(11.99*AA$5),(IF(OR(I25="Interest Only",I25="P&I Payments"),K25,0)),0) -> 0 | AB25: =IF($H25>(11.99*AB$5),(IF(OR(I25="Interest Only",I25="P&I Payments"),K25,0)),0) -> 0 | AC25: =IF($H25>(11.99*AC$5),(IF(OR(I25="Interest Only",I25="P&I Payments"),K25,0)),0) -> 0 | AD25: =IF($H25>(11.99*AD$5),(IF(OR(I25="Interest Only",I25="P&I Payments"),K25,0)),0) -> 0 | AE25: =IF($H25>(11.99*AE$5),(IF(OR(I25="Interest Only",I25="P&I Payments"),K25,0)),0) -> 0 | AF25: =IF($H25>(11.99*AF$5),(IF(OR(I25="Interest Only",I25="P&I Payments"),K25,0)),0) -> 0 | AG25: =IF($H25>(11.99*AG$5),(IF(OR(I25="Interest Only",I25="P&I Payments"),K25,0)),0) -> 0 | AH25: =IF($H25>(11.99*AH$5),(IF(OR(I25="Interest Only",I25="P&I Payments"),K25,0)),0) -> 0 | AI25: =IF($H25>(11.99*AI$5),(IF(OR(I25="Interest Only",I25="P&I Payments"),K25,0)),0) -> 0 | AJ25: =IF($H25>(11.99*AJ$5),(IF(OR(I25="Interest Only",I25="P&I Payments"),K25,0)),0) -> 0 | AK25: =IF($H25>(11.99*AK$5),(IF(OR(I25="Interest Only",I25="P&I Payments"),K25,0)),0) -> 0
A26: Total Existing Debt | D26: =ROUND(SUM(D23:D25),0) -> 0 | J26: =SUM(J23:J25) -> 0 | K26: =IF(OR(I23="Interest Only",I23="P&I Payments"),K23,0)+IF(OR(I24="Interest Only",I24="P&I Payments"),K24,0)+IF(OR(I25="Interest Only",I25="P&I Payments"),K25,0) -> 0 | T26: Pro forma Annual Debt Service | W26: =SUM(W23:W25) -> 0 | X26: =SUM(X23:X25) -> 0 | Y26: =SUM(Y23:Y25) -> 0 | Z26: =SUM(Z23:Z25) -> 0 | AA26: =SUM(AA23:AA25) -> 0 | AB26: =SUM(AB23:AB25) -> 0 | AC26: =SUM(AC23:AC25) -> 0 | AD26: =SUM(AD23:AD25) -> 0 | ... AK26: =SUM(AK23:AK25) -> 0
A28: Construction/Interim Financing | C28: Type (Loan, Grant or Equity) | D28: Amount | E28: Rate | F28: Term in Months | G28: Amortized in Months | H28: Loan Fees (Origination, Discount Points, etc) | I28: Loan Type | J28: Monthly Debt Service | K28: Annual Debt Service | L28: Monthly Debt vs Validation | N28: Validation | O28: Payment Comparison
A29: FHLB AHP Subsidized Advance, or | D29: =IF(OR(D5="",D5="Identify Type of AHP Funds Requested on the Project Information Tab.",D5="Enter Planned AHP Award Use on Development Budget Worksheet"),"",D5)
A30: FHLB AHP Direct Subsidy | D30: =IF(OR(D6="",D6="Identify Type of AHP Funds Requested on the Project Information Tab.",D6="Enter Planned AHP Award Use on Development Budget Worksheet"),"",D6) | T30: Construction Loan Fee %
A31: Construction Loan* | C31: Loan | T31: =IF(AND(D31>0,C31="Loan"),H31/D31,0) -> 0 | U31: =H31 -> 0
T32: =IF(AND(D32>0,C32="Loan"),H32/D32,0) -> 0 | U32: =H32 -> 0
T33: =IF(AND(D33>0,C33="Loan"),H33/D33,0) -> 0 | U33: =H33 -> 0
T34: =IF(AND(D34>0,C34="Loan"),H34/D34,0) -> 0 | U34: =H34 -> 0
T35: =IF(AND(D35>0,C35="Loan"),H35/D35,0) -> 0 | U35: =H35 -> 0
T36: =IF(AND(D36>0,C36="Loan"),H36/D36,0) -> 0 | U36: =H36 -> 0
T37: =IF(AND(D37>0,C37="Loan"),H37/D37,0) -> 0 | U37: =H37 -> 0
T38: =IF(AND(D38>0,C38="Loan"),H38/D38,0) -> 0 | U38: =H38 -> 0
A39: Total Construction Sources | D39: =ROUND(SUM(D29:D38),0) -> 0 | H39: =SUM(H29:H38) -> 0
B40: =D39/('Development Budget Worksheet'!C14+'Development Budget Worksheet'!C27+'Development Budget Worksheet'!C42+'Development Budget Worksheet'!C53+'Development Budget Worksheet'!C69) -> #DIV/0! | H40: =IF(H39<>K40,"Loan Fees do not match Development Budget","") | K40: ='Development Budget Worksheet'!C61 -> 0
A42: Explanation: In the box below enter any further explanations for this page.
...

Sheet Housing Pro Forma
A1: Blue shaded areas indicate data to be entered by applicant.
A2: Tan shaded cells include formulas that will automatically calculate but can be overwritten. | H2: FHLBank Topeka - - Affordable Housing Program
A3: Yellow shaded cells are protected and indicate references to other cells in the workbook or formulas that should not be changed. | K3: Housing Pro Forma
D5: Total Number of Units | E5: ='Project Information'!F15 -> 0 | H5: Do tenants pay Gas & Electric?
D6: Vacancy/Bad Debt Rate Year 1 | H6: Do tenants pay Water & Sewer?
D7: Stabilized Vacancy/Bad Debt Rate Years 2 - 15 | F7: =IF(OR(E6>0.07, E7>0.07), "Vacancy is greater than 7%. Provide explanation in box below.", "") | K7: Revenue Escalator | L7: 0.02 | N7: Expense Escalator | O7: 0.03
D9: PUPM Yr1 | E9: Year 1 | F9: Year 2 | G9: Year 3 | H9: Year 4 | I9: Year 5 | J9: Year 6 | K9: Year 7 | L9: Year 8 | M9: Year 9 | N9: Year 10 | O9: Year 11 | P9: Year 12 | Q9: Year 13 | R9: Year 14 | S9: Year 15
A10: INCOME
A11: Scheduled Residential Rents | F11: =E11*(1+$L$7) -> 0 | G11: =F11*(1+$L$7) -> 0 | H11: =G11*(1+$L$7) -> 0 | I11: =H11*(1+$L$7) -> 0 | J11: =I11*(1+$L$7) -> 0 | K11: =J11*(1+$L$7) -> 0 | L11: =K11*(1+$L$7) -> 0 | M11: =L11*(1+$L$7) -> 0 | ... S11: =R11*(1+$L$7) -> 0
A12: Laundry, Parking & Other Rev. | F12: =E12*(1+$L$7) -> 0 | G12: =F12*(1+$L$7) -> 0 | H12: =G12*(1+$L$7) -> 0 | I12: =H12*(1+$L$7) -> 0 | J12: =I12*(1+$L$7) -> 0 | K12: =J12*(1+$L$7) -> 0 | L12: =K12*(1+$L$7) -> 0 | M12: =L12*(1+$L$7) -> 0 | ... S12: =R12*(1+$L$7) -> 0 | V12: =E11+E14 -> 0 | W12: Gross Annual Rental Income
A13: Property Tax Rebate/Refund | F13: =E13*(1+$L$7) -> 0 | G13: =F13*(1+$L$7) -> 0 | H13: =G13*(1+$L$7) -> 0 | I13: =H13*(1+$L$7) -> 0 | J13: =I13*(1+$L$7) -> 0 | K13: =J13*(1+$L$7) -> 0 | L13: =K13*(1+$L$7) -> 0 | M13: =L13*(1+$L$7) -> 0 | ... S13: =R13*(1+$L$7) -> 0
A14: Other Income: Rental Assistance | F14: =E14*(1+$L$7) -> 0 | G14: =F14*(1+$L$7) -> 0 | H14: =G14*(1+$L$7) -> 0 | I14: =H14*(1+$L$7) -> 0 | J14: =I14*(1+$L$7) -> 0 | K14: =J14*(1+$L$7) -> 0 | L14: =K14*(1+$L$7) -> 0 | M14: =L14*(1+$L$7) -> 0 | ... S14: =R14*(1+$L$7) -> 0 | T14: =IF(OR(AND(E14<>0,A14="D. Other Income:"),AND(E14<>0,A14="")),"Error: Describe Source of Other Income","")
A15: Other Income: | F15: =E15*(1+$L$7) -> 0 | G15: =F15*(1+$L$7) -> 0 | H15: =G15*(1+$L$7) -> 0 | I15: =H15*(1+$L$7) -> 0 | J15: =I15*(1+$L$7) -> 0 | K15: =J15*(1+$L$7) -> 0 | L15: =K15*(1+$L$7) -> 0 | M15: =L15*(1+$L$7) -> 0 | ... S15: =R15*(1+$L$7) -> 0 | T15: =IF(OR(AND(E15<>0,A15="E. Other Income:"),AND(E15<>0,A15="")),"Error: Describe Source of Other Income","")
A16: Other Income: | F16: =E16*(1+$L$7) -> 0 | G16: =F16*(1+$L$7) -> 0 | H16: =G16*(1+$L$7) -> 0 | I16: =H16*(1+$L$7) -> 0 | J16: =I16*(1+$L$7) -> 0 | K16: =J16*(1+$L$7) -> 0 | L16: =K16*(1+$L$7) -> 0 | M16: =L16*(1+$L$7) -> 0 | ... S16: =R16*(1+$L$7) -> 0
A17: GROSS INCOME | E17: =ROUND(SUM(E11:E16),0) -> 0 | F17: =ROUND(SUM(F11:F16),0) -> 0 | G17: =ROUND(SUM(G11:G16),0) -> 0 | H17: =ROUND(SUM(H11:H16),0) -> 0 | I17: =ROUND(SUM(I11:I16),0) -> 0 | J17: =ROUND(SUM(J11:J16),0) -> 0 | K17: =ROUND(SUM(K11:K16),0) -> 0 | L17: =ROUND(SUM(L11:L16),0) -> 0 | ... S17: =ROUND(SUM(S11:S16),0) -> 0 | T17: =IF(AND(E17<>0,A17="F. Other Income:"),"Describe Other Source of Income","")
A18: Less Vacancy | E18: =-ROUND((E11+E14)*$E$6,0) -> 0 | F18: =-ROUND((F11+F14)*$E$7,0) -> 0 | G18: =-ROUND((G11+G14)*$E$7,0) -> 0 | H18: =-ROUND((H11+H14)*$E$7,0) -> 0 | I18: =-ROUND((I11+I14)*$E$7,0) -> 0 | J18: =-ROUND((J11+J14)*$E$7,0) -> 0 | K18: =-ROUND((K11+K14)*$E$7,0) -> 0 | L18: =-ROUND((L11+L14)*$E$7,0) -> 0 | M18: =-ROUND((M11+M14)*$E$7,0) -> 0 | ... S18: =-ROUND((S11+S14)*$E$7,0) -> 0
A19: Total Effective Gross Income (EGI) | E19: =E17+E18 -> 0 | F19: =F17+F18 -> 0 | G19: =G17+G18 -> 0 | H19: =H17+H18 -> 0 | I19: =I17+I18 -> 0 | J19: =J17+J18 -> 0 | K19: =K17+K18 -> 0 | L19: =L17+L18 -> 0 | ... S19: =S17+S18 -> 0
A21: OPERATING EXPENSES
A22: Management Fee | C22: =IF(E22=0,0,IF((E11+E14)>(E15+E16),IF(E22=0,0,E22/(E11+E14+E18)),(E22/(E11+E14+E15+E16+E18)))) -> 0 | D22: =IF(OR(E22=0,E22=""),"",(E22/12)/$E$5) | F22: =IF((F11+F14)>(F15+F16),(F11+F14+F18)*$C$22,(F11+F14+F15+F16+F18)*$C$22) -> 0 | G22: =IF((G11+G14)>(G15+G16),(G11+G14+G18)*$C$22,(G11+G14+G15+G16+G18)*$C$22) -> 0 | H22: =IF((H11+H14)>(H15+H16),(H11+H14+H18)*$C$22,(H11+H14+H15+H16+H18)*$C$22) -> 0 | I22: =IF((I11+I14)>(I15+I16),(I11+I14+I18)*$C$22,(I11+I14+I15+I16+I18)*$C$22) -> 0 | J22: =IF((J11+J14)>(J15+J16),(J11+J14+J18)*$C$22,(J11+J14+J15+J16+J18)*$C$22) -> 0 | K22: =IF((K11+K14)>(K15+K16),(K11+K14+K18)*$C$22,(K11+K14+K15+K16+K18)*$C$22) -> 0 | L22: =IF((L11+L14)>(L15+L16),(L11+L14+L18)*$C$22,(L11+L14+L15+L16+L18)*$C$22) -> 0 | M22: =IF((M11+M14)>(M15+M16),(M11+M14+M18)*$C$22,(M11+M14+M15+M16+M18)*$C$22) -> 0 | ... S22: =IF((S11+S14)>(S15+S16),(S11+S14+S18)*$C$22,(S11+S14+S15+S16+S18)*$C$22) -> 0
A23: Legal | D23: =IF(OR(E23=0,E23=""),"",(E23/12)/$E$5) | F23: =E23*(1+$O$7) -> 0 | G23: =F23*(1+$O$7) -> 0 | H23: =G23*(1+$O$7) -> 0 | I23: =H23*(1+$O$7) -> 0 | J23: =I23*(1+$O$7) -> 0 | K23: =J23*(1+$O$7) -> 0 | L23: =K23*(1+$O$7) -> 0 | M23: =L23*(1+$O$7) -> 0 | ... S23: =R23*(1+$O$7) -> 0
A24: Advertising | D24: =IF(OR(E24=0,E24=""),"",(E24/12)/$E$5) | F24: =E24*(1+$O$7) -> 0 | G24: =F24*(1+$O$7) -> 0 | H24: =G24*(1+$O$7) -> 0 | I24: =H24*(1+$O$7) -> 0 | J24: =I24*(1+$O$7) -> 0 | K24: =J24*(1+$O$7) -> 0 | L24: =K24*(1+$O$7) -> 0 | M24: =L24*(1+$O$7) -> 0 | ... S24: =R24*(1+$O$7) -> 0
A25: Gas & Electric | D25: =IF(OR(E25=0,E25=""),"",(E25/12)/$E$5) | F25: =E25*(1+$O$7) -> 0 | G25: =F25*(1+$O$7) -> 0 | H25: =G25*(1+$O$7) -> 0 | I25: =H25*(1+$O$7) -> 0 | J25: =I25*(1+$O$7) -> 0 | K25: =J25*(1+$O$7) -> 0 | L25: =K25*(1+$O$7) -> 0 | M25: =L25*(1+$O$7) -> 0 | ... S25: =R25*(1+$O$7) -> 0
A26: Water & Sewer | D26: =IF(OR(E26=0,E26=""),"",(E26/12)/$E$5) | F26: =E26*(1+$O$7) -> 0 | G26: =F26*(1+$O$7) -> 0 | H26: =G26*(1+$O$7) -> 0 | I26: =H26*(1+$O$7) -> 0 | J26: =I26*(1+$O$7) -> 0 | K26: =J26*(1+$O$7) -> 0 | L26: =K26*(1+$O$7) -> 0 | M26: =L26*(1+$O$7) -> 0 | ... S26: =R26*(1+$O$7) -> 0
A27: Supplies | D27: =IF(OR(E27=0,E27=""),"",(E27/12)/$E$5) | F27: =E27*(1+$O$7) -> 0 | G27: =F27*(1+$O$7) -> 0 | H27: =G27*(1+$O$7) -> 0 | I27: =H27*(1+$O$7) -> 0 | J27: =I27*(1+$O$7) -> 0 | K27: =J27*(1+$O$7) -> 0 | L27: =K27*(1+$O$7) -> 0 | M27: =L27*(1+$O$7) -> 0 | ... S27: =R27*(1+$O$7) -> 0
A28: Payroll | D28: =IF(OR(E28=0,E28=""),"",(E28/12)/$E$5) | F28: =E28*(1+$O$7) -> 0 | G28: =F28*(1+$O$7) -> 0 | H28: =G28*(1+$O$7) -> 0 | I28: =H28*(1+$O$7) -> 0 | J28: =I28*(1+$O$7) -> 0 | K28: =J28*(1+$O$7) -> 0 | L28: =K28*(1+$O$7) -> 0 | M28: =L28*(1+$O$7) -> 0 | ... S28: =R28*(1+$O$7) -> 0
A29: Waste Removal | D29: =IF(OR(E29=0,E29=""),"",(E29/12)/$E$5) | F29: =E29*(1+$O$7) -> 0 | G29: =F29*(1+$O$7) -> 0 | H29: =G29*(1+$O$7) -> 0 | I29: =H29*(1+$O$7) -> 0 | J29: =I29*(1+$O$7) -> 0 | K29: =J29*(1+$O$7) -> 0 | L29: =K29*(1+$O$7) -> 0 | M29: =L29*(1+$O$7) -> 0 | ... S29: =R29*(1+$O$7) -> 0
A30: Accounting | D30: =IF(OR(E30=0,E30=""),"",(E30/12)/$E$5) | F30: =E30*(1+$O$7) -> 0 | G30: =F30*(1+$O$7) -> 0 | H30: =G30*(1+$O$7) -> 0 | I30: =H30*(1+$O$7) -> 0 | J30: =I30*(1+$O$7) -> 0 | K30: =J30*(1+$O$7) -> 0 | L30: =K30*(1+$O$7) -> 0 | M30: =L30*(1+$O$7) -> 0 | ... S30: =R30*(1+$O$7) -> 0
A31: Audit | D31: =IF(OR(E31=0,E31=""),"",(E31/12)/$E$5) | F31: =E31*(1+$O$7) -> 0 | G31: =F31*(1+$O$7) -> 0 | H31: =G31*(1+$O$7) -> 0 | I31: =H31*(1+$O$7) -> 0 | J31: =I31*(1+$O$7) -> 0 | K31: =J31*(1+$O$7) -> 0 | L31: =K31*(1+$O$7) -> 0 | M31: =L31*(1+$O$7) -> 0 | ... S31: =R31*(1+$O$7) -> 0
A32: Maintenance/Repair | D32: =IF(OR(E32=0,E32=""),"",(E32/12)/$E$5) | F32: =E32*(1+$O$7) -> 0 | G32: =F32*(1+$O$7) -> 0 | H32: =G32*(1+$O$7) -> 0 | I32: =H32*(1+$O$7) -> 0 | J32: =I32*(1+$O$7) -> 0 | K32: =J32*(1+$O$7) -> 0 | L32: =K32*(1+$O$7) -> 0 | M32: =L32*(1+$O$7) -> 0 | ... S32: =R32*(1+$O$7) -> 0
A33: Grounds & Decorating | D33: =IF(OR(E33=0,E33=""),"",(E33/12)/$E$5) | F33: =E33*(1+$O$7) -> 0 | G33: =F33*(1+$O$7) -> 0 | H33: =G33*(1+$O$7) -> 0 | I33: =H33*(1+$O$7) -> 0 | J33: =I33*(1+$O$7) -> 0 | K33: =J33*(1+$O$7) -> 0 | L33: =K33*(1+$O$7) -> 0 | M33: =L33*(1+$O$7) -> 0 | ... S33: =R33*(1+$O$7) -> 0
A34: Insurance | D34: =IF(OR(E34=0,E34=""),"",(E34/12)/$E$5) | F34: =E34*(1+$O$7) -> 0 | G34: =F34*(1+$O$7) -> 0 | H34: =G34*(1+$O$7) -> 0 | I34: =H34*(1+$O$7) -> 0 | J34: =I34*(1+$O$7) -> 0 | K34: =J34*(1+$O$7) -> 0 | L34: =K34*(1+$O$7) -> 0 | M34: =L34*(1+$O$7) -> 0 | ... S34: =R34*(1+$O$7) -> 0
A35: LIHTC Fees | D35: =IF(OR(E35=0,E35=""),"",(E35/12)/$E$5) | F35: =$E$35 -> 0 | G35: =$E$35 -> 0 | H35: =$E$35 -> 0 | I35: =$E$35 -> 0 | J35: =$E$35 -> 0 | K35: =$E$35 -> 0 | L35: =$E$35 -> 0 | M35: =$E$35 -> 0 | ... S35: =$E$35 -> 0
A36: Elevator Maintenance | D36: =IF(OR(E36=0,E36=""),"",(E36/12)/$E$5) | F36: =E36*(1+$O$7) -> 0 | G36: =F36*(1+$O$7) -> 0 | H36: =G36*(1+$O$7) -> 0 | I36: =H36*(1+$O$7) -> 0 | J36: =I36*(1+$O$7) -> 0 | K36: =J36*(1+$O$7) -> 0 | L36: =K36*(1+$O$7) -> 0 | M36: =L36*(1+$O$7) -> 0 | ... S36: =R36*(1+$O$7) -> 0
A37: Snow Removal | D37: =IF(OR(E37=0,E37=""),"",(E37/12)/$E$5) | F37: =E37*(1+$O$7) -> 0 | G37: =F37*(1+$O$7) -> 0 | H37: =G37*(1+$O$7) -> 0 | I37: =H37*(1+$O$7) -> 0 | J37: =I37*(1+$O$7) -> 0 | K37: =J37*(1+$O$7) -> 0 | L37: =K37*(1+$O$7) -> 0 | M37: =L37*(1+$O$7) -> 0 | ... S37: =R37*(1+$O$7) -> 0
A38: Security | D38: =IF(OR(E38=0,E38=""),"",(E38/12)/$E$5) | F38: =E38*(1+$O$7) -> 0 | G38: =F38*(1+$O$7) -> 0 | H38: =G38*(1+$O$7) -> 0 | I38: =H38*(1+$O$7) -> 0 | J38: =I38*(1+$O$7) -> 0 | K38: =J38*(1+$O$7) -> 0 | L38: =K38*(1+$O$7) -> 0 | M38: =L38*(1+$O$7) -> 0 | ... S38: =R38*(1+$O$7) -> 0 | T38: =IF(AND(E39<>0,A39="F. Other Income:"),"Describe Other Source of Income","")
A39: Pest Control | D39: =IF(OR(E39=0,E39=""),"",(E39/12)/$E$5) | F39: =E39*(1+$O$7) -> 0 | G39: =F39*(1+$O$7) -> 0 | H39: =G39*(1+$O$7) -> 0 | I39: =H39*(1+$O$7) -> 0 | J39: =I39*(1+$O$7) -> 0 | K39: =J39*(1+$O$7) -> 0 | L39: =K39*(1+$O$7) -> 0 | M39: =L39*(1+$O$7) -> 0 | ... S39: =R39*(1+$O$7) -> 0
A40: Telephone/Internet | F40: =E40*(1+$O$7) -> 0 | G40: =F40*(1+$O$7) -> 0 | H40: =G40*(1+$O$7) -> 0 | I40: =H40*(1+$O$7) -> 0 | J40: =I40*(1+$O$7) -> 0 | K40: =J40*(1+$O$7) -> 0 | L40: =K40*(1+$O$7) -> 0 | M40: =L40*(1+$O$7) -> 0 | ... S40: =R40*(1+$O$7) -> 0 | T40: =IF(AND(E41<>0,A41="F. Other Income:"),"Describe Other Source of Income","")
A41: Other: | D41: =IF(OR(E41=0,E41=""),"",(E41/12)/$E$5) | F41: =E41*(1+$O$7) -> 0 | G41: =F41*(1+$O$7) -> 0 | H41: =G41*(1+$O$7) -> 0 | I41: =H41*(1+$O$7) -> 0 | J41: =I41*(1+$O$7) -> 0 | K41: =J41*(1+$O$7) -> 0 | L41: =K41*(1+$O$7) -> 0 | M41: =L41*(1+$O$7) -> 0 | ... S41: =R41*(1+$O$7) -> 0 | T41: =IF(AND(E42<>0,A42="F. Other Income:"),"Describe Other Source of Income","")
A42: Other: | D42: =IF(OR(E42=0,E42=""),"",(E42/12)/$E$5) | F42: =E42*(1+$O$7) -> 0 | G42: =F42*(1+$O$7) -> 0 | H42: =G42*(1+$O$7) -> 0 | I42: =H42*(1+$O$7) -> 0 | J42: =I42*(1+$O$7) -> 0 | K42: =J42*(1+$O$7) -> 0 | L42: =K42*(1+$O$7) -> 0 | M42: =L42*(1+$O$7) -> 0 | ... S42: =R42*(1+$O$7) -> 0 | T42: =IF(OR(AND(E43>0,X42>0),(AND(E43>0,Y42>0))),"Check 'Sources of Funds' for possible tax abatements","")
A43: Real Estate Taxes | D43: =IF(OR(E43=0,E43=""),"",(E43/12)/$E$5) | F43: =E43*(1+$O$7) -> 0 | G43: =F43*(1+$O$7) -> 0 | H43: =G43*(1+$O$7) -> 0 | I43: =H43*(1+$O$7) -> 0 | J43: =I43*(1+$O$7) -> 0 | K43: =J43*(1+$O$7) -> 0 | L43: =K43*(1+$O$7) -> 0 | M43: =L43*(1+$O$7) -> 0 | ... S43: =R43*(1+$O$7) -> 0
...

Sheet Services Pro Forma
A2: FHLBank Topeka - - Affordable Housing Program
A3: Services Pro Forma
