Workbook

Sheet Start Here
A1: Effective: September 1, 2024 | B1: Household Name: | C1: =IFERROR(_xlfn.IFS('Start Here'!C3="OO Purchase",DPA!C1:D1,C3="OO Rehabilitation",Rehab!C1:D1,C3="Habitat for Humanity Purchase",'Below MR'!C1:F1,C3="OO New Const Purchase",#REF!),"")
B2: 2021 Projects
A3: Before completing the Feasibility Workbook, choose the type of Owner-occupied application from the dropdown list: | H3: DPA
H4: Rehab
H5: Below MR
A6: What tab do I use (please select only one):
A7: Tab Name | B7: Types of Applications
A8: DPA | B8: Down payment assistance, closing costs, principal reduction, purchase related repairs
A9: Rehab | B9: Rehabilitation to homes owned by the occupant(s)
A10: Below MR | B10: Sponsor is the mortgage lender and providing a below market interest rate

Sheet DPA
A1: Household Name: | E1: Note: Blue shaded areas indicate information to be entered by applicant.
A2: Project Number:
H3: Effective: September 1, 2024
E4: Complete Group 1 for Individual Household
B5: Household Information | D5: Example | E5: Group 1 | F5: Group 2 | G5: Group 3 | H5: Group 4 | J5: # of units <= to 50%
A6: 1 | B6: Household Location (State) | D6: NE | J6: =SUM(K6:N6) -> 0 | K6: =IF(E8<=50%,E9) -> 0 | L6: =IF(F8<=50%,F9) -> 0 | M6: =IF(G8<=50%,G9) -> 0 | N6: =IF(H8<=50%,H9) -> 0
A7: 2 | B7: Household Location (County or MSA) | D7: Chase | J7: # of units >50% and <=60%
A8: 3 | B8: Household Area Median Income (AMI) Percentage | D8: 0.44 | J8: =SUM(K8:N8) -> 0 | K8: =IF(AND(E8>50%,E8<=60%),E9,"") | L8: =IF(AND(F8>50%,F8<=60%),F9,"") | M8: =IF(AND(G8>50%,G8<=60%),G9,"") | N8: =IF(AND(H8>50%,H8<=60%),H9,"")
A9: 4 | B9: Number of Units | D9: 1 | J9: # of units >60% and <=80%
A10: 5 | B10: Household Size | D10: 1 | J10: =SUM(K10:N10) -> 0 | K10: =IF(AND(E8>60%,E8<=80%),E9,"") | L10: =IF(AND(F8>60%,F8<=80%),F9,"") | M10: =IF(AND(G8>60%,G8<=80%),G9,"") | N10: =IF(AND(H8>60%,H8<=80%),H9,"")
A11: 6 | B11: Annual Household Income | D11: 29393.6 | J11: =SUM(E9:H9) -> 0 | K11: Total Units
A12: 7 | B12: Monthly Household Income | D12: =D11/12 -> 2449.4667 | E12: =E11/12 -> 0 | F12: =F11/12 -> 0 | G12: =G11/12 -> 0 | H12: =H11/12 -> 0 | J12: =((E12*E9)+(F12*F9)+(G12*G9)+(H12*H9))/J11 -> #DIV/0! | K12: Average monthly income
B13: Unit Information
A14: 8 | B14: Purchase Price | D14: 38000
A15: 9a | B15: Lender Fee - 3% max/unit | C15: =IFERROR(_xlfn.IFS(E15/E37>3%,"Lender Fee exceeds 3% max allowed",F15/F37>3%,"Lender Fee exceeds 3% max allowed",G15/G37>3%,"Lender Fee exceeds 3% max allowed",H15/H37>3%,"Lender Fee exceeds 3% max allowed"),"") | D15: 1000 | J15: =D57 -> 0 | K15: Permanent Finance
A16: b | B16: Loan Discount Fee - 3% max/unit | C16: =IFERROR(_xlfn.IFS(E16/E37>3%,"Loan Discount Fee exceeds 3% max allowed",F16/F37>3%,"Loan Discount Fee exceeds 3% max allowed",G16/G37>3%,"Loan Discount Fee exceeds 3% max allowed",H16/H37>3%,"Loan Discount Fee exceeds 3% max allowed"),"") | D16: 0 | J16: =D67 -> 0 | K16: Closing costs
A17: c | B17: Other Closing Costs (Identify) | D17: 1917.44
A18: d | B18: Other Closing Costs (Identify) | D18: 1984.58
A19: e | B19: Other Closing Costs (Identify) | D19: 438
A20: 10 | B20: Homebuyer Counseling Fee - $500 max/unit | D20: 425 | J20: =(E20*E9)+(F20*F9)+(G20*G9)+(H20*H9) -> 0 | K20: Total Counseling costs
A21: 11 | B21: Sponsor Fee - $500 max/unit | D21: 500
A22: 12 | B22: Total Cost Per Unit | D22: =SUM(D14:D21) -> 44265.02 | E22: =SUM(E14:E21) -> 0 | F22: =SUM(F14:F21) -> 0 | G22: =SUM(G14:G21) -> 0 | H22: =SUM(H14:H21) -> 0 | J22: =((E22*E9)+(F22*F9)+(G22*G9)+(H22*H9))/J11 -> #DIV/0! | K22: Total development cost per unit
J23: =J22 -> #DIV/0!
A24: 13 | B24: Housing Expense to Income (Front Ratio) - 38% maximum | D24: 0.13864
J25: =MAX(E24:H24) -> 0 | K25: MAX FRONT RATIO
A26: 14 | B26: Mortgage Rate - maximum 200 basis pts over Freddie Mac's Compilation of Weekly Survey Data | D26: 0.0425 | J26: =MAX(E26:H26) -> 0 | K26: MAX MORTGAGE RATE
A27: 15 | B27: Mortgage Term (Months) - 60 month minimum and 480 month maximum | D27: 360 | J27: =MAX(E27:H27) -> 0 | K27: MAX MORTGAGE TERM
A29: 16 | B29: Total Monthly Housing Costs | D29: =D12*D24 -> 339.59406 | F29: =F12*F24 -> 0 | G29: =G12*G24 -> 0 | H29: =H12*H24 -> 0 | J29: =AVERAGE(E29:H29) -> 0 | K29: PITI
J30: =IF(ISERROR(J29/J12),"",J29/J12) | K30: PITI %
A31: 17 | B31: Monthly Taxes | D31: 18.49
A32: 18 | B32: Monthly Insurance | D32: 121.17
A33: 19 | B33: Other Monthly Costs (Identify) | D33: 11.11
A35: 20 | B35: Monthly Principal and Interest (P & I) | D35: =D29-D31-D32-D33 -> 188.82406 | F35: =F29-F31-F32-F33 -> 0 | G35: =G29-G31-G32-G33 -> 0 | H35: =H29-H31-H32-H33 -> 0 | J35: =(($E$35*$E$9)+($F$9*$F$35)+($G$9*$G$35)+($H$35*$H$9))*12 -> 0 | K35: ANNUAL DEBT SERVICE
A37: 21 | B37: Mortgage Loan | D37: 38383 | F37: =PV(F26/12,F27,-F35) -> 0 | G37: =PV(G26/12,G27,-G35) -> 0 | H37: =PV(H26/12,H27,-H35) -> 0 | J37: =($E$37*$E$9)+($F$9*$F$37)+($G$37*$G$9)+($H$9*$H$37) -> 0
J38: =IF(ISERROR(J37),"",J37) -> 0 | K38: MORTGAGE AMT
A39: 22 | B39: Owner Down Payment | D39: 1730.57 | J39: =SUM(E39:H39) -> 0 | K39: Down Payment Total
A40: 23 | B40: Other Sources (Identify) | D40: 151.45
A42: 24 | B42: AHP Gap Per Unit (Line 12 - Line 21 - Line 22 - Line 23) | D42: =D22-D37-D39-D40 -> 4000 | E42: =E22-E37-E39-E40 -> 0 | F42: =F22-F37-F39-F40 -> 0 | G42: =G22-G37-G39-G40 -> 0 | H42: =H22-H37-H39-H40 -> 0
A44: 25 | B44: AHP Gap * Number of Units (Line 4 * Line 24) | D44: =D42*D9 -> 4000 | E44: =E42*E9 -> 0 | F44: =F42*F9 -> 0 | G44: =G42*G9 -> 0 | H44: =H42*H9 -> 0
A46: 26 | B46: Total AHP Gap (Sum of Line 25) | C46: =(SUM(E44:H44)) -> 0 | E46: Total Units | F46: =SUM(E9:H9) -> 0 | G46: Subsidy/Unit | H46: =IF(F46=0,0,C46/F46) -> 0
...

Sheet Rehab
A1: Household Name: | G1: Effective: September 1, 2024
A2: Project Number: | D2: Note: Blue shaded areas indicate information to be entered by applicant. | R2: Yes
A3: Targeting Breakdown: | C3: Total # of Units | D3: <=50% | E3: <=60% | F3: <=80% | R3: No
C4: =IF(AND(D4="",E4="",F4=""),0,SUM(D4:F4)) -> 0
B5: Developer Question: | D5: Will the project have an unrelated 3rd party developer/contractor coordinating the rehabilitation work? | J5: EXAMPLE
B6: Sources of Funds | C6: =IF(C5="","",IF(C5="No","Developer Fees Are Not Allowed",IF(C5="Yes","Developer Fees Are Allowed"))) | D6: =IF(C5="Yes",500*C4,0) -> 0 | J6: Sources of Funds | K6: Example = 50 units
B7: Identify Source of Funds | C7: Type | D7: Amount | E7: Rate | F7: Term (in months) | G7: Status | J7: Identify Source of Funds | K7: Type | L7: Amount | M7: Rate | N7: Term (in months) | O7: Status
B8: (e.g CDBG, HOME, USDA, Donations, Cash grants, etc.) | C8: (e.g. Loan, Grant, Donation, etc.) | G8: (Approved, Requested) | J8: (e.g CDBG, HOME, USDA, Donations, Cash grants, etc.) | K8: (e.g. Loan, Grant, Donation, etc.) | O8: (Approved, Requested)
A10: 1 | B10: AHP Subsidy | C10: Grant | J10: AHP Subsidy | K10: Grant | L10: 6047.5 | Q10: 1e-07 | R10: Mortgage AMT
B11: All Other Sources must be shown (Enter in the cell which best describes the source) | J11: All Other Sources must be shown (Enter in the cell which best describes the source) | Q11: 1e-06 | R11: Term
A12: 2a | B12: Owner Contribution | J12: Owner Contribution | Q12: 1e-06 | R12: Amort
A13: b | B13: Consumer Loan | J13: Consumer Loan | K13: Consumer Loan | L13: 1000 | M13: 0.0945 | N13: 0 | Q13: 1e-10 | R13: Rate
A14: c | B14: Weatherization Grant | J14: Weatherization Grant | K14: Grant | L14: 5000 | M14: 0 | N14: 0 | Q14: 1e-08 | R14: Annual Debt Service
A15: d | B15: HOME Grant | J15: HOME Grant | Q15: =D12+0.00000001 -> 1e-08 | R15: Owner contribution
A16: e | B16: Other Sources | J16: Other Sources | Q16: =PMT(E13/12,F13,D13)*-12 -> #NUM! | R16: Annual debt service consumer loan
B17: Total Sources | D17: =(SUM(D10:D10)+SUM(D12:D16)) -> 0 | J17: Total Sources | L17: =SUM(L10:L10)+SUM(L12:L16) -> 12047.5
Q18: =D17 -> 0 | R18: Total Sources
A19: 3 | B19: =IF(C4=0,"",IF((D10/C4)>50000,"Max $50,000 per unit","")) | C19: AHP Subsidy Per Unit | D19: =IF(C4=0,0,D10/C4) -> 0 | E19: Total AHP Subsidy Requested | G19: =D19 -> 0
A20: AHP Subsidy Requested is required to be rounded down to the nearest dollar. Enter this amount into the online application for AHP Subsidy Requested. | J20: EXAMPLE
B21: Uses of Funds | J21: Uses of Funds
B22: Identify Use of Funds | E22: Costs paid by AHP | F22: Costs paid by Other Sources | G22: Total | J22: Identify Use of Funds | M22: Costs paid by AHP | N22: Costs paid by Other Sources | O22: Total
B23: (Rehabilitation Description, Developer Fee, Sponsor Fee, etc.) | J23: (Rehabilitation Description, Developer Fee, Sponsor Fee, etc.)
A25: 4a | G25: =SUM(E25:F25) -> 0 | J25: Replace coil and condenser due to damage. Install a new 3 ton 80,000 BTU Goodman furnance | M25: 4875.5 | O25: =SUM(M25:N25) -> 4875.5
A26: b | G26: =SUM(E26:F26) -> 0 | J26: Replace 15 windows with double hung vinyl windows | N26: 6000 | O26: =SUM(M26:N26) -> 6000
A27: c | G27: =SUM(E27:F27) -> 0 | O27: =SUM(M27:N27) -> 0
A28: d | G28: =SUM(E28:F28) -> 0 | O28: =SUM(M28:N28) -> 0
A29: e | G29: =SUM(E29:F29) -> 0 | O29: =SUM(M29:N29) -> 0
A30: f | G30: =SUM(E30:F30) -> 0 | O30: =SUM(M30:N30) -> 0
A31: g | G31: =SUM(E31:F31) -> 0 | O31: =SUM(M31:N31) -> 0
A32: h | B32: 3rd Party Inspection Fee | G32: =SUM(E32:F32) -> 0 | O32: =SUM(M32:N32) -> 0
A33: i | B33: Other Fees (Identify) | G33: =SUM(E33:F33) -> 0 | J33: 3rd Party Inspection Fee | M33: 150 | O33: =SUM(M33:N33) -> 150
B34: =IF(E34="","",IF(E34<3500,"The minimum rehabilitation amount must be at least $3,500","")) -> The minimum rehabilitation amount must be at least $3,500 | D34: Rehabilitation Work Sub-total | E34: =SUM(E25:E33) -> 0 | F34: =SUM(F25:F33) -> 0 | G34: =SUM(G25:G33) -> 0 | J34: Sponsor Fee - $500 max/unit | M34: 500 | O34: =SUM(M34:N34) -> 500
A35: 5 | B35: Sponsor Fee - $500 max/unit | C35: =IF(C4=0,"Enter number of units above",IF((G35/C4)<=500,"","Exceeds Max Fees Allowed")) -> Enter number of units above | G35: =SUM(E35:F35) -> 0 | J35: Developer Fee (if allowed) - $500 max/unit | M35: 500 | O35: =SUM(M35:N35) -> 500 | Q35: =G36 -> 0 | R35: Developer fee $
A36: 6 | B36: Developer Fee (if allowed) - $500 max/unit | C36: =IF(C4=0,"Enter number of units above",IF((G36/C4)<=500,"","Exceeds Max Fees Allowed")) -> Enter number of units above | G36: =SUM(E36:F36) -> 0 | J36: Homeownership Counseling Fee - $500 max/unit | O36: =SUM(M36:N36) -> 0 | Q36: =G36/(G38-G36) -> #DIV/0! | R36: Developer fee %
A37: 7 | B37: Homeownership Counseling Fee - $500 max/unit | C37: =IF(C4=0,"Enter number of units above",IF((G37/C4)<=500,"","Exceeds Max Fees Allowed")) -> Enter number of units above | G37: =SUM(E37:F37) -> 0 | J37: Other Fees (Identify) | K37: Recording Fees | M37: 22 | O37: =SUM(M37:N37) -> 22 | Q37: =G34 -> 0 | R37: Total Rehab Costs
B38: Total Uses | C38: =IF(E38>750000,"Maximum AHP Subsidy is $750,000","") | E38: =SUM(E34:E37) -> 0 | F38: =SUM(F34:F37) -> 0 | G38: =SUM(G34:G37) -> 0 | J38: Total Uses | M38: =SUM(M25:M37) -> 6047.5 | N38: =SUM(N25:N37) -> 6000 | O38: =SUM(O25:O37) -> 12047.5 | Q38: =G37 -> 0 | R38: Total Counseling costs
C39: Total Sources Must Match Total Uses | E39: =IF(D17=G38,"OK","Error - Sources must Equal Uses") -> OK | K39: Total Sources Must Match Total Uses | M39: =IF(L17=O38,"OK","Error - Sources must Equal Uses") -> OK | R39: Total Development Cost/unit (not using this cell)
Q40: =G38 -> 0 | R40: Total project costs
A42: Explanation (if needed):

Sheet Below MR
B1: Household Name:
A2: Project Number:
A3: Targeting Breakdown: | C3: Total # of units | D3: <=50% | E3: <=60% | F3: <=80%
C4: =IF(AND(D4="",E4="",F4=""),0,SUM(D4:F4)) -> 0
A5: Note: Blue shaded areas indicate information to be entered by applicant. | F5: Effective: September 1, 2024
A6: A | B6: CALCULATE THE NET PRESENT VALUE OF THE MORTGAGE (SPONSOR'S CASH CONTRIBUTION)
B7: Discount Rate (Assigned by HFH International) | C7: 0.0802
D8: Example | E8: Per Unit | F8: Total
B9: Habitat Note/Mortgage Amount | D9: 110197 | F9: =E9 -> 0 | H9: =F9 -> 0 | I9: Mortgage amount
B10: Mortgage Term (Months) - 60 month minimum and 480 month maximum | D10: 360 | F10: =IF(E10="","",E10) | H10: =F10/12 -> #VALUE! | I10: Term
B11: Mortgage Rate - maximum 200 basis pts over Freddie Mac's Compilation of Weekly Survey Data
B12: Mortgage Rate | D12: 0 | F12: =E12 -> 0
B13: Monthly P&I Payment | D13: =-(PMT((D12/12),D10,D9)) -> 306.10278 | E13: =-(PMT((E12/12),E10,E9)) -> #NUM! | F13: =E13 -> #NUM! | H13: =IF(ISERROR(F13*12),0,F13*12) -> 0 | I13: Annual debt service
B14: Net Present Value of Below Market Rate Mortgage | D14: =PV((C7/12),D10,-D13) -> 41637.613 | E14: =ROUNDDOWN(PV((C7/12),E10,-E13),2) -> #NUM! | F14: =E14 -> #NUM!
A16: Project Sources
A17: B | B17: IN-KIND SOURCES | D17: Example | E17: Per Unit | F17: Total
B18: Value of Donated Land | D18: 900 | F18: =E18 -> 0
B19: Value of Donated Professional Labor | D19: 8314.39 | F19: =E19 -> 0
B20: Value of Donated Materials | D20: 21784.94 | F20: =E20 -> 0
B21: Sub-Total: B | D21: =SUM(D18:D20) -> 30999.33 | E21: =SUM(E18:E20) -> 0 | F21: =E21 -> 0
A23: C | B23: CASH SOURCES
B24: Homebuyer Paid Contribution | D24: 500 | F24: =E24 -> 0 | H24: 0 | I24: Consumer Loan Amt
B25: Cash Contributions/Fundraising | D25: 36476.2 | F25: =E25 -> 0 | H25: 0 | I25: Consumer Loan Term
B26: Other Cash Sources (Identify Below) | H26: 0 | I26: Consumer Loan Amort
D27: =5379.78+0.36 -> 5380.14 | F27: =E27 -> 0 | H27: 0 | I27: Consumer Loan Rate
B28: Value of Habitat Mortgage | D28: =D14 -> 41637.613 | E28: =E14 -> #NUM! | F28: =E28 -> #NUM! | H28: 0 | I28: Consumer Loan Annual Debt
B29: Sub-Total: C | D29: =D24+D25+D27+D28 -> 83993.953 | E29: =E24+E25+E27+E28 -> #NUM! | F29: =E29 -> #NUM!
A30: AHP Subsidy Requested is required to be rounded down to the nearest dollar. Enter the amount listed in Line D for the AHP Subsidy Requested. | D30: =IF(E31>50000,"Subsidy Per Unit cannot exceed $50,000.","") -> #NUM!
A31: D | B31: REMAINING AHP GAP | D31: =D57-D29 -> 22269.407 | E31: =E57-E29 -> #NUM! | F31: =E31 -> #NUM!
D32: =IF(F31>750000,"Total AHP Subsidy cannot exceed $750,000.","") -> #NUM!
A33: E | B33: Total of All Sources (B+C+D) | D33: =SUM(D21+D29+D31) -> 137262.69 | E33: =SUM(E21+E29+E31) -> #NUM! | F33: =E33 -> #NUM! | H33: =F33 -> #NUM! | I33: Total sources
A35: Project Costs
A36: F | B36: NON-CASH COSTS | D36: Example | E36: Per Unit | F36: Total
B37: Donated Land | D37: =D18 -> 900 | E37: =E18 -> 0 | F37: =E37 -> 0
B38: Donated Professional Labor | D38: =D19 -> 8314.39 | E38: =E19 -> 0 | F38: =E38 -> 0
B39: Donated Materials | D39: =D20 -> 21784.94 | E39: =E20 -> 0 | F39: =E39 -> 0
B40: Sub-Total: F | D40: =D21 -> 30999.33 | E40: =E21 -> 0 | F40: =E40 -> 0
A42: G | B42: CASH COSTS
B43: Land/Lot Cost | D43: 0 | F43: =E43 -> 0 | H43: =F43+F37 -> 0 | I43: Total Acquisition Cost
B44: Site Work/Infrastructure | D44: 23537.58 | F44: =E44 -> 0 | H44: =F44+F45+F46+F38+F39 -> 0 | I44: Hard Const Costs
...

Sheet USDA Income Limits
A1: 2024 Owner-occupied Affordable Housing Program (AHP) Income Limits
C4: Click Here

Sheet Sources
D1: SOURCES OF FUNDS | E1: Don't change anything on tab, otherwise Download tab will need to be updated | L1: If Committed column = yes commitment letter is needed
C2: Description | E2: Formulas may need to be updated from time to time and that is okay
A3: RowNum | B3: Description | C3: Code | E3: AMOUNT | F3: TERM (years) | G3: AMORT | H3: RATE | I3: ANNUAL DEBT SERVICE | J3: HARD DEBT | K3: COMMITTED
A4: 1 | B4: AHP Subsidy | C4: 1 | D4: AHP Subsidy | E4: =IF('Start Here'!C3="DPA",DPA!H50,IF('Start Here'!C3="Rehab",Rehab!G19,IF('Start Here'!C3="Below MR",'Below MR'!F31,0))) -> 0 | F4: 0 | G4: 0 | H4: 0 | I4: 0 | J4: N | K4: N | L4: Hard Coded N for all processes
A5: 2 | B5: NPV | C5: 2 | D5: NET PRESENT VALUE OF SPONSOR LOAN BELOW MARKET RATE | E5: =IF('Start Here'!C3="Below MR",'Below MR'!F14,0) -> 0 | F5: =IF('Start Here'!C3="Below MR",'Below MR'!F10,0)/12 -> 0 | G5: =F5 -> 0 | H5: =IF('Start Here'!C3="Below MR",'Below MR'!E12,0) -> 0 | I5: 0 | J5: N | K5: N | L5: Hard Coded N for application & disbursement - Documentation is the CD and it's provided at Disbursement in another section.
A6: 3 | B6: Owner Equity | C6: 18 | D6: =IF('Start Here'!C3="OO Rehabilitation","OWNER CONTRIBUTION","BUYER DOWNPAYMENT") -> BUYER DOWNPAYMENT | E6: =IF('Start Here'!C3="DPA",DPA!D58,IF('Start Here'!C3="Rehab",Rehab!D12,IF('Start Here'!C3="Below MR",'Below MR'!F24,IF('Start Here'!C3="",0)))) -> 0 | F6: 0 | G6: 0 | H6: 0 | I6: 0 | J6: N | K6: N | L6: Hard Coded N for application & disbursement - Documentation is the CD and it's provided at Disbursement in another section.
A7: 4 | B7: Perm Finance | C7: 2 | D7: MORTGAGE | E7: =IF('Start Here'!C3="DPA",DPA!D57,IF('Start Here'!C3="Rehab",0,IF('Start Here'!C3="Below MR",0,0))) -> 0 | F7: =IF('Start Here'!C3="DPA",DPA!J27,IF('Start Here'!C3="Rehab",0,IF('Start Here'!C3="Below MR",0,0)))/12 -> 0 | G7: =F7 -> 0 | H7: =IF('Start Here'!C3="DPA",DPA!J26,IF('Start Here'!C3="Rehab",0,IF('Start Here'!C3="Below MR",0,0))) -> 0 | I7: 0 | J7: Y | K7: N | L7: Hard Coded Y and N for application & disbursement - Documentation is the CD and it's provided at Disbursement in another section.
A8: 5 | B8: Sponsor Contribution | C8: 17 | D8: CASH CONTRIBUTION / FUNDRAISING | E8: =IF('Start Here'!C3="Below MR",'Below MR'!F25,0) -> 0 | F8: 0 | G8: 0 | H8: 0 | I8: 0 | J8: N | K8: N | L8: Hard Coded N for disbursement. Formula for application - Provide general letter at application (maybe change this - why do we need it at application, we never have before)
A9: 6 | B9: Other | C9: 16 | D9: =DPA!B59 -> Other sources | E9: =IF('Start Here'!C3="DPA",DPA!D59,IF('Start Here'!C3="Rehab",Rehab!D16,IF('Start Here'!C3="Below MR",'Below MR'!F27,0))) -> 0 | F9: =IF('Start Here'!C3="Rehab",Rehab!F16,0)/12 -> 0 | G9: =F9 -> 0 | H9: =IF('Start Here'!C3="Rehab",Rehab!E16,0) -> 0 | I9: 0 | J9: =IF(E9=0,"N","Y") -> N | K9: =IF(E9=0,"N","Y") -> N | L9: Provide proof at application and disbursements. If it's an item that's only required on the CD (ex: county tax credits), they will have to provide a simple document stating to look at the CD.
A10: 7 | B10: Grant | C10: 15 | D10: =Rehab!B14 -> Weatherization Grant | E10: =IF(AND(Rehab!D14>0,'Start Here'!C3="Rehab"),Rehab!D14,0) -> 0 | F10: 0 | G10: 0 | H10: 0 | I10: 0 | J10: =IF(E10=0,"N","Y") -> N | K10: =IF(E10=0,"N","Y") -> N | L10: Provide proof at application and disbursements
A11: 8 | B11: HOME | C11: 8 | D11: =Rehab!B15 -> HOME Grant | E11: =IF(AND(Rehab!D15>0,'Start Here'!C3="Rehab"),Rehab!D15,0) -> 0 | F11: 0 | G11: 0 | H11: 0 | I11: 0 | J11: =IF(E11=0,"N","Y") -> N | K11: =IF(E11=0,"N","Y") -> N | L11: Provide proof at application and disbursements
A12: 9 | B12: Unsecured Debt | C12: 16 | D12: Consumer Loan | E12: =IF(AND(Rehab!D13>0,'Start Here'!C3="Rehab"),Rehab!D13,0) -> 0 | F12: =IF(AND(Rehab!F13>0,'Start Here'!C3="Rehab"),Rehab!F13,0)/12 -> 0 | G12: =F12 -> 0 | H12: =IF(AND(Rehab!E13>0,'Start Here'!C3="Rehab"),Rehab!E13,0) -> 0 | I12: 0 | J12: =IF(E12=0,"N","Y") -> N | K12: =IF(E12=0,"N","Y") -> N | L12: Provide proof at application and disbursements
A13: 10 | B13: In-Kind Sources | C13: 16 | D13: In-Kind Sources | E13: ='Below MR'!F21 -> 0 | F13: 0 | G13: 0 | H13: 0 | I13: 0 | J13: N | K13: N | L13: Hard Coded for disbursement - Provide general letter at application (maybe change this - why do we need it at application, we never have before)
D14: Total Sources | E14: =SUM(E4:E13) -> 0
D15: HOUSING | L15: Letters can state that each disbursement will be
L16: reviewed for source documentation at that time
D17: ****Note**** Round down in the Net present value cell in HFH tab needs to stay | L17: Sources may change at each disbursement

Sheet Project Worksheet
B1: Don't change anything on tab, otherwise Download tab will need to be updated | E1: Formulas may need to be updated from time to time and that is okay
B3: Households earning ≤ 50.00% of the Area Median Income | C3: =DPA!J6+Rehab!D4+'Below MR'!D4 -> 0
B4: # of units >50% and <=60% | C4: =DPA!J8+Rehab!E4+'Below MR'!E4 -> 0
B5: # of units >60% and <=80% | C5: =DPA!J10+Rehab!F4+'Below MR'!F4 -> 0
B6: Total AMI Units | C6: =SUM(C3:C5) -> 0
B7: Total Project Units | C7: =DPA!F46+Rehab!C4+'Below MR'!C4 -> 0
B8: Acquisition Only units | C8: =DPA!F46+'Below MR'!C4 -> 0
B10: Hard Const Costs | C10: ='Below MR'!H44 -> 0 | G10: Number of Units | H10: =C7 -> 0
G11: Developer Fee per unit | H11: 500
B12: Total Acquisition Cost | C12: ='Below MR'!H43 -> 0
B13: Total permanent financing (purchase price) | C13: =DPA!D66 -> 0 | G13: Percent Allowed | H13: 0.15
B14: Total const or rehab costs | C14: =Rehab!Q37+'Below MR'!H45 -> 0
B15: Developer/Sponsor Fee | C15: =DPA!D69+Rehab!G35+Rehab!G36+'Below MR'!F49 -> 0 | G15: Developer Fee Allowed | H15: =IF('Start Here'!C3="Rehab",'Project Worksheet'!H10*H11,"NA") -> NA
B16: Total Development Costs | C16: =C12+C14+C15+C13 -> 0
B17: Homebuyer Education | C17: =DPA!D68+Rehab!G37+'Below MR'!F50 -> 0 | D17: Max Per Unit | E17: =IF(C7=0,0,MAX(DPA!E20:H20,Rehab!G37/C7,'Below MR'!E50)) -> 0 | G17: Homebuyer Ed Allowed | H17: 500 | I17: per unit
B18: Buyer's Closing Costs | C18: =DPA!D67+'Below MR'!F51+'Below MR'!F52+'Below MR'!F53+'Below MR'!F55+'Below MR'!F56 -> 0
B19: Total Project Costs (Total Uses) | C19: =C16+C17+C18 -> 0 | G19: Actual Developer Fees | H19: =Rehab!G36 -> 0
B21: Total Development costs per unit | C21: =IF(C7=0,0,C19/C7) -> 0 | G21: Homebuyer Downpayment | H21: =IFERROR(Sources!E6/'Project Worksheet'!H10,0) -> 0
B22: Developer fee % | C22: 0
B23: Total Rehab Costs | C23: =Rehab!Q37 -> 0 | G23: Front Ratio | H23: =IF('Start Here'!C3="DPA",DPA!J25,0) -> 0
B24: Total Sources | C24: =Sources!E14 -> 0
B25: Const or Rehab cost per unit | C25: =IF(C7=0,0,C14/C7) -> 0
B27: Total Acquisition Cost per unit | C27: =IF(C7=0,0,C12/C7) -> 0

Sheet Download
A1: fundsSources[0].description | B1: =Sources!D5 -> NET PRESENT VALUE OF SPONSOR LOAN BELOW MARKET RATE
A2: fundsSources[0].descriptionCode.code | B2: =Sources!C5 -> 2
A3: fundsSources[0].amount | B3: =Sources!E5 -> 0
A4: fundsSources[0].rate | B4: =Sources!H5 -> 0
A5: fundsSources[0].term | B5: =Sources!F5 -> 0
A6: fundsSources[0].isApproved | B6: =Sources!K5 -> N
A7: fundsSources[0].housingCommercial | B7: =Sources!D15 -> HOUSING
A8: fundsSources[0].amortPeriod | B8: =Sources!G5 -> 0
A9: fundsSources[0].annualDebtSvc | B9: =Sources!I5 -> 0
A10: fundsSources[0].hardDebt | B10: =Sources!J5 -> N
A11: fundsSources[0].rownum | B11: =Sources!A5 -> 2
A12: fundsSources[1].description | B12: =Sources!D6 -> BUYER DOWNPAYMENT
A13: fundsSources[1].descriptionCode.code | B13: =Sources!C6 -> 18
A14: fundsSources[1].amount | B14: =Sources!E6 -> 0
A15: fundsSources[1].rate | B15: =Sources!H6 -> 0
A16: fundsSources[1].term | B16: =Sources!F6 -> 0
A17: fundsSources[1].isApproved | B17: =Sources!K6 -> N
A18: fundsSources[1].housingCommercial | B18: =Sources!D15 -> HOUSING
A19: fundsSources[1].amortPeriod | B19: =Sources!G6 -> 0
A20: fundsSources[1].annualDebtSvc | B20: =Sources!I6 -> 0
A21: fundsSources[1].hardDebt | B21: =Sources!J6 -> N
A22: fundsSources[1].rownum | B22: =Sources!A6 -> 3
A23: fundsSources[2].description | B23: =Sources!D7 -> MORTGAGE
A24: fundsSources[2].descriptionCode.code | B24: =Sources!C7 -> 2
A25: fundsSources[2].amount | B25: =Sources!E7 -> 0
A26: fundsSources[2].rate | B26: =Sources!H7 -> 0
A27: fundsSources[2].term | B27: =Sources!F7 -> 0
A28: fundsSources[2].isApproved | B28: =Sources!K7 -> N
A29: fundsSources[2].housingCommercial | B29: =Sources!$D$15 -> HOUSING
A30: fundsSources[2].amortPeriod | B30: =Sources!G7 -> 0
A31: fundsSources[2].annualDebtSvc | B31: =Sources!I7 -> 0
A32: fundsSources[2].hardDebt | B32: =Sources!J7 -> Y
A33: fundsSources[2].rownum | B33: =Sources!A7 -> 4
A34: fundsSources[3].description | B34: =Sources!D8 -> CASH CONTRIBUTION / FUNDRAISING
A35: fundsSources[3].descriptionCode.code | B35: =Sources!C8 -> 17
A36: fundsSources[3].amount | B36: =Sources!E8 -> 0
A37: fundsSources[3].rate | B37: =Sources!H8 -> 0
A38: fundsSources[3].term | B38: =Sources!F8 -> 0
A39: fundsSources[3].isApproved | B39: =Sources!K8 -> N
A40: fundsSources[3].housingCommercial | B40: =Sources!$D$15 -> HOUSING
...

Sheet Revisions
B1: First Workbook used in 2024
B2: Label changes only, no testing done for EUA
A3: Revision Date | B3: Tab | C3: Update | D3: Explanation
A4: 45531 | B4: All tabs | C4: Revised the effective date to September 1, 2024 | D4: Used by internal and external users to verify the correct FW is being used.
B5: DPA and Below MR | C5: Updated the lender fee and loan discount fee to 3% each | D5: This aligns with the 2024 IP.
B6: Below MR | C6: Updated the HFH Discount Rate to June 30, 2024 rate (8.02) | D6: This change allows the most recent discount rate to be utilized.
B7: USDA Income Limits | C7: Updated header to 2024 | D7: New income limits for 2024 will be posted at the same time as the FW's.
B9: First Workbook used in 2023
B10: Label changes only, no testing done for EUA
A11: Revision Date | B11: Tab | C11: Update | D11: Explanation
A12: 45155 | B12: Below MR | C12: Updated the Discount Rate to the one released as of June 30, 2023 (7.49%) | D12: The updated rate reflects the current discount rate used by Habitat
B13: USDA Income Limits | C13: Chaged head from 2022 income limits to 2023 | D13: New income limits will be posted same day (08/21/2023)
B14: All tabs | C14: Updated the effective date to 08/21/2023 | D14: Used by internal and external users to verify the correct FW is being used
B16: Second Workbook used in 2022
B17: Tested for EUA
A18: Revision Date | B18: Tab | C18: Update | D18: Explanation
A19: 44733 | B19: HFH, Purchase, Rehab | C19: Renamed tabs to DPA, Rehab, Below MR | D19: These names correlate better with online system and IP.
A20: 44733 | B20: New Const | C20: Removed the New Const tab | D20: New construction is still allowed, however, it is now aligned with DPA. One tab will fit both existing properties and new construction.
A21: 44733 | B21: DPA | C21: Front ratio data validation was removed | D21: There are instances during disbursement that the front ratio will be allowed to exceed guideline. Formula is removed to allow for this.
A22: 44733 | B22: Project Worksheet | C22: C22 was hardcoded as 0% | D22: This cell was used for New Construction developer fee. The New construction tab was deleted and no longer used.
A23: 44733 | B23: Sources & Project Worksheet | C23: Updated formulas with new tab names and removed New Construction references | D23: Allows the formulas to work correctly
A24: 44733 | B24: All tabs | C24: Changed the effective date on the top of all tabs | D24: Used by internal and external users to verify the correct FW is being used
A25: 44733 | B25: Start Here | C25: Added explanation regarding tab names | D25: This will help external users understand which tab to use
B27: First Workbook used in 2022
B28: Tested for EUA
A29: Revision Date | B29: Tab | C29: Update | D29: Explanation
A30: 44631 | B30: HFH | C30: Updated the Discount Rate to the one released as of June 30, 2021 (7.23%). | D30: The upated rate reflects the current discount rate used by Habitat.
A31: 44631 | B31: OO Purchase & HFH | C31: Removed data validation for the $500 down requirement as it's no longer required per the 2022 IP. | D31: This aligns with the new 2022 IP.
A32: 44631 | B32: OO Rehab | C32: Update cell B34 for rehabilitation subtotal cost to display red and an error if not at least $3,500 | D32: This aligns with the new 2022 IP.
A33: 44631 | B33: OO Rehab | C33: Moved 3rd Party Inspection and Other Fees to the Rehab section so it can be included in the rehab costs | D33: These should be included in the rehab costs since they are fees paid to outside contractors/organizations. The Sponsor Fee, Developer Fee, and HBE fee are the only fees that should be listed below the line.
A34: 44631 | B34: All tabs | C34: Changed the effective date to the top of all tabs | D34: Used by internal and external users to verify the correct FW is being used.
B36: The following Data Validations are built in to this Workbook: (to update review the sections where data is input by the user) | D36: The following Conditional Formats are built in to this Workbook: (select Conditional Formatting 'This Workbook' to update)
B37: * Mortgage Term can't be less than 60 months or exceed 480 months | D37: * If AHP Subsidy/unit exceeds max subsidy per unit, cell turns red.
B38: * SPU can't exceed guideline per the year approved | D38: * If AHP Subsidy/unit is below $0, cell turns red.
B39: * Owner Occupied Rehabilitation Developer Fee can't exceed $500/unit | D39: * If Total AHP Subsidy exceeds max subsidy per project, cell turns red.
B40: * Homebuyer Education/Counseling Fees can't exceed $500/unit | D40: * If Total AHP Subsidy is below $0, cell turns red.
B41: * Sponsor Fees can't exceed $500/unit | D41: * If Lender Fee/unit exceeds max 3%, font turns red (once mortgage loan amount is entered).
B42: Formula Validations: (select 'Show Formulas' to update. Enter data first to verify all formulas are showing up) | D42: * If Loan Discount Fee/unit exceeds max 3%, font turns red (once mortgage loan amount is entered).
B43: * Total AHP Subsidy | D43: * If front ratio is over 38%, font turns red
B44: * Subsidy Per Unit | D44: * If sources and uses match, font turns green and states 'OK'.
...
