Workbook
Name County: 'Income Limits'!$B$3:$B$3676
Name County_State: 'Rent Roll Worksheet'!$M$7
Name Date: 'Start Here'!$B$5
Name Effective_Date: 'USDA Income Limits'!$C$3:$C$30
Name Effective_Date_Year: 'USDA Income Limits'!$B$3:$B$30
Name Income: 'County USDA Limits'!$F$1
Name Income_Limits_2021: 'USDA Income Limits'!$F$3:$I$365
Name Income_Limits_2022: 'USDA Income Limits'!$J$3:$M$365
Name Income_Limits_2023: 'USDA Income Limits'!$N$3:$Q$365
Name Income_Limits_2024: 'USDA Income Limits'!$R$3:$U$366
Name Income_Limits_2025: 'USDA Income Limits'!$V$3:$Y$366
Name Income_Limits_2026: 'USDA Income Limits'!$Z$3:$AC$366
Name OccupiedList: 'Rent Roll Worksheet'!$U$8:$U$8
Name USDA_2021_4P: 'County USDA Limits'!$C$5:$C$9
Name USDA_2021_5P: 'County USDA Limits'!$D$5:$D$9
Name USDA_2022_4P: 'County USDA Limits'!$C$10:$C$14
Name USDA_2022_5P: 'County USDA Limits'!$D$10:$D$14
Name USDA_2023_4P: 'County USDA Limits'!$C$15:$C$19
Name USDA_2023_5P: 'County USDA Limits'!$D$15:$D$19
Name USDA_2024_4P: 'County USDA Limits'!$C$20:$C$24
Name USDA_2024_5P: 'County USDA Limits'!$D$20:$D$24
Name USDA_2025_4P: 'County USDA Limits'!$C$25:$C$29
Name USDA_2025_5P: 'County USDA Limits'!$D$25:$D$29
Name USDA_2026_4P: 'County USDA Limits'!$C$30:$C$34
Name USDA_2026_5P: 'County USDA Limits'!$D$30:$D$34
Name USDA_Buckets: 'County USDA Limits'!$B$5:$B$9
Name USDA_Counties: 'USDA Income Limits'!$E$3:$E$366
Name USDA_Limits_2023: 'USDA Income Limits'!$N$3:$Q$366
Name Year: 'Income Limits'!$C$2:$AG$2

Sheet Start Here
A1: FHLBank Topeka -- Affordable Housing Program
A2: Rent Roll Worksheet/Rental Project Worksheet
A3: Effective Date: 10/01/2026
A4: =IF(OR(B6="",B7="",B8="",C16=0),"All information on this page must be completed before moving on.","") -> All information on this page must be completed before moving on.
A5: Date: | E5: All information on this tab must be completed for the remaining tabs to unlock. Only one tab will be required to be filled out based on occupancy - Rent Roll Worksheet or Rental Project Worksheet. The required tab will be indicated below the Targeting once this tab is completed. For Occupied Projects, the Date entered should be the "As Of" date of the report you are using to fill out the Rent Roll tab. Unoccuiped projects should use today's date. "Is the Project Occupied?" should be answered Yes if the project meets any of the following criteria: -The project is remaining occupied throughout construction -This document is being submitted with the Project Completion Report Please complete the Project Targeting section with the targeting from the AHP Application/Agreement or the most recent modification.
A6: Project Name:
A7: Project County:
A8: Is the Project Occupied?
B10: Project Targeting
B11: 50% AMI or Below
B12: Of those 50% and Below, how many are targeted at 30% AMI or Below (Extremely Low Income)
B13: 50 - 60% AMI
B14: 60 - 80% AMI
B15: Market Rate (Unrestricted Rent & Income)
B16: Total Number of Units | C16: =SUM(C13:C15)+C11 -> 0
A17: =IF(A4<>"","",IF(B8="No", "Please continue to the Rental Project Worksheet","Please continue to the Rent Roll Worksheet"))

Sheet Rent Roll Worksheet
A1: -Leave 'Type of Unit' (col. C) blank, or select a dropdown option if unit is currently 'Vacant', 'Manager Unit', or 'Market Rate'. -The '# of Bedrooms' (col. E) is limited to 1, 2, 3, 4, or SRO for 'Single Resident Occupancy' AKA efficiency unit. If counting beds as units, select 'SRO' -'Tenant Portion Monthly Rent' (col. M) is ONLY the tenant's portion - do not include utilities/subsidized rent amounts. - For additional help, hover over any column heading - there are further instructions - All blue cell entries must match move-in/recertification documentation. Ex: Lease, TIC, Income Docs, and/or Intake Form -DO NOT cut and paste data
Q3: Total Rent/Month | T3: =SUM(O15:O58)+SUM(O66:O121)+SUM(O129:O184)+SUM(O192:O245) -> 0
Q4: Total Rent/Year | T4: =T3*12 -> 0
Q5: Total Affordable Unit Rent/Year | T5: =T4-T6 -> 0
Q6: Total Market Rate Rent/Year | T6: =SUMIF(M15:M245,"Market Rate", O15:O245)*12 -> 0
M7: ='Start Here'!B7 -> 0 | Q7: Total Rent/Year if Fully Occupied | T7: =IFERROR((T5/SUM(R16:R19))*SUM(R15:R19)+T6, 0) -> 0 | V7: Vacant | W7: Vacant
V8: Market Rate
A9: No. | B9: Head of Household Name | C9: Type of Unit | D9: Unit # | E9: # of Bedrooms | F9: Income Cert Date Move In or Recertification | G9: Income Cert Year | H9: 50% AMI | I9: Household Size | J9: Annual Income as of Certification Date | K9: HUD 100% AMI for HH Size | L9: HUD AMI Category (If prior to 2021) | M9: % AMI at Move In | N9: Tenant Portion Monthly Rent | O9: Total Monthly Rent | Q9: TIW Targeting | T9: Agreement or Modification Targeting
Q11: % of AMI Income Level | R11: # of Units | S11: % of Units | T11: # of Units
A13: Ex. | B13: John Smith | D13: A-5 | E13: 1 | F13: 41379 | G13: =TEXT(F13,"yyyy") -> 2013 | H13: 21250 | I13: 3 | J13: 16650 | K13: =IF(I13=1,H13*0.7,IF(I13=2,H13*0.8,IF(I13=3,H13*0.9,IF(I13=4,H13,IF(I13=5,H13*1.08,IF(I13=6,H13*1.16,IF(I13=7,H13*1.24,H13*1.32)))))))*2 -> 38250 | M13: =J13/K13 -> 0.43529412 | N13: 425 | O13: 600
A14: Ex. | B14: =IF(C14="Vacant",C14,IF(C14="Manager",C14,IF(C14="Market Rate",C14,"Enter Tenant Name"))) -> Vacant | C14: Vacant | D14: A-6 | E14: 1 | G14: =IF(C14<>"",C14,IF(F14="","",TEXT(F14,"yyyy"))) -> Vacant | H14: =INDEX('Income Limits'!$C$3:$AD$363,MATCH('Rent Roll Worksheet'!$M$7,County,0),MATCH(G14,Year,1)) -> #N/A | K14: =IF(C14="Vacant","",IF(C14="Manager","",IF(C14="Market Rate","",IF(I14=1,H14*0.7,IF(I14=2,H14*0.8,IF(I14=3,H14*0.9,IF(I14=4,H14,IF(I14=5,H14*1.08,IF(I14=6,H14*1.16,IF(I14=7,H14*1.24,H14*1.32)))))))*2))) | M14: =IF(C14="Vacant","Vacant",IF(C14="Manager","Manager",IF(C14="Market Rate","Market Rate",J14/K14))) -> Vacant | N14: 0 | O14: 0
A15: 1 | B15: =IF(C15="Vacant",C15,IF(C15="Manager",C15,IF(C15="Market Rate",C15,"Enter Tenant Name"))) -> Enter Tenant Name | G15: {=IF(C15<>"",C15,IF(F15="","",IF(YEAR(F15)<2021,TEXT(F15,"yyyy"),INDEX(Effective_Date_Year, MATCH(MAX(IF(Effective_Date<=F15, Effective_Date)), Effective_Date, 0), 1))))} | H15: =INDEX('Income Limits'!$C$3:$AH$372,MATCH('Rent Roll Worksheet'!$M$7,County,0),MATCH(G15,Year,1)) -> #N/A | K15: =IF(C15="Vacant","",IF(C15="Manager","",IF(C15="Market Rate","",IF(I15=1,H15*0.7,IF(I15=2,H15*0.8,IF(I15=3,H15*0.9,IF(I15=4,H15,IF(I15=5,H15*1.08,IF(I15=6,H15*1.16,IF(I15=7,H15*1.24,H15*1.32)))))))*2))) -> #N/A | L15: =IF(YEAR(F15)<2021, IF(J15/K15<=0.3, $Q$16, IF(J15/K15<=0.5, $Q$17, IF(J15/K15<=0.6, $Q$18, IF(J15/K15<=0.8, $Q$19, $Q$20)))), "") -> #N/A | M15: {=IF(C15="Vacant","Vacant",IF(C15="Manager","Manager",IF(C15="Market Rate","Market Rate",IF(L15<> "", L15, IF(I15<=4, INDEX(USDA_Buckets, MATCH(MIN(IF(INDIRECT("USDA_" & G15 & "_4P")>=J15, INDIRECT("USDA_" & G15 & "_4P"))), INDIRECT("USDA_" & G15 & "_4P"), 0), 1), INDEX(USDA_Buckets, MATCH(MIN(IF(INDIRECT("USDA_" & G15 & "_5P")>=J15, INDIRECT("USDA_" & G15 & "_5P"))), INDIRECT("USDA_" & G15 & "_5P"), 0), 1))))))} -> #N/A | Q15: Vacant | R15: =COUNTIF(C$15:C$245,"=Vacant") -> 0 | S15: =R15/$R$21 -> #DIV/0!
A16: 2 | B16: =IF(C16="Vacant",C16,IF(C16="Manager",C16,IF(C16="Market Rate",C16,"Enter Tenant Name"))) -> Enter Tenant Name | G16: {=IF(C16<>"",C16,IF(F16="","",IF(YEAR(F16)<2021,TEXT(F16,"yyyy"),INDEX(Effective_Date_Year, MATCH(MAX(IF(Effective_Date<=F16, Effective_Date)), Effective_Date, 0), 1))))} | H16: =INDEX('Income Limits'!$C$3:$AH$372,MATCH('Rent Roll Worksheet'!$M$7,County,0),MATCH(G16,Year,1)) -> #N/A | K16: =IF(C16="Vacant","",IF(C16="Manager","",IF(C16="Market Rate","",IF(I16=1,H16*0.7,IF(I16=2,H16*0.8,IF(I16=3,H16*0.9,IF(I16=4,H16,IF(I16=5,H16*1.08,IF(I16=6,H16*1.16,IF(I16=7,H16*1.24,H16*1.32)))))))*2))) -> #N/A | L16: =IF(YEAR(F16)<2021, IF(J16/K16<=0.3, $Q$16, IF(J16/K16<=0.5, $Q$17, IF(J16/K16<=0.6, $Q$18, IF(J16/K16<=0.8, $Q$19, $Q$20)))), "") -> #N/A | M16: {=IF(C16="Vacant","Vacant",IF(C16="Manager","Manager",IF(C16="Market Rate","Market Rate",IF(L16<> "", L16, IF(I16<=4, INDEX(USDA_Buckets, MATCH(MIN(IF(INDIRECT("USDA_" & G16 & "_4P")>=J16, INDIRECT("USDA_" & G16 & "_4P"))), INDIRECT("USDA_" & G16 & "_4P"), 0), 1), INDEX(USDA_Buckets, MATCH(MIN(IF(INDIRECT("USDA_" & G16 & "_5P")>=J16, INDIRECT("USDA_" & G16 & "_5P"))), INDIRECT("USDA_" & G16 & "_5P"), 0), 1))))))} -> #N/A | Q16: ≤30% | R16: =COUNTIF(M$15:M$245, "="&Q16) -> 0 | S16: =R16/$R$21 -> #DIV/0! | T16: ='Start Here'!C12 -> 0
A17: 3 | B17: =IF(C17="Vacant",C17,IF(C17="Manager",C17,IF(C17="Market Rate",C17,"Enter Tenant Name"))) -> Enter Tenant Name | G17: {=IF(C17<>"",C17,IF(F17="","",IF(YEAR(F17)<2021,TEXT(F17,"yyyy"),INDEX(Effective_Date_Year, MATCH(MAX(IF(Effective_Date<=F17, Effective_Date)), Effective_Date, 0), 1))))} | H17: =INDEX('Income Limits'!$C$3:$AH$372,MATCH('Rent Roll Worksheet'!$M$7,County,0),MATCH(G17,Year,1)) -> #N/A | K17: =IF(C17="Vacant","",IF(C17="Manager","",IF(C17="Market Rate","",IF(I17=1,H17*0.7,IF(I17=2,H17*0.8,IF(I17=3,H17*0.9,IF(I17=4,H17,IF(I17=5,H17*1.08,IF(I17=6,H17*1.16,IF(I17=7,H17*1.24,H17*1.32)))))))*2))) -> #N/A | L17: =IF(YEAR(F17)<2021, IF(J17/K17<=0.3, $Q$16, IF(J17/K17<=0.5, $Q$17, IF(J17/K17<=0.6, $Q$18, IF(J17/K17<=0.8, $Q$19, $Q$20)))), "") -> #N/A | M17: {=IF(C17="Vacant","Vacant",IF(C17="Manager","Manager",IF(C17="Market Rate","Market Rate",IF(L17<> "", L17, IF(I17<=4, INDEX(USDA_Buckets, MATCH(MIN(IF(INDIRECT("USDA_" & G17 & "_4P")>=J17, INDIRECT("USDA_" & G17 & "_4P"))), INDIRECT("USDA_" & G17 & "_4P"), 0), 1), INDEX(USDA_Buckets, MATCH(MIN(IF(INDIRECT("USDA_" & G17 & "_5P")>=J17, INDIRECT("USDA_" & G17 & "_5P"))), INDIRECT("USDA_" & G17 & "_5P"), 0), 1))))))} -> #N/A | Q17: >30% and ≤50% | R17: =COUNTIF(M$15:M$245, "="&Q17) -> 0 | S17: =R17/$R$21 -> #DIV/0! | T17: ='Start Here'!C11-'Start Here'!C12 -> 0
A18: 4 | B18: =IF(C18="Vacant",C18,IF(C18="Manager",C18,IF(C18="Market Rate",C18,"Enter Tenant Name"))) -> Enter Tenant Name | G18: {=IF(C18<>"",C18,IF(F18="","",IF(YEAR(F18)<2021,TEXT(F18,"yyyy"),INDEX(Effective_Date_Year, MATCH(MAX(IF(Effective_Date<=F18, Effective_Date)), Effective_Date, 0), 1))))} | H18: =INDEX('Income Limits'!$C$3:$AH$372,MATCH('Rent Roll Worksheet'!$M$7,County,0),MATCH(G18,Year,1)) -> #N/A | K18: =IF(C18="Vacant","",IF(C18="Manager","",IF(C18="Market Rate","",IF(I18=1,H18*0.7,IF(I18=2,H18*0.8,IF(I18=3,H18*0.9,IF(I18=4,H18,IF(I18=5,H18*1.08,IF(I18=6,H18*1.16,IF(I18=7,H18*1.24,H18*1.32)))))))*2))) -> #N/A | L18: =IF(YEAR(F18)<2021, IF(J18/K18<=0.3, $Q$16, IF(J18/K18<=0.5, $Q$17, IF(J18/K18<=0.6, $Q$18, IF(J18/K18<=0.8, $Q$19, $Q$20)))), "") -> #N/A | M18: {=IF(C18="Vacant","Vacant",IF(C18="Manager","Manager",IF(C18="Market Rate","Market Rate",IF(L18<> "", L18, IF(I18<=4, INDEX(USDA_Buckets, MATCH(MIN(IF(INDIRECT("USDA_" & G18 & "_4P")>=J18, INDIRECT("USDA_" & G18 & "_4P"))), INDIRECT("USDA_" & G18 & "_4P"), 0), 1), INDEX(USDA_Buckets, MATCH(MIN(IF(INDIRECT("USDA_" & G18 & "_5P")>=J18, INDIRECT("USDA_" & G18 & "_5P"))), INDIRECT("USDA_" & G18 & "_5P"), 0), 1))))))} -> #N/A | Q18: >50% and ≤60% | R18: =COUNTIF(M$15:M$245, "="&Q18) -> 0 | S18: =R18/$R$21 -> #DIV/0! | T18: ='Start Here'!C13 -> 0
A19: 5 | B19: =IF(C19="Vacant",C19,IF(C19="Manager",C19,IF(C19="Market Rate",C19,"Enter Tenant Name"))) -> Enter Tenant Name | G19: {=IF(C19<>"",C19,IF(F19="","",IF(YEAR(F19)<2021,TEXT(F19,"yyyy"),INDEX(Effective_Date_Year, MATCH(MAX(IF(Effective_Date<=F19, Effective_Date)), Effective_Date, 0), 1))))} | H19: =INDEX('Income Limits'!$C$3:$AH$372,MATCH('Rent Roll Worksheet'!$M$7,County,0),MATCH(G19,Year,1)) -> #N/A | K19: =IF(C19="Vacant","",IF(C19="Manager","",IF(C19="Market Rate","",IF(I19=1,H19*0.7,IF(I19=2,H19*0.8,IF(I19=3,H19*0.9,IF(I19=4,H19,IF(I19=5,H19*1.08,IF(I19=6,H19*1.16,IF(I19=7,H19*1.24,H19*1.32)))))))*2))) -> #N/A | L19: =IF(YEAR(F19)<2021, IF(J19/K19<=0.3, $Q$16, IF(J19/K19<=0.5, $Q$17, IF(J19/K19<=0.6, $Q$18, IF(J19/K19<=0.8, $Q$19, $Q$20)))), "") -> #N/A | M19: {=IF(C19="Vacant","Vacant",IF(C19="Manager","Manager",IF(C19="Market Rate","Market Rate",IF(L19<> "", L19, IF(I19<=4, INDEX(USDA_Buckets, MATCH(MIN(IF(INDIRECT("USDA_" & G19 & "_4P")>=J19, INDIRECT("USDA_" & G19 & "_4P"))), INDIRECT("USDA_" & G19 & "_4P"), 0), 1), INDEX(USDA_Buckets, MATCH(MIN(IF(INDIRECT("USDA_" & G19 & "_5P")>=J19, INDIRECT("USDA_" & G19 & "_5P"))), INDIRECT("USDA_" & G19 & "_5P"), 0), 1))))))} -> #N/A | Q19: >60% and ≤80% | R19: =COUNTIF(M$15:M$245, "="&Q19) -> 0 | S19: =R19/$R$21 -> #DIV/0! | T19: ='Start Here'!C14 -> 0
A20: 6 | B20: =IF(C20="Vacant",C20,IF(C20="Manager",C20,IF(C20="Market Rate",C20,"Enter Tenant Name"))) -> Enter Tenant Name | G20: {=IF(C20<>"",C20,IF(F20="","",IF(YEAR(F20)<2021,TEXT(F20,"yyyy"),INDEX(Effective_Date_Year, MATCH(MAX(IF(Effective_Date<=F20, Effective_Date)), Effective_Date, 0), 1))))} | H20: =INDEX('Income Limits'!$C$3:$AH$372,MATCH('Rent Roll Worksheet'!$M$7,County,0),MATCH(G20,Year,1)) -> #N/A | K20: =IF(C20="Vacant","",IF(C20="Manager","",IF(C20="Market Rate","",IF(I20=1,H20*0.7,IF(I20=2,H20*0.8,IF(I20=3,H20*0.9,IF(I20=4,H20,IF(I20=5,H20*1.08,IF(I20=6,H20*1.16,IF(I20=7,H20*1.24,H20*1.32)))))))*2))) -> #N/A | L20: =IF(YEAR(F20)<2021, IF(J20/K20<=0.3, $Q$16, IF(J20/K20<=0.5, $Q$17, IF(J20/K20<=0.6, $Q$18, IF(J20/K20<=0.8, $Q$19, $Q$20)))), "") -> #N/A | M20: {=IF(C20="Vacant","Vacant",IF(C20="Manager","Manager",IF(C20="Market Rate","Market Rate",IF(L20<> "", L20, IF(I20<=4, INDEX(USDA_Buckets, MATCH(MIN(IF(INDIRECT("USDA_" & G20 & "_4P")>=J20, INDIRECT("USDA_" & G20 & "_4P"))), INDIRECT("USDA_" & G20 & "_4P"), 0), 1), INDEX(USDA_Buckets, MATCH(MIN(IF(INDIRECT("USDA_" & G20 & "_5P")>=J20, INDIRECT("USDA_" & G20 & "_5P"))), INDIRECT("USDA_" & G20 & "_5P"), 0), 1))))))} -> #N/A | Q20: Market Rate | R20: =COUNTIF(M$15:M$245, "=Market Rate") -> 0 | S20: =R20/$R$21 -> #DIV/0! | T20: ='Start Here'!C15 -> 0
A21: 7 | B21: =IF(C21="Vacant",C21,IF(C21="Manager",C21,IF(C21="Market Rate",C21,"Enter Tenant Name"))) -> Enter Tenant Name | G21: {=IF(C21<>"",C21,IF(F21="","",IF(YEAR(F21)<2021,TEXT(F21,"yyyy"),INDEX(Effective_Date_Year, MATCH(MAX(IF(Effective_Date<=F21, Effective_Date)), Effective_Date, 0), 1))))} | H21: =INDEX('Income Limits'!$C$3:$AH$372,MATCH('Rent Roll Worksheet'!$M$7,County,0),MATCH(G21,Year,1)) -> #N/A | K21: =IF(C21="Vacant","",IF(C21="Manager","",IF(C21="Market Rate","",IF(I21=1,H21*0.7,IF(I21=2,H21*0.8,IF(I21=3,H21*0.9,IF(I21=4,H21,IF(I21=5,H21*1.08,IF(I21=6,H21*1.16,IF(I21=7,H21*1.24,H21*1.32)))))))*2))) -> #N/A | L21: =IF(YEAR(F21)<2021, IF(J21/K21<=0.3, $Q$16, IF(J21/K21<=0.5, $Q$17, IF(J21/K21<=0.6, $Q$18, IF(J21/K21<=0.8, $Q$19, $Q$20)))), "") -> #N/A | M21: {=IF(C21="Vacant","Vacant",IF(C21="Manager","Manager",IF(C21="Market Rate","Market Rate",IF(L21<> "", L21, IF(I21<=4, INDEX(USDA_Buckets, MATCH(MIN(IF(INDIRECT("USDA_" & G21 & "_4P")>=J21, INDIRECT("USDA_" & G21 & "_4P"))), INDIRECT("USDA_" & G21 & "_4P"), 0), 1), INDEX(USDA_Buckets, MATCH(MIN(IF(INDIRECT("USDA_" & G21 & "_5P")>=J21, INDIRECT("USDA_" & G21 & "_5P"))), INDIRECT("USDA_" & G21 & "_5P"), 0), 1))))))} -> #N/A | Q21: TOTAL | R21: =SUM(R15:R20) -> 0 | S21: =SUM(S15:S20) -> #DIV/0! | T21: =SUM(T15:U20) -> 0
A22: 8 | B22: =IF(C22="Vacant",C22,IF(C22="Manager",C22,IF(C22="Market Rate",C22,"Enter Tenant Name"))) -> Enter Tenant Name | G22: {=IF(C22<>"",C22,IF(F22="","",IF(YEAR(F22)<2021,TEXT(F22,"yyyy"),INDEX(Effective_Date_Year, MATCH(MAX(IF(Effective_Date<=F22, Effective_Date)), Effective_Date, 0), 1))))} | H22: =INDEX('Income Limits'!$C$3:$AH$372,MATCH('Rent Roll Worksheet'!$M$7,County,0),MATCH(G22,Year,1)) -> #N/A | K22: =IF(C22="Vacant","",IF(C22="Manager","",IF(C22="Market Rate","",IF(I22=1,H22*0.7,IF(I22=2,H22*0.8,IF(I22=3,H22*0.9,IF(I22=4,H22,IF(I22=5,H22*1.08,IF(I22=6,H22*1.16,IF(I22=7,H22*1.24,H22*1.32)))))))*2))) -> #N/A | L22: =IF(YEAR(F22)<2021, IF(J22/K22<=0.3, $Q$16, IF(J22/K22<=0.5, $Q$17, IF(J22/K22<=0.6, $Q$18, IF(J22/K22<=0.8, $Q$19, $Q$20)))), "") -> #N/A | M22: {=IF(C22="Vacant","Vacant",IF(C22="Manager","Manager",IF(C22="Market Rate","Market Rate",IF(L22<> "", L22, IF(I22<=4, INDEX(USDA_Buckets, MATCH(MIN(IF(INDIRECT("USDA_" & G22 & "_4P")>=J22, INDIRECT("USDA_" & G22 & "_4P"))), INDIRECT("USDA_" & G22 & "_4P"), 0), 1), INDEX(USDA_Buckets, MATCH(MIN(IF(INDIRECT("USDA_" & G22 & "_5P")>=J22, INDIRECT("USDA_" & G22 & "_5P"))), INDIRECT("USDA_" & G22 & "_5P"), 0), 1))))))} -> #N/A
A23: 9 | B23: =IF(C23="Vacant",C23,IF(C23="Manager",C23,IF(C23="Market Rate",C23,"Enter Tenant Name"))) -> Enter Tenant Name | G23: {=IF(C23<>"",C23,IF(F23="","",IF(YEAR(F23)<2021,TEXT(F23,"yyyy"),INDEX(Effective_Date_Year, MATCH(MAX(IF(Effective_Date<=F23, Effective_Date)), Effective_Date, 0), 1))))} | H23: =INDEX('Income Limits'!$C$3:$AH$372,MATCH('Rent Roll Worksheet'!$M$7,County,0),MATCH(G23,Year,1)) -> #N/A | K23: =IF(C23="Vacant","",IF(C23="Manager","",IF(C23="Market Rate","",IF(I23=1,H23*0.7,IF(I23=2,H23*0.8,IF(I23=3,H23*0.9,IF(I23=4,H23,IF(I23=5,H23*1.08,IF(I23=6,H23*1.16,IF(I23=7,H23*1.24,H23*1.32)))))))*2))) -> #N/A | L23: =IF(YEAR(F23)<2021, IF(J23/K23<=0.3, $Q$16, IF(J23/K23<=0.5, $Q$17, IF(J23/K23<=0.6, $Q$18, IF(J23/K23<=0.8, $Q$19, $Q$20)))), "") -> #N/A | M23: {=IF(C23="Vacant","Vacant",IF(C23="Manager","Manager",IF(C23="Market Rate","Market Rate",IF(L23<> "", L23, IF(I23<=4, INDEX(USDA_Buckets, MATCH(MIN(IF(INDIRECT("USDA_" & G23 & "_4P")>=J23, INDIRECT("USDA_" & G23 & "_4P"))), INDIRECT("USDA_" & G23 & "_4P"), 0), 1), INDEX(USDA_Buckets, MATCH(MIN(IF(INDIRECT("USDA_" & G23 & "_5P")>=J23, INDIRECT("USDA_" & G23 & "_5P"))), INDIRECT("USDA_" & G23 & "_5P"), 0), 1))))))} -> #N/A | Q23: AHP Affordability
A24: 10 | B24: =IF(C24="Vacant",C24,IF(C24="Manager",C24,IF(C24="Market Rate",C24,"Enter Tenant Name"))) -> Enter Tenant Name | G24: {=IF(C24<>"",C24,IF(F24="","",IF(YEAR(F24)<2021,TEXT(F24,"yyyy"),INDEX(Effective_Date_Year, MATCH(MAX(IF(Effective_Date<=F24, Effective_Date)), Effective_Date, 0), 1))))} | H24: =INDEX('Income Limits'!$C$3:$AH$372,MATCH('Rent Roll Worksheet'!$M$7,County,0),MATCH(G24,Year,1)) -> #N/A | K24: =IF(C24="Vacant","",IF(C24="Manager","",IF(C24="Market Rate","",IF(I24=1,H24*0.7,IF(I24=2,H24*0.8,IF(I24=3,H24*0.9,IF(I24=4,H24,IF(I24=5,H24*1.08,IF(I24=6,H24*1.16,IF(I24=7,H24*1.24,H24*1.32)))))))*2))) -> #N/A | L24: =IF(YEAR(F24)<2021, IF(J24/K24<=0.3, $Q$16, IF(J24/K24<=0.5, $Q$17, IF(J24/K24<=0.6, $Q$18, IF(J24/K24<=0.8, $Q$19, $Q$20)))), "") -> #N/A | M24: {=IF(C24="Vacant","Vacant",IF(C24="Manager","Manager",IF(C24="Market Rate","Market Rate",IF(L24<> "", L24, IF(I24<=4, INDEX(USDA_Buckets, MATCH(MIN(IF(INDIRECT("USDA_" & G24 & "_4P")>=J24, INDIRECT("USDA_" & G24 & "_4P"))), INDIRECT("USDA_" & G24 & "_4P"), 0), 1), INDEX(USDA_Buckets, MATCH(MIN(IF(INDIRECT("USDA_" & G24 & "_5P")>=J24, INDIRECT("USDA_" & G24 & "_5P"))), INDIRECT("USDA_" & G24 & "_5P"), 0), 1))))))} -> #N/A | Q24: # of Bedrooms | R24: % AMI | S24: Actual Max Rent for BR & AMI | U24: AHP Affordable Rent
A25: 11 | B25: =IF(C25="Vacant",C25,IF(C25="Manager",C25,IF(C25="Market Rate",C25,"Enter Tenant Name"))) -> Enter Tenant Name | G25: {=IF(C25<>"",C25,IF(F25="","",IF(YEAR(F25)<2021,TEXT(F25,"yyyy"),INDEX(Effective_Date_Year, MATCH(MAX(IF(Effective_Date<=F25, Effective_Date)), Effective_Date, 0), 1))))} | H25: =INDEX('Income Limits'!$C$3:$AH$372,MATCH('Rent Roll Worksheet'!$M$7,County,0),MATCH(G25,Year,1)) -> #N/A | K25: =IF(C25="Vacant","",IF(C25="Manager","",IF(C25="Market Rate","",IF(I25=1,H25*0.7,IF(I25=2,H25*0.8,IF(I25=3,H25*0.9,IF(I25=4,H25,IF(I25=5,H25*1.08,IF(I25=6,H25*1.16,IF(I25=7,H25*1.24,H25*1.32)))))))*2))) -> #N/A | L25: =IF(YEAR(F25)<2021, IF(J25/K25<=0.3, $Q$16, IF(J25/K25<=0.5, $Q$17, IF(J25/K25<=0.6, $Q$18, IF(J25/K25<=0.8, $Q$19, $Q$20)))), "") -> #N/A | M25: {=IF(C25="Vacant","Vacant",IF(C25="Manager","Manager",IF(C25="Market Rate","Market Rate",IF(L25<> "", L25, IF(I25<=4, INDEX(USDA_Buckets, MATCH(MIN(IF(INDIRECT("USDA_" & G25 & "_4P")>=J25, INDIRECT("USDA_" & G25 & "_4P"))), INDIRECT("USDA_" & G25 & "_4P"), 0), 1), INDEX(USDA_Buckets, MATCH(MIN(IF(INDIRECT("USDA_" & G25 & "_5P")>=J25, INDIRECT("USDA_" & G25 & "_5P"))), INDIRECT("USDA_" & G25 & "_5P"), 0), 1))))))} -> #N/A
A26: 12 | B26: =IF(C26="Vacant",C26,IF(C26="Manager",C26,IF(C26="Market Rate",C26,"Enter Tenant Name"))) -> Enter Tenant Name | G26: {=IF(C26<>"",C26,IF(F26="","",IF(YEAR(F26)<2021,TEXT(F26,"yyyy"),INDEX(Effective_Date_Year, MATCH(MAX(IF(Effective_Date<=F26, Effective_Date)), Effective_Date, 0), 1))))} | H26: =INDEX('Income Limits'!$C$3:$AH$372,MATCH('Rent Roll Worksheet'!$M$7,County,0),MATCH(G26,Year,1)) -> #N/A | K26: =IF(C26="Vacant","",IF(C26="Manager","",IF(C26="Market Rate","",IF(I26=1,H26*0.7,IF(I26=2,H26*0.8,IF(I26=3,H26*0.9,IF(I26=4,H26,IF(I26=5,H26*1.08,IF(I26=6,H26*1.16,IF(I26=7,H26*1.24,H26*1.32)))))))*2))) -> #N/A | L26: =IF(YEAR(F26)<2021, IF(J26/K26<=0.3, $Q$16, IF(J26/K26<=0.5, $Q$17, IF(J26/K26<=0.6, $Q$18, IF(J26/K26<=0.8, $Q$19, $Q$20)))), "") -> #N/A | M26: {=IF(C26="Vacant","Vacant",IF(C26="Manager","Manager",IF(C26="Market Rate","Market Rate",IF(L26<> "", L26, IF(I26<=4, INDEX(USDA_Buckets, MATCH(MIN(IF(INDIRECT("USDA_" & G26 & "_4P")>=J26, INDIRECT("USDA_" & G26 & "_4P"))), INDIRECT("USDA_" & G26 & "_4P"), 0), 1), INDEX(USDA_Buckets, MATCH(MIN(IF(INDIRECT("USDA_" & G26 & "_5P")>=J26, INDIRECT("USDA_" & G26 & "_5P"))), INDIRECT("USDA_" & G26 & "_5P"), 0), 1))))))} -> #N/A
A27: 13 | B27: =IF(C27="Vacant",C27,IF(C27="Manager",C27,IF(C27="Market Rate",C27,"Enter Tenant Name"))) -> Enter Tenant Name | G27: {=IF(C27<>"",C27,IF(F27="","",IF(YEAR(F27)<2021,TEXT(F27,"yyyy"),INDEX(Effective_Date_Year, MATCH(MAX(IF(Effective_Date<=F27, Effective_Date)), Effective_Date, 0), 1))))} | H27: =INDEX('Income Limits'!$C$3:$AH$372,MATCH('Rent Roll Worksheet'!$M$7,County,0),MATCH(G27,Year,1)) -> #N/A | K27: =IF(C27="Vacant","",IF(C27="Manager","",IF(C27="Market Rate","",IF(I27=1,H27*0.7,IF(I27=2,H27*0.8,IF(I27=3,H27*0.9,IF(I27=4,H27,IF(I27=5,H27*1.08,IF(I27=6,H27*1.16,IF(I27=7,H27*1.24,H27*1.32)))))))*2))) -> #N/A | L27: =IF(YEAR(F27)<2021, IF(J27/K27<=0.3, $Q$16, IF(J27/K27<=0.5, $Q$17, IF(J27/K27<=0.6, $Q$18, IF(J27/K27<=0.8, $Q$19, $Q$20)))), "") -> #N/A | M27: {=IF(C27="Vacant","Vacant",IF(C27="Manager","Manager",IF(C27="Market Rate","Market Rate",IF(L27<> "", L27, IF(I27<=4, INDEX(USDA_Buckets, MATCH(MIN(IF(INDIRECT("USDA_" & G27 & "_4P")>=J27, INDIRECT("USDA_" & G27 & "_4P"))), INDIRECT("USDA_" & G27 & "_4P"), 0), 1), INDEX(USDA_Buckets, MATCH(MIN(IF(INDIRECT("USDA_" & G27 & "_5P")>=J27, INDIRECT("USDA_" & G27 & "_5P"))), INDIRECT("USDA_" & G27 & "_5P"), 0), 1))))))} -> #N/A | Q27: SRO | R27: 0.3 | S27: {=MAX(IF($E$15:$E$245=Q27,IF($M$15:$M$245=Q16,$N$15:$N$245)))} -> 0 | U27: ='Rental Project Worksheet'!E19 -> #VALUE!
A28: 14 | B28: =IF(C28="Vacant",C28,IF(C28="Manager",C28,IF(C28="Market Rate",C28,"Enter Tenant Name"))) -> Enter Tenant Name | G28: {=IF(C28<>"",C28,IF(F28="","",IF(YEAR(F28)<2021,TEXT(F28,"yyyy"),INDEX(Effective_Date_Year, MATCH(MAX(IF(Effective_Date<=F28, Effective_Date)), Effective_Date, 0), 1))))} | H28: =INDEX('Income Limits'!$C$3:$AH$372,MATCH('Rent Roll Worksheet'!$M$7,County,0),MATCH(G28,Year,1)) -> #N/A | K28: =IF(C28="Vacant","",IF(C28="Manager","",IF(C28="Market Rate","",IF(I28=1,H28*0.7,IF(I28=2,H28*0.8,IF(I28=3,H28*0.9,IF(I28=4,H28,IF(I28=5,H28*1.08,IF(I28=6,H28*1.16,IF(I28=7,H28*1.24,H28*1.32)))))))*2))) -> #N/A | L28: =IF(YEAR(F28)<2021, IF(J28/K28<=0.3, $Q$16, IF(J28/K28<=0.5, $Q$17, IF(J28/K28<=0.6, $Q$18, IF(J28/K28<=0.8, $Q$19, $Q$20)))), "") -> #N/A | M28: {=IF(C28="Vacant","Vacant",IF(C28="Manager","Manager",IF(C28="Market Rate","Market Rate",IF(L28<> "", L28, IF(I28<=4, INDEX(USDA_Buckets, MATCH(MIN(IF(INDIRECT("USDA_" & G28 & "_4P")>=J28, INDIRECT("USDA_" & G28 & "_4P"))), INDIRECT("USDA_" & G28 & "_4P"), 0), 1), INDEX(USDA_Buckets, MATCH(MIN(IF(INDIRECT("USDA_" & G28 & "_5P")>=J28, INDIRECT("USDA_" & G28 & "_5P"))), INDIRECT("USDA_" & G28 & "_5P"), 0), 1))))))} -> #N/A | Q28: SRO | R28: 0.5 | S28: {=MAX(IF($E$15:$E$245=Q28, IF($M$15:$M$245=Q17,$N$15:$N$245)))} -> 0 | U28: ='Rental Project Worksheet'!E24 -> #VALUE!
A29: 15 | B29: =IF(C29="Vacant",C29,IF(C29="Manager",C29,IF(C29="Market Rate",C29,"Enter Tenant Name"))) -> Enter Tenant Name | G29: {=IF(C29<>"",C29,IF(F29="","",IF(YEAR(F29)<2021,TEXT(F29,"yyyy"),INDEX(Effective_Date_Year, MATCH(MAX(IF(Effective_Date<=F29, Effective_Date)), Effective_Date, 0), 1))))} | H29: =INDEX('Income Limits'!$C$3:$AH$372,MATCH('Rent Roll Worksheet'!$M$7,County,0),MATCH(G29,Year,1)) -> #N/A | K29: =IF(C29="Vacant","",IF(C29="Manager","",IF(C29="Market Rate","",IF(I29=1,H29*0.7,IF(I29=2,H29*0.8,IF(I29=3,H29*0.9,IF(I29=4,H29,IF(I29=5,H29*1.08,IF(I29=6,H29*1.16,IF(I29=7,H29*1.24,H29*1.32)))))))*2))) -> #N/A | L29: =IF(YEAR(F29)<2021, IF(J29/K29<=0.3, $Q$16, IF(J29/K29<=0.5, $Q$17, IF(J29/K29<=0.6, $Q$18, IF(J29/K29<=0.8, $Q$19, $Q$20)))), "") -> #N/A | M29: {=IF(C29="Vacant","Vacant",IF(C29="Manager","Manager",IF(C29="Market Rate","Market Rate",IF(L29<> "", L29, IF(I29<=4, INDEX(USDA_Buckets, MATCH(MIN(IF(INDIRECT("USDA_" & G29 & "_4P")>=J29, INDIRECT("USDA_" & G29 & "_4P"))), INDIRECT("USDA_" & G29 & "_4P"), 0), 1), INDEX(USDA_Buckets, MATCH(MIN(IF(INDIRECT("USDA_" & G29 & "_5P")>=J29, INDIRECT("USDA_" & G29 & "_5P"))), INDIRECT("USDA_" & G29 & "_5P"), 0), 1))))))} -> #N/A | Q29: SRO | R29: 0.6 | S29: {=MAX(IF($E$15:$E$245=Q29,IF($M$15:$M$245=Q18,$N$15:$N$245)))} -> 0 | U29: ='Rental Project Worksheet'!E29 -> #VALUE!
A30: 16 | B30: =IF(C30="Vacant",C30,IF(C30="Manager",C30,IF(C30="Market Rate",C30,"Enter Tenant Name"))) -> Enter Tenant Name | G30: {=IF(C30<>"",C30,IF(F30="","",IF(YEAR(F30)<2021,TEXT(F30,"yyyy"),INDEX(Effective_Date_Year, MATCH(MAX(IF(Effective_Date<=F30, Effective_Date)), Effective_Date, 0), 1))))} | H30: =INDEX('Income Limits'!$C$3:$AH$372,MATCH('Rent Roll Worksheet'!$M$7,County,0),MATCH(G30,Year,1)) -> #N/A | K30: =IF(C30="Vacant","",IF(C30="Manager","",IF(C30="Market Rate","",IF(I30=1,H30*0.7,IF(I30=2,H30*0.8,IF(I30=3,H30*0.9,IF(I30=4,H30,IF(I30=5,H30*1.08,IF(I30=6,H30*1.16,IF(I30=7,H30*1.24,H30*1.32)))))))*2))) -> #N/A | L30: =IF(YEAR(F30)<2021, IF(J30/K30<=0.3, $Q$16, IF(J30/K30<=0.5, $Q$17, IF(J30/K30<=0.6, $Q$18, IF(J30/K30<=0.8, $Q$19, $Q$20)))), "") -> #N/A | M30: {=IF(C30="Vacant","Vacant",IF(C30="Manager","Manager",IF(C30="Market Rate","Market Rate",IF(L30<> "", L30, IF(I30<=4, INDEX(USDA_Buckets, MATCH(MIN(IF(INDIRECT("USDA_" & G30 & "_4P")>=J30, INDIRECT("USDA_" & G30 & "_4P"))), INDIRECT("USDA_" & G30 & "_4P"), 0), 1), INDEX(USDA_Buckets, MATCH(MIN(IF(INDIRECT("USDA_" & G30 & "_5P")>=J30, INDIRECT("USDA_" & G30 & "_5P"))), INDIRECT("USDA_" & G30 & "_5P"), 0), 1))))))} -> #N/A | Q30: SRO | R30: 0.8 | S30: {=MAX(IF($E$15:$E$245=Q30,IF($M$15:$M$245=Q19,$N$15:$N$245)))} -> 0 | U30: ='Rental Project Worksheet'!E34 -> #VALUE!
A31: 17 | B31: =IF(C31="Vacant",C31,IF(C31="Manager",C31,IF(C31="Market Rate",C31,"Enter Tenant Name"))) -> Enter Tenant Name | G31: {=IF(C31<>"",C31,IF(F31="","",IF(YEAR(F31)<2021,TEXT(F31,"yyyy"),INDEX(Effective_Date_Year, MATCH(MAX(IF(Effective_Date<=F31, Effective_Date)), Effective_Date, 0), 1))))} | H31: =INDEX('Income Limits'!$C$3:$AH$372,MATCH('Rent Roll Worksheet'!$M$7,County,0),MATCH(G31,Year,1)) -> #N/A | K31: =IF(C31="Vacant","",IF(C31="Manager","",IF(C31="Market Rate","",IF(I31=1,H31*0.7,IF(I31=2,H31*0.8,IF(I31=3,H31*0.9,IF(I31=4,H31,IF(I31=5,H31*1.08,IF(I31=6,H31*1.16,IF(I31=7,H31*1.24,H31*1.32)))))))*2))) -> #N/A | L31: =IF(YEAR(F31)<2021, IF(J31/K31<=0.3, $Q$16, IF(J31/K31<=0.5, $Q$17, IF(J31/K31<=0.6, $Q$18, IF(J31/K31<=0.8, $Q$19, $Q$20)))), "") -> #N/A | M31: {=IF(C31="Vacant","Vacant",IF(C31="Manager","Manager",IF(C31="Market Rate","Market Rate",IF(L31<> "", L31, IF(I31<=4, INDEX(USDA_Buckets, MATCH(MIN(IF(INDIRECT("USDA_" & G31 & "_4P")>=J31, INDIRECT("USDA_" & G31 & "_4P"))), INDIRECT("USDA_" & G31 & "_4P"), 0), 1), INDEX(USDA_Buckets, MATCH(MIN(IF(INDIRECT("USDA_" & G31 & "_5P")>=J31, INDIRECT("USDA_" & G31 & "_5P"))), INDIRECT("USDA_" & G31 & "_5P"), 0), 1))))))} -> #N/A | Q31: 1 | R31: 0.3 | S31: {=MAX(IF($E$15:$E$245=Q31,IF($M$15:$M$245=Q16,$N$15:$N$245)))} -> 0 | U31: ='Rental Project Worksheet'!E20 -> #VALUE!
A32: 18 | B32: =IF(C32="Vacant",C32,IF(C32="Manager",C32,IF(C32="Market Rate",C32,"Enter Tenant Name"))) -> Enter Tenant Name | G32: {=IF(C32<>"",C32,IF(F32="","",IF(YEAR(F32)<2021,TEXT(F32,"yyyy"),INDEX(Effective_Date_Year, MATCH(MAX(IF(Effective_Date<=F32, Effective_Date)), Effective_Date, 0), 1))))} | H32: =INDEX('Income Limits'!$C$3:$AH$372,MATCH('Rent Roll Worksheet'!$M$7,County,0),MATCH(G32,Year,1)) -> #N/A | K32: =IF(C32="Vacant","",IF(C32="Manager","",IF(C32="Market Rate","",IF(I32=1,H32*0.7,IF(I32=2,H32*0.8,IF(I32=3,H32*0.9,IF(I32=4,H32,IF(I32=5,H32*1.08,IF(I32=6,H32*1.16,IF(I32=7,H32*1.24,H32*1.32)))))))*2))) -> #N/A | L32: =IF(YEAR(F32)<2021, IF(J32/K32<=0.3, $Q$16, IF(J32/K32<=0.5, $Q$17, IF(J32/K32<=0.6, $Q$18, IF(J32/K32<=0.8, $Q$19, $Q$20)))), "") -> #N/A | M32: {=IF(C32="Vacant","Vacant",IF(C32="Manager","Manager",IF(C32="Market Rate","Market Rate",IF(L32<> "", L32, IF(I32<=4, INDEX(USDA_Buckets, MATCH(MIN(IF(INDIRECT("USDA_" & G32 & "_4P")>=J32, INDIRECT("USDA_" & G32 & "_4P"))), INDIRECT("USDA_" & G32 & "_4P"), 0), 1), INDEX(USDA_Buckets, MATCH(MIN(IF(INDIRECT("USDA_" & G32 & "_5P")>=J32, INDIRECT("USDA_" & G32 & "_5P"))), INDIRECT("USDA_" & G32 & "_5P"), 0), 1))))))} -> #N/A | Q32: 1 | R32: 0.5 | S32: {=MAX(IF($E$15:$E$245=Q32, IF($M$15:$M$245=Q17,$N$15:$N$245)))} -> 0 | U32: ='Rental Project Worksheet'!E25 -> #VALUE!
A33: 19 | B33: =IF(C33="Vacant",C33,IF(C33="Manager",C33,IF(C33="Market Rate",C33,"Enter Tenant Name"))) -> Enter Tenant Name | G33: {=IF(C33<>"",C33,IF(F33="","",IF(YEAR(F33)<2021,TEXT(F33,"yyyy"),INDEX(Effective_Date_Year, MATCH(MAX(IF(Effective_Date<=F33, Effective_Date)), Effective_Date, 0), 1))))} | H33: =INDEX('Income Limits'!$C$3:$AH$372,MATCH('Rent Roll Worksheet'!$M$7,County,0),MATCH(G33,Year,1)) -> #N/A | K33: =IF(C33="Vacant","",IF(C33="Manager","",IF(C33="Market Rate","",IF(I33=1,H33*0.7,IF(I33=2,H33*0.8,IF(I33=3,H33*0.9,IF(I33=4,H33,IF(I33=5,H33*1.08,IF(I33=6,H33*1.16,IF(I33=7,H33*1.24,H33*1.32)))))))*2))) -> #N/A | L33: =IF(YEAR(F33)<2021, IF(J33/K33<=0.3, $Q$16, IF(J33/K33<=0.5, $Q$17, IF(J33/K33<=0.6, $Q$18, IF(J33/K33<=0.8, $Q$19, $Q$20)))), "") -> #N/A | M33: {=IF(C33="Vacant","Vacant",IF(C33="Manager","Manager",IF(C33="Market Rate","Market Rate",IF(L33<> "", L33, IF(I33<=4, INDEX(USDA_Buckets, MATCH(MIN(IF(INDIRECT("USDA_" & G33 & "_4P")>=J33, INDIRECT("USDA_" & G33 & "_4P"))), INDIRECT("USDA_" & G33 & "_4P"), 0), 1), INDEX(USDA_Buckets, MATCH(MIN(IF(INDIRECT("USDA_" & G33 & "_5P")>=J33, INDIRECT("USDA_" & G33 & "_5P"))), INDIRECT("USDA_" & G33 & "_5P"), 0), 1))))))} -> #N/A | Q33: 1 | R33: 0.6 | S33: {=MAX(IF($E$15:$E$245=Q33,IF($M$15:$M$245=Q18,$N$15:$N$245)))} -> 0 | U33: ='Rental Project Worksheet'!E30 -> #VALUE!
A34: 20 | B34: =IF(C34="Vacant",C34,IF(C34="Manager",C34,IF(C34="Market Rate",C34,"Enter Tenant Name"))) -> Enter Tenant Name | G34: {=IF(C34<>"",C34,IF(F34="","",IF(YEAR(F34)<2021,TEXT(F34,"yyyy"),INDEX(Effective_Date_Year, MATCH(MAX(IF(Effective_Date<=F34, Effective_Date)), Effective_Date, 0), 1))))} | H34: =INDEX('Income Limits'!$C$3:$AH$372,MATCH('Rent Roll Worksheet'!$M$7,County,0),MATCH(G34,Year,1)) -> #N/A | K34: =IF(C34="Vacant","",IF(C34="Manager","",IF(C34="Market Rate","",IF(I34=1,H34*0.7,IF(I34=2,H34*0.8,IF(I34=3,H34*0.9,IF(I34=4,H34,IF(I34=5,H34*1.08,IF(I34=6,H34*1.16,IF(I34=7,H34*1.24,H34*1.32)))))))*2))) -> #N/A | L34: =IF(YEAR(F34)<2021, IF(J34/K34<=0.3, $Q$16, IF(J34/K34<=0.5, $Q$17, IF(J34/K34<=0.6, $Q$18, IF(J34/K34<=0.8, $Q$19, $Q$20)))), "") -> #N/A | M34: {=IF(C34="Vacant","Vacant",IF(C34="Manager","Manager",IF(C34="Market Rate","Market Rate",IF(L34<> "", L34, IF(I34<=4, INDEX(USDA_Buckets, MATCH(MIN(IF(INDIRECT("USDA_" & G34 & "_4P")>=J34, INDIRECT("USDA_" & G34 & "_4P"))), INDIRECT("USDA_" & G34 & "_4P"), 0), 1), INDEX(USDA_Buckets, MATCH(MIN(IF(INDIRECT("USDA_" & G34 & "_5P")>=J34, INDIRECT("USDA_" & G34 & "_5P"))), INDIRECT("USDA_" & G34 & "_5P"), 0), 1))))))} -> #N/A | Q34: 1 | R34: 0.8 | S34: {=MAX(IF($E$15:$E$245=Q34,IF($M$15:$M$245=Q19,$N$15:$N$245)))} -> 0 | U34: ='Rental Project Worksheet'!E35 -> #VALUE!
A35: 21 | B35: =IF(C35="Vacant",C35,IF(C35="Manager",C35,IF(C35="Market Rate",C35,"Enter Tenant Name"))) -> Enter Tenant Name | G35: {=IF(C35<>"",C35,IF(F35="","",IF(YEAR(F35)<2021,TEXT(F35,"yyyy"),INDEX(Effective_Date_Year, MATCH(MAX(IF(Effective_Date<=F35, Effective_Date)), Effective_Date, 0), 1))))} | H35: =INDEX('Income Limits'!$C$3:$AH$372,MATCH('Rent Roll Worksheet'!$M$7,County,0),MATCH(G35,Year,1)) -> #N/A | K35: =IF(C35="Vacant","",IF(C35="Manager","",IF(C35="Market Rate","",IF(I35=1,H35*0.7,IF(I35=2,H35*0.8,IF(I35=3,H35*0.9,IF(I35=4,H35,IF(I35=5,H35*1.08,IF(I35=6,H35*1.16,IF(I35=7,H35*1.24,H35*1.32)))))))*2))) -> #N/A | L35: =IF(YEAR(F35)<2021, IF(J35/K35<=0.3, $Q$16, IF(J35/K35<=0.5, $Q$17, IF(J35/K35<=0.6, $Q$18, IF(J35/K35<=0.8, $Q$19, $Q$20)))), "") -> #N/A | M35: {=IF(C35="Vacant","Vacant",IF(C35="Manager","Manager",IF(C35="Market Rate","Market Rate",IF(L35<> "", L35, IF(I35<=4, INDEX(USDA_Buckets, MATCH(MIN(IF(INDIRECT("USDA_" & G35 & "_4P")>=J35, INDIRECT("USDA_" & G35 & "_4P"))), INDIRECT("USDA_" & G35 & "_4P"), 0), 1), INDEX(USDA_Buckets, MATCH(MIN(IF(INDIRECT("USDA_" & G35 & "_5P")>=J35, INDIRECT("USDA_" & G35 & "_5P"))), INDIRECT("USDA_" & G35 & "_5P"), 0), 1))))))} -> #N/A | Q35: 2 | R35: 0.3 | S35: {=MAX(IF($E$15:$E$245=Q35,IF($M$15:$M$245=Q16,$N$15:$N$245)))} -> 0 | U35: ='Rental Project Worksheet'!E21 -> #VALUE!
A36: 22 | B36: =IF(C36="Vacant",C36,IF(C36="Manager",C36,IF(C36="Market Rate",C36,"Enter Tenant Name"))) -> Enter Tenant Name | G36: {=IF(C36<>"",C36,IF(F36="","",IF(YEAR(F36)<2021,TEXT(F36,"yyyy"),INDEX(Effective_Date_Year, MATCH(MAX(IF(Effective_Date<=F36, Effective_Date)), Effective_Date, 0), 1))))} | H36: =INDEX('Income Limits'!$C$3:$AH$372,MATCH('Rent Roll Worksheet'!$M$7,County,0),MATCH(G36,Year,1)) -> #N/A | K36: =IF(C36="Vacant","",IF(C36="Manager","",IF(C36="Market Rate","",IF(I36=1,H36*0.7,IF(I36=2,H36*0.8,IF(I36=3,H36*0.9,IF(I36=4,H36,IF(I36=5,H36*1.08,IF(I36=6,H36*1.16,IF(I36=7,H36*1.24,H36*1.32)))))))*2))) -> #N/A | L36: =IF(YEAR(F36)<2021, IF(J36/K36<=0.3, $Q$16, IF(J36/K36<=0.5, $Q$17, IF(J36/K36<=0.6, $Q$18, IF(J36/K36<=0.8, $Q$19, $Q$20)))), "") -> #N/A | M36: {=IF(C36="Vacant","Vacant",IF(C36="Manager","Manager",IF(C36="Market Rate","Market Rate",IF(L36<> "", L36, IF(I36<=4, INDEX(USDA_Buckets, MATCH(MIN(IF(INDIRECT("USDA_" & G36 & "_4P")>=J36, INDIRECT("USDA_" & G36 & "_4P"))), INDIRECT("USDA_" & G36 & "_4P"), 0), 1), INDEX(USDA_Buckets, MATCH(MIN(IF(INDIRECT("USDA_" & G36 & "_5P")>=J36, INDIRECT("USDA_" & G36 & "_5P"))), INDIRECT("USDA_" & G36 & "_5P"), 0), 1))))))} -> #N/A | Q36: 2 | R36: 0.5 | S36: {=MAX(IF($E$15:$E$245=Q36, IF($M$15:$M$245=Q17,$N$15:$N$245)))} -> 0 | U36: ='Rental Project Worksheet'!E26 -> #VALUE!
A37: 23 | B37: =IF(C37="Vacant",C37,IF(C37="Manager",C37,IF(C37="Market Rate",C37,"Enter Tenant Name"))) -> Enter Tenant Name | G37: {=IF(C37<>"",C37,IF(F37="","",IF(YEAR(F37)<2021,TEXT(F37,"yyyy"),INDEX(Effective_Date_Year, MATCH(MAX(IF(Effective_Date<=F37, Effective_Date)), Effective_Date, 0), 1))))} | H37: =INDEX('Income Limits'!$C$3:$AH$372,MATCH('Rent Roll Worksheet'!$M$7,County,0),MATCH(G37,Year,1)) -> #N/A | K37: =IF(C37="Vacant","",IF(C37="Manager","",IF(C37="Market Rate","",IF(I37=1,H37*0.7,IF(I37=2,H37*0.8,IF(I37=3,H37*0.9,IF(I37=4,H37,IF(I37=5,H37*1.08,IF(I37=6,H37*1.16,IF(I37=7,H37*1.24,H37*1.32)))))))*2))) -> #N/A | L37: =IF(YEAR(F37)<2021, IF(J37/K37<=0.3, $Q$16, IF(J37/K37<=0.5, $Q$17, IF(J37/K37<=0.6, $Q$18, IF(J37/K37<=0.8, $Q$19, $Q$20)))), "") -> #N/A | M37: {=IF(C37="Vacant","Vacant",IF(C37="Manager","Manager",IF(C37="Market Rate","Market Rate",IF(L37<> "", L37, IF(I37<=4, INDEX(USDA_Buckets, MATCH(MIN(IF(INDIRECT("USDA_" & G37 & "_4P")>=J37, INDIRECT("USDA_" & G37 & "_4P"))), INDIRECT("USDA_" & G37 & "_4P"), 0), 1), INDEX(USDA_Buckets, MATCH(MIN(IF(INDIRECT("USDA_" & G37 & "_5P")>=J37, INDIRECT("USDA_" & G37 & "_5P"))), INDIRECT("USDA_" & G37 & "_5P"), 0), 1))))))} -> #N/A | Q37: 2 | R37: 0.6 | S37: {=MAX(IF($E$15:$E$245=Q37,IF($M$15:$M$245=Q18,$N$15:$N$245)))} -> 0 | U37: ='Rental Project Worksheet'!E31 -> #VALUE!
A38: 24 | B38: =IF(C38="Vacant",C38,IF(C38="Manager",C38,IF(C38="Market Rate",C38,"Enter Tenant Name"))) -> Enter Tenant Name | G38: {=IF(C38<>"",C38,IF(F38="","",IF(YEAR(F38)<2021,TEXT(F38,"yyyy"),INDEX(Effective_Date_Year, MATCH(MAX(IF(Effective_Date<=F38, Effective_Date)), Effective_Date, 0), 1))))} | H38: =INDEX('Income Limits'!$C$3:$AH$372,MATCH('Rent Roll Worksheet'!$M$7,County,0),MATCH(G38,Year,1)) -> #N/A | K38: =IF(C38="Vacant","",IF(C38="Manager","",IF(C38="Market Rate","",IF(I38=1,H38*0.7,IF(I38=2,H38*0.8,IF(I38=3,H38*0.9,IF(I38=4,H38,IF(I38=5,H38*1.08,IF(I38=6,H38*1.16,IF(I38=7,H38*1.24,H38*1.32)))))))*2))) -> #N/A | L38: =IF(YEAR(F38)<2021, IF(J38/K38<=0.3, $Q$16, IF(J38/K38<=0.5, $Q$17, IF(J38/K38<=0.6, $Q$18, IF(J38/K38<=0.8, $Q$19, $Q$20)))), "") -> #N/A | M38: {=IF(C38="Vacant","Vacant",IF(C38="Manager","Manager",IF(C38="Market Rate","Market Rate",IF(L38<> "", L38, IF(I38<=4, INDEX(USDA_Buckets, MATCH(MIN(IF(INDIRECT("USDA_" & G38 & "_4P")>=J38, INDIRECT("USDA_" & G38 & "_4P"))), INDIRECT("USDA_" & G38 & "_4P"), 0), 1), INDEX(USDA_Buckets, MATCH(MIN(IF(INDIRECT("USDA_" & G38 & "_5P")>=J38, INDIRECT("USDA_" & G38 & "_5P"))), INDIRECT("USDA_" & G38 & "_5P"), 0), 1))))))} -> #N/A | Q38: 2 | R38: 0.8 | S38: {=MAX(IF($E$15:$E$245=Q38,IF($M$15:$M$245=Q19,$N$15:$N$245)))} -> 0 | U38: ='Rental Project Worksheet'!E36 -> #VALUE!
A39: 25 | B39: =IF(C39="Vacant",C39,IF(C39="Manager",C39,IF(C39="Market Rate",C39,"Enter Tenant Name"))) -> Enter Tenant Name | G39: {=IF(C39<>"",C39,IF(F39="","",IF(YEAR(F39)<2021,TEXT(F39,"yyyy"),INDEX(Effective_Date_Year, MATCH(MAX(IF(Effective_Date<=F39, Effective_Date)), Effective_Date, 0), 1))))} | H39: =INDEX('Income Limits'!$C$3:$AH$372,MATCH('Rent Roll Worksheet'!$M$7,County,0),MATCH(G39,Year,1)) -> #N/A | K39: =IF(C39="Vacant","",IF(C39="Manager","",IF(C39="Market Rate","",IF(I39=1,H39*0.7,IF(I39=2,H39*0.8,IF(I39=3,H39*0.9,IF(I39=4,H39,IF(I39=5,H39*1.08,IF(I39=6,H39*1.16,IF(I39=7,H39*1.24,H39*1.32)))))))*2))) -> #N/A | L39: =IF(YEAR(F39)<2021, IF(J39/K39<=0.3, $Q$16, IF(J39/K39<=0.5, $Q$17, IF(J39/K39<=0.6, $Q$18, IF(J39/K39<=0.8, $Q$19, $Q$20)))), "") -> #N/A | M39: {=IF(C39="Vacant","Vacant",IF(C39="Manager","Manager",IF(C39="Market Rate","Market Rate",IF(L39<> "", L39, IF(I39<=4, INDEX(USDA_Buckets, MATCH(MIN(IF(INDIRECT("USDA_" & G39 & "_4P")>=J39, INDIRECT("USDA_" & G39 & "_4P"))), INDIRECT("USDA_" & G39 & "_4P"), 0), 1), INDEX(USDA_Buckets, MATCH(MIN(IF(INDIRECT("USDA_" & G39 & "_5P")>=J39, INDIRECT("USDA_" & G39 & "_5P"))), INDIRECT("USDA_" & G39 & "_5P"), 0), 1))))))} -> #N/A | Q39: 3 | R39: 0.3 | S39: {=MAX(IF($E$15:$E$245=Q39,IF($M$15:$M$245=Q16,$N$15:$N$245)))} -> 0 | U39: ='Rental Project Worksheet'!E22 -> #VALUE!
A40: 26 | B40: =IF(C40="Vacant",C40,IF(C40="Manager",C40,IF(C40="Market Rate",C40,"Enter Tenant Name"))) -> Enter Tenant Name | G40: {=IF(C40<>"",C40,IF(F40="","",IF(YEAR(F40)<2021,TEXT(F40,"yyyy"),INDEX(Effective_Date_Year, MATCH(MAX(IF(Effective_Date<=F40, Effective_Date)), Effective_Date, 0), 1))))} | H40: =INDEX('Income Limits'!$C$3:$AH$372,MATCH('Rent Roll Worksheet'!$M$7,County,0),MATCH(G40,Year,1)) -> #N/A | K40: =IF(C40="Vacant","",IF(C40="Manager","",IF(C40="Market Rate","",IF(I40=1,H40*0.7,IF(I40=2,H40*0.8,IF(I40=3,H40*0.9,IF(I40=4,H40,IF(I40=5,H40*1.08,IF(I40=6,H40*1.16,IF(I40=7,H40*1.24,H40*1.32)))))))*2))) -> #N/A | L40: =IF(YEAR(F40)<2021, IF(J40/K40<=0.3, $Q$16, IF(J40/K40<=0.5, $Q$17, IF(J40/K40<=0.6, $Q$18, IF(J40/K40<=0.8, $Q$19, $Q$20)))), "") -> #N/A | M40: {=IF(C40="Vacant","Vacant",IF(C40="Manager","Manager",IF(C40="Market Rate","Market Rate",IF(L40<> "", L40, IF(I40<=4, INDEX(USDA_Buckets, MATCH(MIN(IF(INDIRECT("USDA_" & G40 & "_4P")>=J40, INDIRECT("USDA_" & G40 & "_4P"))), INDIRECT("USDA_" & G40 & "_4P"), 0), 1), INDEX(USDA_Buckets, MATCH(MIN(IF(INDIRECT("USDA_" & G40 & "_5P")>=J40, INDIRECT("USDA_" & G40 & "_5P"))), INDIRECT("USDA_" & G40 & "_5P"), 0), 1))))))} -> #N/A | Q40: 3 | R40: 0.5 | S40: {=MAX(IF($E$15:$E$245=Q40, IF($M$15:$M$245=Q17,$N$15:$N$245)))} -> 0 | U40: ='Rental Project Worksheet'!E27 -> #VALUE!
A41: 27 | B41: =IF(C41="Vacant",C41,IF(C41="Manager",C41,IF(C41="Market Rate",C41,"Enter Tenant Name"))) -> Enter Tenant Name | G41: {=IF(C41<>"",C41,IF(F41="","",IF(YEAR(F41)<2021,TEXT(F41,"yyyy"),INDEX(Effective_Date_Year, MATCH(MAX(IF(Effective_Date<=F41, Effective_Date)), Effective_Date, 0), 1))))} | H41: =INDEX('Income Limits'!$C$3:$AH$372,MATCH('Rent Roll Worksheet'!$M$7,County,0),MATCH(G41,Year,1)) -> #N/A | K41: =IF(C41="Vacant","",IF(C41="Manager","",IF(C41="Market Rate","",IF(I41=1,H41*0.7,IF(I41=2,H41*0.8,IF(I41=3,H41*0.9,IF(I41=4,H41,IF(I41=5,H41*1.08,IF(I41=6,H41*1.16,IF(I41=7,H41*1.24,H41*1.32)))))))*2))) -> #N/A | L41: =IF(YEAR(F41)<2021, IF(J41/K41<=0.3, $Q$16, IF(J41/K41<=0.5, $Q$17, IF(J41/K41<=0.6, $Q$18, IF(J41/K41<=0.8, $Q$19, $Q$20)))), "") -> #N/A | M41: {=IF(C41="Vacant","Vacant",IF(C41="Manager","Manager",IF(C41="Market Rate","Market Rate",IF(L41<> "", L41, IF(I41<=4, INDEX(USDA_Buckets, MATCH(MIN(IF(INDIRECT("USDA_" & G41 & "_4P")>=J41, INDIRECT("USDA_" & G41 & "_4P"))), INDIRECT("USDA_" & G41 & "_4P"), 0), 1), INDEX(USDA_Buckets, MATCH(MIN(IF(INDIRECT("USDA_" & G41 & "_5P")>=J41, INDIRECT("USDA_" & G41 & "_5P"))), INDIRECT("USDA_" & G41 & "_5P"), 0), 1))))))} -> #N/A | Q41: 3 | R41: 0.6 | S41: {=MAX(IF($E$15:$E$245=Q41,IF($M$15:$M$245=Q18,$N$15:$N$245)))} -> 0 | U41: ='Rental Project Worksheet'!E32 -> #VALUE!
A42: 28 | B42: =IF(C42="Vacant",C42,IF(C42="Manager",C42,IF(C42="Market Rate",C42,"Enter Tenant Name"))) -> Enter Tenant Name | G42: {=IF(C42<>"",C42,IF(F42="","",IF(YEAR(F42)<2021,TEXT(F42,"yyyy"),INDEX(Effective_Date_Year, MATCH(MAX(IF(Effective_Date<=F42, Effective_Date)), Effective_Date, 0), 1))))} | H42: =INDEX('Income Limits'!$C$3:$AH$372,MATCH('Rent Roll Worksheet'!$M$7,County,0),MATCH(G42,Year,1)) -> #N/A | K42: =IF(C42="Vacant","",IF(C42="Manager","",IF(C42="Market Rate","",IF(I42=1,H42*0.7,IF(I42=2,H42*0.8,IF(I42=3,H42*0.9,IF(I42=4,H42,IF(I42=5,H42*1.08,IF(I42=6,H42*1.16,IF(I42=7,H42*1.24,H42*1.32)))))))*2))) -> #N/A | L42: =IF(YEAR(F42)<2021, IF(J42/K42<=0.3, $Q$16, IF(J42/K42<=0.5, $Q$17, IF(J42/K42<=0.6, $Q$18, IF(J42/K42<=0.8, $Q$19, $Q$20)))), "") -> #N/A | M42: {=IF(C42="Vacant","Vacant",IF(C42="Manager","Manager",IF(C42="Market Rate","Market Rate",IF(L42<> "", L42, IF(I42<=4, INDEX(USDA_Buckets, MATCH(MIN(IF(INDIRECT("USDA_" & G42 & "_4P")>=J42, INDIRECT("USDA_" & G42 & "_4P"))), INDIRECT("USDA_" & G42 & "_4P"), 0), 1), INDEX(USDA_Buckets, MATCH(MIN(IF(INDIRECT("USDA_" & G42 & "_5P")>=J42, INDIRECT("USDA_" & G42 & "_5P"))), INDIRECT("USDA_" & G42 & "_5P"), 0), 1))))))} -> #N/A | Q42: 3 | R42: 0.8 | S42: {=MAX(IF($E$15:$E$245=Q42,IF($M$15:$M$245=Q19,$N$15:$N$245)))} -> 0 | U42: ='Rental Project Worksheet'!E37 -> #VALUE!
A43: 29 | B43: =IF(C43="Vacant",C43,IF(C43="Manager",C43,IF(C43="Market Rate",C43,"Enter Tenant Name"))) -> Enter Tenant Name | G43: {=IF(C43<>"",C43,IF(F43="","",IF(YEAR(F43)<2021,TEXT(F43,"yyyy"),INDEX(Effective_Date_Year, MATCH(MAX(IF(Effective_Date<=F43, Effective_Date)), Effective_Date, 0), 1))))} | H43: =INDEX('Income Limits'!$C$3:$AH$372,MATCH('Rent Roll Worksheet'!$M$7,County,0),MATCH(G43,Year,1)) -> #N/A | K43: =IF(C43="Vacant","",IF(C43="Manager","",IF(C43="Market Rate","",IF(I43=1,H43*0.7,IF(I43=2,H43*0.8,IF(I43=3,H43*0.9,IF(I43=4,H43,IF(I43=5,H43*1.08,IF(I43=6,H43*1.16,IF(I43=7,H43*1.24,H43*1.32)))))))*2))) -> #N/A | L43: =IF(YEAR(F43)<2021, IF(J43/K43<=0.3, $Q$16, IF(J43/K43<=0.5, $Q$17, IF(J43/K43<=0.6, $Q$18, IF(J43/K43<=0.8, $Q$19, $Q$20)))), "") -> #N/A | M43: {=IF(C43="Vacant","Vacant",IF(C43="Manager","Manager",IF(C43="Market Rate","Market Rate",IF(L43<> "", L43, IF(I43<=4, INDEX(USDA_Buckets, MATCH(MIN(IF(INDIRECT("USDA_" & G43 & "_4P")>=J43, INDIRECT("USDA_" & G43 & "_4P"))), INDIRECT("USDA_" & G43 & "_4P"), 0), 1), INDEX(USDA_Buckets, MATCH(MIN(IF(INDIRECT("USDA_" & G43 & "_5P")>=J43, INDIRECT("USDA_" & G43 & "_5P"))), INDIRECT("USDA_" & G43 & "_5P"), 0), 1))))))} -> #N/A | Q43: 4 | R43: 0.3 | S43: {=MAX(IF($E$15:$E$245=Q43,IF($M$15:$M$245=Q16,$N$15:$N$245)))} -> 0 | U43: ='Rental Project Worksheet'!E23 -> #VALUE!
...

Sheet GT_Custom
A1: C1 | B1: Custom 1
A2: C2 | B2: Custom 2
A3: C3 | B3: Custom 3
A4: C4 | B4: Custom 4
A5: C5 | B5: Custom 5
A6: C6 | B6: Custom 6
A7: C7 | B7: Custom 7
A8: C8 | B8: Custom 8

Sheet Rental Project Worksheet
A1: FHLBank Topeka -- Affordable Housing Program
C2: Rental Project Worksheet
A3: Date Completed: | C3: {=IF(Date="","",Date)}
A4: Instructions: In the blue shaded cells, input the number of units for each unit type and AMI% category with corresponding rent amounts the Tenant is responsible for and the total rent per unit. Use the maximum rent amount the tenant will pay.
A5: =IF(D6="Other County/State","Please contact HCD to receive a workbook with applicable county information.","")
A6: Project County/State: | D6: =IF('Start Here'!B7="","",'Start Here'!B7) | H6: {=IF(YEAR(Date)<2021, TEXT(Date,"yyyy"), INDEX(Effective_Date_Year, MATCH(MAX(IF(Effective_Date<=Date, Effective_Date)), Effective_Date, 0), 1))} -> 1900
A7: 50% (AMI) for the project location (4 per household): | E7: =IF(YEAR(Date)<2021, IF(H6="1900","",IF(D6="","",IF($D$6="Other County/State","",INDEX('Income Limits'!$C$3:$AH$372,MATCH(D6,County,0),MATCH(H6,Year,1))))), IF($D$6="Other County/State", "", INDEX(INDIRECT("Income_Limits_" & $H$6), MATCH($D$6,USDA_Counties, 0), 1)))
A9: Targeted USDA Income Limit | B9: Household Size
B10: 1 | C10: 2 | D10: 3 | E10: 4 | F10: 5 | G10: 6 | H10: 7 | I10: 8
A11: <=30% | B11: =IF(YEAR(Date)<2021, (E11*0.7), E11) -> #VALUE! | C11: =IF(YEAR(Date)<2021, (E11*0.8), E11) -> #VALUE! | D11: =IF(YEAR(Date)<2021, (E11*0.9), E11) -> #VALUE! | E11: =IF(YEAR(Date)<2021, IF($D$6="Other County/State",$H$7*2*0.3,($E$7*2)*0.3), CEILING((E13*2*0.3), 1)) -> #VALUE! | F11: =IF(YEAR(Date)<2021, (E11*1.08), CEILING((F13*2*0.3), 1)) -> #VALUE! | G11: =IF(YEAR(Date)<2021, (E11*1.16), F11) -> #VALUE! | H11: =IF(YEAR(Date)<2021, (E11*1.24), F11) -> #VALUE! | I11: =IF(YEAR(Date)<2021, (E11*1.32), F11) -> #VALUE!
A12: <=40% | B12: =IF(YEAR(Date)<2021, (E12*0.7), E12) -> #VALUE! | C12: =IF(YEAR(Date)<2021, (E12*0.8), E12) -> #VALUE! | D12: =IF(YEAR(Date)<2021, (E12*0.9), E12) -> #VALUE! | E12: =IF(YEAR(Date)<2021, IF($D$6="Other County/State",$H$7*2*0.4,($E$7*2)*0.4), CEILING(E13*2*0.4, 1)) -> #VALUE! | F12: =IF(YEAR(Date)<2021, (E12*1.08), CEILING((F13*2*0.4), 1)) -> #VALUE! | G12: =IF(YEAR(Date)<2021, (E12*1.16), F12) -> #VALUE! | H12: =IF(YEAR(Date)<2021, (E12*1.24), F12) -> #VALUE! | I12: =IF(YEAR(Date)<2021, (E12*1.32), F12) -> #VALUE!
A13: <=50% | B13: =IF(YEAR(Date)<2021, (E13*0.7), E13) -> #VALUE! | C13: =IF(YEAR(Date)<2021, (E13*0.8), E13) -> #VALUE! | D13: =IF(YEAR(Date)<2021, (E13*0.9), E13) -> #VALUE! | E13: =IF(YEAR(Date)<2021, IF($D$6="Other County/State",$H$7*2*0.5,($E$7*2)*0.5), INDEX(INDIRECT("Income_Limits_" & $H$6), MATCH($D$6, USDA_Counties, 0), 1)) -> #VALUE! | F13: =IF(YEAR(Date)<2021, (E13*1.08), INDEX(INDIRECT("Income_Limits_" & $H$6), MATCH($D$6, USDA_Counties, 0), 2)) -> #VALUE! | G13: =IF(YEAR(Date)<2021, (E13*1.16), F13) -> #VALUE! | H13: =IF(YEAR(Date)<2021, (E13*1.24), F13) -> #VALUE! | I13: =IF(YEAR(Date)<2021, (E13*1.32), F13) -> #VALUE!
A14: <=60% | B14: =IF(YEAR(Date)<2021, (E14*0.7), E14) -> #VALUE! | C14: =IF(YEAR(Date)<2021, (E14*0.8), E14) -> #VALUE! | D14: =IF(YEAR(Date)<2021, (E14*0.9), E14) -> #VALUE! | E14: =IF(YEAR(Date)<2021, IF($D$6="Other County/State",$H$7*2*0.6,($E$7*2)*0.6), CEILING(((E16-E13)/(0.8-0.5))*(0.6-0.5) + E13, 1)) -> #VALUE! | F14: =IF(YEAR(Date)<2021, (E14*1.08), CEILING(((F16-F13)/(0.8-0.5))*(0.6-0.5) + F13, 1)) -> #VALUE! | G14: =IF(YEAR(Date)<2021, (E14*1.16), F14) -> #VALUE! | H14: =IF(YEAR(Date)<2021, (E14*1.24), F14) -> #VALUE! | I14: =IF(YEAR(Date)<2021, (E14*1.32), F14) -> #VALUE!
A15: <=70% | B15: =IF(YEAR(Date)<2021, (E15*0.7), E15) -> #VALUE! | C15: =IF(YEAR(Date)<2021, (E15*0.8), E15) -> #VALUE! | D15: =IF(YEAR(Date)<2021, (E15*0.9), E15) -> #VALUE! | E15: =IF(YEAR(Date)<2021, IF($D$6="Other County/State",$H$7*2*0.7,($E$7*2)*0.7), CEILING(((E16-E13)/(0.8-0.5))*(0.7-0.5) + E13, 1)) -> #VALUE! | F15: =IF(YEAR(Date)<2021, (E15*1.08), CEILING(((F16-F13)/(0.8-0.5))*(0.7-0.5) + F13, 1)) -> #VALUE! | G15: =IF(YEAR(Date)<2021, (E15*1.16), F15) -> #VALUE! | H15: =IF(YEAR(Date)<2021, (E15*1.24), F15) -> #VALUE! | I15: =IF(YEAR(Date)<2021, (E15*1.32), F15) -> #VALUE!
A16: <=80% | B16: =IF(YEAR(Date)<2021, (E16*0.7), E16) -> #VALUE! | C16: =IF(YEAR(Date)<2021, (E16*0.8), E16) -> #VALUE! | D16: =IF(YEAR(Date)<2021, (E16*0.9), E16) -> #VALUE! | E16: =IF(YEAR(Date)<2021, IF($D$6="Other County/State",$H$7*2*0.8,($E$7*2)*0.8), INDEX(INDIRECT("Income_Limits_" & $H$6),MATCH($D$6,USDA_Counties,0),3)) -> #VALUE! | F16: =IF(YEAR(Date)<2021, (E16*1.08), INDEX(INDIRECT("Income_Limits_" & $H$6), MATCH($D$6, USDA_Counties, 0), 4)) -> #VALUE! | G16: =IF(YEAR(Date)<2021, (E16*1.16), F16) -> #VALUE! | H16: =IF(YEAR(Date)<2021, (E16*1.24), F16) -> #VALUE! | I16: =IF(YEAR(Date)<2021, (E16*1.32), F16) -> #VALUE!
A18: Income Restriction (%AMI) | C18: Number of Bedrooms | D18: # of Units | E18: Maximum AHP Rent | F18: Proposed Tenant Share of Rent | G18: Proposed Total Rent | H18: Annual Rent Revenue
A19: ≤30% AMI (Extremely Low Income) | C19: 0 BR or SRO | E19: =ROUNDUP((B11/12)*0.3,2) -> #VALUE! | H19: =G19*D19*12 -> 0 | I19: Units by Type
C20: 1 BR | E20: =ROUNDUP((((B11+C11)/2)/12)*0.3,2) -> #VALUE! | H20: =G20*D20*12 -> 0 | I20: 0 BR or SRO | J20: =D19+D24+D29+D34+D39 -> 0
C21: 2 BR | E21: =ROUNDUP((D11/12)*0.3,2) -> #VALUE! | H21: =G21*D21*12 -> 0
C22: 3 BR | E22: =ROUNDUP(((E11+F11)/2/12)*0.3,2) -> #VALUE! | H22: =G22*D22*12 -> 0 | I22: 1 BR | J22: =D20+D25+D30+D35+D40 -> 0
C23: 4 BR | E23: =ROUNDUP((G11/12)*0.3,2) -> #VALUE! | H23: =G23*D23*12 -> 0
A24: >30% AND ≤50% AMI | C24: 0 BR or SRO | E24: =ROUNDUP((B13/12)*0.3,2) -> #VALUE! | H24: =G24*D24*12 -> 0 | I24: 2 BR | J24: =D21+D26+D31+D36+D41 -> 0
C25: 1 BR | E25: =ROUNDUP(((B13+C13)/2/12)*0.3,2) -> #VALUE! | H25: =G25*D25*12 -> 0
C26: 2 BR | E26: =ROUNDUP((D13/12)*0.3,2) -> #VALUE! | H26: =G26*D26*12 -> 0 | I26: 3 BR | J26: =D22+D27+D32+D37+D42 -> 0
C27: 3 BR | E27: =ROUNDUP(((E13+F13)/2/12)*0.3,2) -> #VALUE! | H27: =G27*D27*12 -> 0
C28: 4 BR | E28: =ROUNDUP((G13/12)*0.3,2) -> #VALUE! | H28: =G28*D28*12 -> 0 | I28: 4 BR | J28: =D23+D28+D33+D38+D43 -> 0
A29: >50% AND ≤60% AMI | C29: 0 BR or SRO | E29: =ROUNDUP((B14/12)*0.3,2) -> #VALUE! | H29: =G29*D29*12 -> 0
C30: 1 BR | E30: =ROUNDUP(((B14+C14)/2/12)*0.3,2) -> #VALUE! | H30: =G30*D30*12 -> 0 | I30: Total | J30: =SUM(J20:J29) -> 0
C31: 2 BR | E31: =ROUNDUP((D14/12)*0.3,2) -> #VALUE! | H31: =G31*D31*12 -> 0
C32: 3 BR | E32: =ROUNDUP(((E14+F14)/2/12)*0.3,2) -> #VALUE! | H32: =G32*D32*12 -> 0
C33: 4 BR | E33: =ROUNDUP((G14/12)*0.3,2) -> #VALUE! | H33: =G33*D33*12 -> 0
A34: >60% AND ≤80% AMI | C34: 0 BR or SRO | E34: =ROUNDUP((B16/12)*0.3,2) -> #VALUE! | H34: =G34*D34*12 -> 0 | I34: Units by AMI %
C35: 1 BR | E35: =ROUNDUP(((B16+C16)/2/12)*0.3,2) -> #VALUE! | H35: =G35*D35*12 -> 0 | I35: ≤30 | J35: =SUM(D19:D23) -> 0
C36: 2 BR | E36: =ROUNDUP((D16/12)*0.3,2) -> #VALUE! | H36: =G36*D36*12 -> 0
C37: 3 BR | E37: =ROUNDUP(((E16+F16)/2/12)*0.3,2) -> #VALUE! | H37: =G37*D37*12 -> 0 | I37: 30 - 50 | J37: =SUM(D24:D28) -> 0
C38: 4 BR | E38: =ROUNDUP((G16/12)*0.3,2) -> #VALUE! | H38: =G38*D38*12 -> 0
A39: Market Rate (Unrestricted Rent & Income) | C39: 0 BR or SRO | H39: =G39*D39*12 -> 0 | I39: 50 - 60 | J39: =SUM(D29:D33) -> 0
C40: 1 BR | H40: =G40*D40*12 -> 0
C41: 2 BR | H41: =G41*D41*12 -> 0 | I41: 60 - 80 | J41: =SUM(D34:D38) -> 0
C42: 3 BR | H42: =G42*D42*12 -> 0
...

Sheet Income Limits
C2: 1990 | D2: 1991 | E2: 1992 | F2: 1993 | G2: 1994 | H2: 1995 | I2: 1996 | J2: 1997 | K2: 1998 | L2: 1999 | M2: 2000 | N2: 2001 | O2: 2002 | P2: 2003 | Q2: 2004 | R2: 2005 | S2: 2006 | T2: 2007 | U2: 2008 | V2: 2009 | W2: 2010 | X2: 2011 | Y2: 2012 | Z2: 2013 | AA2: 2014 | AB2: 2015 | AC2: 2016 | AD2: 2017 | AE2: 2018 | AF2: 2019 | AG2: 2020
B3: Maricopa Co, Arizona | C3: 17100 | D3: 17750 | E3: 18650 | F3: 20800 | G3: 20800 | H3: 20900 | I3: 22500 | J3: 23750 | K3: 24150 | L3: 25100 | M3: 26550 | N3: 27450 | O3: 28950 | P3: 29150 | Q3: 29300 | R3: 29300 | S3: 30050 | T3: 30050 | U3: 32100 | V3: 32950 | W3: 33300 | X3: 32750 | Y3: 33200 | Z3: 31550 | AA3: 30950 | AB3: 32000 | AC3: 31450 | AD3: 33100 | AE3: 34550 | AF3: 36450 | AG3: 38900
B4: Pima Co, Arizona | C4: 15950 | D4: 16450 | E4: 17150 | F4: 17850 | G4: 17900 | H4: 17900 | I4: 18900 | J4: 20050 | K4: 20850 | L4: 21800 | M4: 22550 | N4: 23000 | O4: 24600 | P4: 24600 | Q4: 25200 | R4: 25200 | S4: 26200 | T4: 26200 | U4: 27500 | V4: 28750 | W4: 29500 | X4: 29800 | Y4: 30200 | Z4: 29950 | AA4: 28500 | AB4: 29500 | AC4: 28350 | AD4: 29650 | AE4: 30300 | AF4: 31950 | AG4: 34200
B5: Crawford Co, Arkansas | C5: 13750 | D5: 14200 | E5: 14200 | F5: 15200 | G5: 15200 | H5: 16000 | I5: 16000 | J5: 17200 | K5: 17450 | L5: 18350 | M5: 18850 | N5: 19550 | O5: 19850 | P5: 21750 | Q5: 22600 | R5: 22600 | S5: 22600 | T5: 22600 | U5: 22850 | V5: 23250 | W5: 23750 | X5: 23900 | Y5: 24200 | Z5: 23500 | AA5: 23400 | AB5: 23550 | AC5: 24350 | AD5: 24900 | AE5: 26450 | AF5: 26450 | AG5: 27100
B6: Van Buren Co, Arkansas | C6: 11500 | D6: 12000 | E6: 12100 | F6: 13200 | G6: 13200 | H6: 13350 | I6: 13650 | J6: 14750 | K6: 15050 | L6: 15900 | M6: 16250 | N6: 16900 | O6: 17100 | P6: 19250 | Q6: 20000 | R6: 20000 | S6: 20000 | T6: 20200 | U6: 21000 | V6: 21750 | W6: 21700 | X6: 21650 | Y6: 21950 | Z6: 22000 | AA6: 22500 | AB6: 22600 | AC6: 22350 | AD6: 23250 | AE6: 24100 | AF6: 26050 | AG6: 26250
B7: Los Angeles Co, California | C7: 20850 | D7: 21750 | E7: 23450 | F7: 24150 | G7: 25200 | H7: 25650 | I7: 25650 | J7: 25650 | K7: 25650 | L7: 25650 | M7: 26050 | N7: 27250 | O7: 27550 | P7: 28200 | Q7: 29750 | R7: 32750 | S7: 34650 | T7: 37000 | U7: 37900 | V7: 39650 | W7: 41400 | X7: 42700 | Y7: 42150 | Z7: 41400 | AA7: 40750 | AB7: 41500 | AC7: 43400 | AD7: 45050 | AE7: 48450 | AF7: 52200 | AG7: 56300
B8: Adams Co, Colorado | C8: 20000 | D8: 20950 | E8: 21600 | F8: 23200 | G8: 24300 | H8: 24300 | I8: 26550 | J8: 27450 | K8: 27850 | L8: 29300 | M8: 31050 | N8: 32200 | O8: 34950 | P8: 34950 | Q8: 34950 | R8: 35850 | S8: 35850 | T8: 35850 | U8: 35900 | V8: 38000 | W8: 37950 | X8: 39100 | Y8: 39650 | Z8: 38900 | AA8: 38350 | AB8: 39950 | AC8: 40050 | AD8: 41950 | AE8: 44950 | AF8: 46400 | AG8: 50000
B9: Alamosa Co, Colorado | C9: 13600 | D9: 13800 | E9: 14500 | F9: 16200 | G9: 16700 | H9: 16700 | I9: 18150 | J9: 19350 | K9: 19500 | L9: 20200 | M9: 21150 | N9: 21850 | O9: 23000 | P9: 25100 | Q9: 25850 | R9: 26950 | S9: 26950 | T9: 26950 | U9: 26950 | V9: 28200 | W9: 28200 | X9: 29600 | Y9: 30500 | Z9: 29800 | AA9: 28800 | AB9: 30350 | AC9: 30000 | AD9: 31900 | AE9: 33650 | AF9: 34050 | AG9: 35500
B10: Arapahoe Co, Colorado | C10: 20000 | D10: 20950 | E10: 21600 | F10: 23200 | G10: 24300 | H10: 24300 | I10: 26550 | J10: 27450 | K10: 27850 | L10: 29300 | M10: 31050 | N10: 32200 | O10: 34950 | P10: 34950 | Q10: 34950 | R10: 35850 | S10: 35850 | T10: 35850 | U10: 35900 | V10: 38000 | W10: 37950 | X10: 39100 | Y10: 39650 | Z10: 38900 | AA10: 38350 | AB10: 39950 | AC10: 40050 | AD10: 41950 | AE10: 44950 | AF10: 46400 | AG10: 50000
B11: Archuleta Co, Colorado | C11: 13600 | D11: 13800 | E11: 14500 | F11: 16200 | G11: 16800 | H11: 17200 | I11: 18150 | J11: 19350 | K11: 19500 | L11: 20200 | M11: 21150 | N11: 21850 | O11: 23000 | P11: 25100 | Q11: 25850 | R11: 26950 | S11: 26950 | T11: 26950 | U11: 26950 | V11: 28200 | W11: 28200 | X11: 29600 | Y11: 31050 | Z11: 32600 | AA11: 34200 | AB11: 33550 | AC11: 31900 | AD11: 31900 | AE11: 33650 | AF11: 34050 | AG11: 35500
B12: Baca Co, Colorado | C12: 13600 | D12: 13800 | E12: 14500 | F12: 16200 | G12: 16700 | H12: 16700 | I12: 18150 | J12: 19350 | K12: 19500 | L12: 20200 | M12: 21150 | N12: 21850 | O12: 23000 | P12: 25100 | Q12: 25850 | R12: 26950 | S12: 26950 | T12: 26950 | U12: 26950 | V12: 28200 | W12: 28200 | X12: 29600 | Y12: 30500 | Z12: 29800 | AA12: 28800 | AB12: 30350 | AC12: 30000 | AD12: 31900 | AE12: 33650 | AF12: 34050 | AG12: 35500
B13: Bent Co, Colorado | C13: 13600 | D13: 13800 | E13: 14500 | F13: 16200 | G13: 16700 | H13: 16700 | I13: 18150 | J13: 19350 | K13: 19500 | L13: 20200 | M13: 21150 | N13: 21850 | O13: 23000 | P13: 25100 | Q13: 25850 | R13: 26950 | S13: 26950 | T13: 26950 | U13: 26950 | V13: 28200 | W13: 28200 | X13: 29600 | Y13: 30500 | Z13: 29800 | AA13: 28800 | AB13: 30350 | AC13: 30000 | AD13: 31900 | AE13: 33650 | AF13: 34050 | AG13: 35500
B14: Boulder Co, Colorado | C14: 21650 | D14: 21950 | E14: 23900 | F14: 25250 | G14: 26900 | H14: 27100 | I14: 29150 | J14: 30600 | K14: 31550 | L14: 34350 | M14: 37000 | N14: 40700 | O14: 43500 | P14: 43500 | Q14: 43500 | R14: 43500 | S14: 43500 | T14: 43500 | U14: 43500 | V14: 44550 | W14: 44800 | X14: 46250 | Y14: 46900 | Z14: 45800 | AA14: 48050 | AB14: 49700 | AC14: 47400 | AD14: 49100 | AE14: 54300 | AF14: 56800 | AG14: 57550
... B71: Yuma Co, Colorado | C71: 13600 | D71: 13800 | E71: 14500 | F71: 16200 | G71: 16700 | H71: 16700 | I71: 18150 | J71: 19350 | K71: 19500 | L71: 20200 | M71: 21150 | N71: 21850 | O71: 23000 | P71: 25100 | Q71: 25850 | R71: 26950 | S71: 26950 | T71: 26950 | U71: 26950 | V71: 28200 | W71: 28200 | X71: 29600 | Y71: 30500 | Z71: 29800 | AA71: 28800 | AB71: 30350 | AC71: 30000 | AD71: 31900 | AE71: 33650 | AF71: 34050 | AG71: 35500
B72: Posey Co, Indiana
B73: Black Hawk Co, Iowa | C73: 15650 | D73: 17200 | E73: 18750 | F73: 18600 | G73: 18600 | H73: 18600 | I73: 19350 | J73: 19950 | K73: 20600 | L73: 21050 | M73: 23500 | N73: 24350 | O73: 24700 | P73: 27350 | Q73: 28150 | R73: 28550 | S73: 28800 | T73: 28800 | U73: 28800 | V73: 29950 | W73: 30250 | X73: 31050 | Y73: 31450 | Z73: 32050 | AA73: 30950 | AB73: 32750 | AC73: 32700 | AD73: 34000 | AE73: 33900 | AF73: 37250 | AG73: 36250
B74: Boone Co, Iowa | C74: 15050 | D74: 16150 | E74: 17650 | F74: 18150 | G74: 18500 | H74: 18750 | I74: 18750 | J74: 19600 | K74: 20600 | L74: 21050 | M74: 22650 | N74: 26200 | O74: 26300 | P74: 29050 | Q74: 29250 | R74: 29800 | S74: 29950 | T74: 30000 | U74: 30300 | V74: 31850 | W74: 32100 | X74: 32800 | Y74: 33250 | Z74: 34900 | AA74: 36000 | AB74: 36050 | AC74: 34800 | AD74: 34700 | AE74: 36500 | AF74: 37300 | AG74: 38850
B75: Dubuque Co, Iowa | AE75: 37000 | AF75: 40700 | AG75: 41450
B76: Harrison Co, Iowa | C76: 14850 | D76: 15900 | E76: 16600 | F76: 16750 | G76: 17200 | H76: 17200 | I76: 18500 | J76: 19600 | K76: 20600 | L76: 21050 | M76: 22650 | N76: 24200 | O76: 24700 | P76: 26250 | Q76: 27300 | R76: 27300 | S76: 33250 | T76: 33250 | U76: 33550 | V76: 34950 | W76: 35150 | X76: 35300 | Y76: 35750 | Z76: 36350 | AA76: 36500 | AB76: 36400 | AC76: 36050 | AD76: 37500 | AE76: 40800 | AF76: 43000 | AG76: 43500
B77: Polk Co, Iowa | C77: 18950 | D77: 20350 | E77: 20900 | F77: 21350 | G77: 22200 | H77: 22200 | I77: 24150 | J77: 25300 | K77: 26000 | L77: 26450 | M77: 26800 | N77: 32300 | O77: 33450 | P77: 33450 | Q77: 33450 | R77: 34050 | S77: 34050 | T77: 34050 | U77: 34050 | V77: 35850 | W77: 36600 | X77: 37250 | Y77: 37750 | Z77: 36450 | AA77: 37450 | AB77: 37500 | AC77: 38450 | AD77: 41100 | AE77: 39800 | AF77: 43750 | AG77: 44600
B78: Pottawattamie Co, Iowa | C78: 18600 | D78: 19400 | E78: 19950 | F78: 20750 | G78: 21350 | H78: 21450 | I78: 22950 | J78: 23750 | K78: 24150 | L78: 26800 | M78: 28100 | N78: 31200 | O78: 32200 | P78: 32200 | Q78: 32200 | R78: 32650 | S78: 33250 | T78: 33250 | U78: 33550 | V78: 34950 | W78: 35150 | X78: 35300 | Y78: 35750 | Z78: 36350 | AA78: 36500 | AB78: 36400 | AC78: 36050 | AD78: 37500 | AE78: 40800 | AF78: 43000 | AG78: 43500
