BEGIN:VCALENDAR
VERSION:2.0
PRODID:-//hacksw/handcal//NONSGML v1.0//EN
BEGIN:VEVENT
DTSTART:2023-03-30T19:00:00.0000000Z
DTEND:2023-03-30T20:00:00.0000000Z
SUMMARY:2023 Collateral Verification
DESCRIPTION:Find out why we do collateral verifications and what to expect if you are requested to participate in one. 
LOCATION:Webinar
CATEGORIES:Webinars
END:VEVENT
END:VCALENDAR
