BEGIN:VCALENDAR
VERSION:2.0
PRODID:-//hacksw/handcal//NONSGML v1.0//EN
BEGIN:VEVENT
DTSTART:2023-09-04T05:00:00.0000000Z
DTEND:2023-09-05T04:59:00.0000000Z
SUMMARY:Labor Day
DESCRIPTION:Labor Day
LOCATION:Bank holiday
CATEGORIES:Holidays
END:VEVENT
END:VCALENDAR
