BEGIN:VCALENDAR
VERSION:2.0
PRODID:-//hacksw/handcal//NONSGML v1.0//EN
BEGIN:VEVENT
DTSTART:2023-09-28T13:30:00.0000000Z
DTEND:2023-09-28T17:00:00.0000000Z
SUMMARY:2023 Kansas Regional Meeting
DESCRIPTION:2023 Kansas Regional Meeting
LOCATION:Manhattan, Kansas
CATEGORIES:Member Meetings
END:VEVENT
END:VCALENDAR
