BEGIN:VCALENDAR
VERSION:2.0
PRODID:-//hacksw/handcal//NONSGML v1.0//EN
BEGIN:VEVENT
DTSTART:2023-08-21T14:00:00.0000000Z
DTEND:2023-08-21T17:00:00.0000000Z
SUMMARY:2023 Colorado Regional Meeting
DESCRIPTION:Colorado Regional Meeting
LOCATION:Littleton, Colorado
CATEGORIES:Member Meetings
END:VEVENT
END:VCALENDAR
