BEGIN:VCALENDAR
VERSION:2.0
PRODID:-//hacksw/handcal//NONSGML v1.0//EN
BEGIN:VEVENT
DTSTART:2023-10-04T13:30:00.0000000Z
DTEND:2023-10-04T17:00:00.0000000Z
SUMMARY:2023 Oklahoma Regional Meeting
DESCRIPTION:Oklahoma Regional Meeting
LOCATION:Oklahoma City, OK
CATEGORIES:Member Meetings
END:VEVENT
END:VCALENDAR
