BEGIN:VCALENDAR
VERSION:2.0
PRODID:-//hacksw/handcal//NONSGML v1.0//EN
BEGIN:VEVENT
DTSTART:2024-06-13T18:00:00.0000000Z
DTEND:2024-06-13T19:00:00.0000000Z
SUMMARY:FHA Underwriting: Appraisal Guidelines and Property Eligibility
DESCRIPTION:MPF Webinar: FHA Underwriting: Appraisal Guidelines and Property Eligibility
LOCATION:Webinar
CATEGORIES:Webinars
END:VEVENT
END:VCALENDAR
