BEGIN:VCALENDAR
VERSION:2.0
PRODID:-//hacksw/handcal//NONSGML v1.0//EN
BEGIN:VEVENT
DTSTART:2024-08-29T19:00:00.0000000Z
DTEND:2024-08-29T20:00:00.0000000Z
SUMMARY:August Financial Intelligence Live Webinar
DESCRIPTION:Financial Intelligence Live Webinar
LOCATION:
CATEGORIES:Webinars
END:VEVENT
END:VCALENDAR
