BEGIN:VCALENDAR
VERSION:2.0
PRODID:-//hacksw/handcal//NONSGML v1.0//EN
BEGIN:VEVENT
DTSTART:2025-04-16T14:00:00.0000000Z
DTEND:2025-04-18T05:00:00.0000000Z
SUMMARY:2025 Annual Member Conference
DESCRIPTION:Join us for three days at the 2025 Annual Member Conference in Wichita, Kansas.
LOCATION:Wichita, Kansas
CATEGORIES:Member Meetings
END:VEVENT
END:VCALENDAR
