BEGIN:VCALENDAR
VERSION:2.0
PRODID:-//hacksw/handcal//NONSGML v1.0//EN
BEGIN:VEVENT
DTSTART:2027-04-21T13:00:00.0000000Z
DTEND:2027-04-23T17:00:00.0000000Z
SUMMARY:2027 Annual Member Conference
DESCRIPTION:Join us for three days, April 21-23, 2027.
LOCATION:
CATEGORIES:Member Meetings
END:VEVENT
END:VCALENDAR
