BEGIN:VCALENDAR
VERSION:2.0
PRODID:-//hacksw/handcal//NONSGML v1.0//EN
BEGIN:VEVENT
DTSTART:2026-08-10T13:00:00.0000000Z
DTEND:2026-08-10T22:00:00.0000000Z
SUMMARY:2026 Colorado Regional Meeting
DESCRIPTION:Colorado Regional Meeting
LOCATION:Littleton, Colorado
CATEGORIES:Member Meetings
END:VEVENT
END:VCALENDAR
