BEGIN:VCALENDAR
VERSION:2.0
PRODID:-//hacksw/handcal//NONSGML v1.0//EN
BEGIN:VEVENT
DTSTART:2026-08-31T13:00:00.0000000Z
DTEND:2026-08-31T22:00:00.0000000Z
SUMMARY:2026 Kansas Regional Meeting
DESCRIPTION:Kansas Regional Meeting
LOCATION:Topeka Country Club
CATEGORIES:Member Meetings
END:VEVENT
END:VCALENDAR
