BEGIN:VCALENDAR
VERSION:2.0
PRODID:-//hacksw/handcal//NONSGML v1.0//EN
BEGIN:VEVENT
DTSTART:2026-10-15T13:00:00.0000000Z
DTEND:2026-10-15T22:00:00.0000000Z
SUMMARY:2026 Oklahoma Regional Meeting
DESCRIPTION:Oklahoma Regional Meeting
LOCATION:Monkey Island, Oklahoma
CATEGORIES:Member Meetings
END:VEVENT
END:VCALENDAR
